BEGIN:VCALENDAR
VERSION:2.0
PRODID:-//The Moore Institute - ECPv6.15.20//NONSGML v1.0//EN
CALSCALE:GREGORIAN
METHOD:PUBLISH
X-WR-CALNAME:The Moore Institute
X-ORIGINAL-URL:https://mooreinstitute.info
X-WR-CALDESC:Events for The Moore Institute
REFRESH-INTERVAL;VALUE=DURATION:PT1H
X-Robots-Tag:noindex
X-PUBLISHED-TTL:PT1H
BEGIN:VTIMEZONE
TZID:America/North_Dakota/Center
BEGIN:DAYLIGHT
TZOFFSETFROM:-0600
TZOFFSETTO:-0500
TZNAME:CDT
DTSTART:20150308T080000
END:DAYLIGHT
BEGIN:STANDARD
TZOFFSETFROM:-0500
TZOFFSETTO:-0600
TZNAME:CST
DTSTART:20151101T070000
END:STANDARD
BEGIN:DAYLIGHT
TZOFFSETFROM:-0600
TZOFFSETTO:-0500
TZNAME:CDT
DTSTART:20160313T080000
END:DAYLIGHT
BEGIN:STANDARD
TZOFFSETFROM:-0500
TZOFFSETTO:-0600
TZNAME:CST
DTSTART:20161106T070000
END:STANDARD
BEGIN:DAYLIGHT
TZOFFSETFROM:-0600
TZOFFSETTO:-0500
TZNAME:CDT
DTSTART:20170312T080000
END:DAYLIGHT
BEGIN:STANDARD
TZOFFSETFROM:-0500
TZOFFSETTO:-0600
TZNAME:CST
DTSTART:20171105T070000
END:STANDARD
END:VTIMEZONE
BEGIN:VEVENT
DTSTART;TZID=America/North_Dakota/Center:20160513T080000
DTEND;TZID=America/North_Dakota/Center:20160513T120000
DTSTAMP:20260423T150214
CREATED:20160426T203801Z
LAST-MODIFIED:20160426T203801Z
UID:10004013-1463126400-1463140800@mooreinstitute.info
SUMMARY:The Moore Method May 13\, 2016 from 8am -noon
DESCRIPTION:Workshop Introducing The Moore Method  \nFriday May 13th from 8 am until 12 pm at C3 Located in The Moore Institute SPONSORED BY ADDICTION RESEARCH FOUNDATION and THE MOORE INSTITUTE \nThe Moore Method was designed to bring true healing to you by following 15 unhooks.  The 15 unhookings of The Moore Method take you deeper and deeper into your issue and yourself.  This  is where true healing occurs.  By unhooking from your thoughts\, your feelings and beliefs\,  while forgiving yourself and others and living in gratitude\, you awaken to the authenic life you were meant to live.  Each time you use The Moore Method you go deeper and get clearer with yourself. \n* MORE PEACE * MORE JOY * MORE CONTENTMENT \n \nThe Moore Method will be taught by it’s developer Pam Moore\, LCSW\, PIP.   Pam Moore\, LCSW\, PIP is the co-founder of The Moore Institute and The Addiction Research Foundation with her husband Steve Moore\, LCSW.  Pam in addition to developing The Moore Method is the author of Inward to the Kingdom A Six Week Journey.  She is currently writing a book on The Moore Method that is due out late 2016. \nContinental Breakfast provided   * SW CEUs  for 3.15 hours *  Cost of workshop $25.00
URL:https://mooreinstitute.info/event/the-moore-method-may-13-2016-from-8am-noon/
LOCATION:The Moore Institute\, 4126 Autumn Ln\, Birmingham\, AL\, 35243\, United States
ORGANIZER;CN="The Moore Institute":MAILTO:pam@mooreinstitute.net
GEO:33.454958;-86.732979
X-APPLE-STRUCTURED-LOCATION;VALUE=URI;X-ADDRESS=The Moore Institute 4126 Autumn Ln Birmingham AL 35243 United States;X-APPLE-RADIUS=500;X-TITLE=4126 Autumn Ln:geo:-86.732979,33.454958
END:VEVENT
END:VCALENDAR