BEGIN:VCALENDAR
VERSION:2.0
PRODID:-//The Moore Institute - ECPv6.15.20//NONSGML v1.0//EN
CALSCALE:GREGORIAN
METHOD:PUBLISH
X-ORIGINAL-URL:https://mooreinstitute.info
X-WR-CALDESC:Events for The Moore Institute
REFRESH-INTERVAL;VALUE=DURATION:PT1H
X-Robots-Tag:noindex
X-PUBLISHED-TTL:PT1H
BEGIN:VTIMEZONE
TZID:UTC
BEGIN:STANDARD
TZOFFSETFROM:+0000
TZOFFSETTO:+0000
TZNAME:UTC
DTSTART:20220101T000000
END:STANDARD
END:VTIMEZONE
BEGIN:VEVENT
DTSTART;TZID=UTC:20231015T160000
DTEND;TZID=UTC:20231015T170000
DTSTAMP:20260425T141521
CREATED:20221109T224801Z
LAST-MODIFIED:20230405T181015Z
UID:10003617-1697385600-1697389200@mooreinstitute.info
SUMMARY:Recovery Dharma LGBTQIA+
DESCRIPTION:Safe and confidential space for connection and support for those who identify within the LGBTQIA+ and gender and sexual minority community as we apply the practices and process of recovery Dharma to recovery of all kinds \n  \nCome as you are  Ne meditation experience is required and you don’t need anything to participate
URL:https://mooreinstitute.info/event/recovery-dharma-lgbtqia/2023-10-15/
LOCATION:AL
END:VEVENT
END:VCALENDAR