BEGIN:VCALENDAR
VERSION:2.0
PRODID:-//The Moore Institute - ECPv6.15.20//NONSGML v1.0//EN
CALSCALE:GREGORIAN
METHOD:PUBLISH
X-WR-CALNAME:The Moore Institute
X-ORIGINAL-URL:https://mooreinstitute.info
X-WR-CALDESC:Events for The Moore Institute
REFRESH-INTERVAL;VALUE=DURATION:PT1H
X-Robots-Tag:noindex
X-PUBLISHED-TTL:PT1H
BEGIN:VTIMEZONE
TZID:UTC
BEGIN:STANDARD
TZOFFSETFROM:+0000
TZOFFSETTO:+0000
TZNAME:UTC
DTSTART:20150101T000000
END:STANDARD
END:VTIMEZONE
BEGIN:VEVENT
DTSTART;TZID=UTC:20160827T103000
DTEND;TZID=UTC:20160827T113000
DTSTAMP:20260419T205042
CREATED:20160119T234559Z
LAST-MODIFIED:20160119T234559Z
UID:10003928-1472293800-1472297400@mooreinstitute.info
SUMMARY:Refuge Recovery
DESCRIPTION:Buddhist path of addiction recovery. MEETINGS: Fridays@5:30p & Sundays@6:30p (Shambhala Center) & Saturdays@10:30a & Wednesdays@7p (C3 at Moore Institute)
URL:https://mooreinstitute.info/event/refuge-recovery-2/2016-08-27/
LOCATION:The Moore Institute\, 4126 Autumn Ln\, Birmingham\, AL\, 35243\, United States
GEO:33.454958;-86.732979
X-APPLE-STRUCTURED-LOCATION;VALUE=URI;X-ADDRESS=The Moore Institute 4126 Autumn Ln Birmingham AL 35243 United States;X-APPLE-RADIUS=500;X-TITLE=4126 Autumn Ln:geo:-86.732979,33.454958
END:VEVENT
BEGIN:VEVENT
DTSTART;TZID=UTC:20160824T190000
DTEND;TZID=UTC:20160824T200000
DTSTAMP:20260419T205042
CREATED:20160119T234046Z
LAST-MODIFIED:20160119T234046Z
UID:10003875-1472065200-1472068800@mooreinstitute.info
SUMMARY:Refuge Recovery
DESCRIPTION:Buddhist path of addiction recovery. MEETINGS: Fridays@5:30p & Sundays@6:30p (Shambhala Center) & Saturdays@10:30a & Wednesdays@7p (C3 at Moore Institute \n  \nFree BABYSITTING \nDoors open at 6:30pm
URL:https://mooreinstitute.info/event/refuge-recovery/2016-08-24/
LOCATION:The Moore Institute\, 4126 Autumn Ln\, Birmingham\, AL\, 35243\, United States
GEO:33.454958;-86.732979
X-APPLE-STRUCTURED-LOCATION;VALUE=URI;X-ADDRESS=The Moore Institute 4126 Autumn Ln Birmingham AL 35243 United States;X-APPLE-RADIUS=500;X-TITLE=4126 Autumn Ln:geo:-86.732979,33.454958
END:VEVENT
BEGIN:VEVENT
DTSTART;TZID=UTC:20160820T103000
DTEND;TZID=UTC:20160820T113000
DTSTAMP:20260419T205042
CREATED:20160119T234559Z
LAST-MODIFIED:20160119T234559Z
UID:10003927-1471689000-1471692600@mooreinstitute.info
SUMMARY:Refuge Recovery
DESCRIPTION:Buddhist path of addiction recovery. MEETINGS: Fridays@5:30p & Sundays@6:30p (Shambhala Center) & Saturdays@10:30a & Wednesdays@7p (C3 at Moore Institute)
URL:https://mooreinstitute.info/event/refuge-recovery-2/2016-08-20/
LOCATION:The Moore Institute\, 4126 Autumn Ln\, Birmingham\, AL\, 35243\, United States
GEO:33.454958;-86.732979
X-APPLE-STRUCTURED-LOCATION;VALUE=URI;X-ADDRESS=The Moore Institute 4126 Autumn Ln Birmingham AL 35243 United States;X-APPLE-RADIUS=500;X-TITLE=4126 Autumn Ln:geo:-86.732979,33.454958
END:VEVENT
BEGIN:VEVENT
DTSTART;TZID=UTC:20160817T190000
DTEND;TZID=UTC:20160817T200000
DTSTAMP:20260419T205042
CREATED:20160119T234046Z
LAST-MODIFIED:20160119T234046Z
UID:10003874-1471460400-1471464000@mooreinstitute.info
SUMMARY:Refuge Recovery
DESCRIPTION:Buddhist path of addiction recovery. MEETINGS: Fridays@5:30p & Sundays@6:30p (Shambhala Center) & Saturdays@10:30a & Wednesdays@7p (C3 at Moore Institute \n  \nFree BABYSITTING \nDoors open at 6:30pm
URL:https://mooreinstitute.info/event/refuge-recovery/2016-08-17/
LOCATION:The Moore Institute\, 4126 Autumn Ln\, Birmingham\, AL\, 35243\, United States
GEO:33.454958;-86.732979
X-APPLE-STRUCTURED-LOCATION;VALUE=URI;X-ADDRESS=The Moore Institute 4126 Autumn Ln Birmingham AL 35243 United States;X-APPLE-RADIUS=500;X-TITLE=4126 Autumn Ln:geo:-86.732979,33.454958
END:VEVENT
BEGIN:VEVENT
DTSTART;TZID=UTC:20160813T103000
DTEND;TZID=UTC:20160813T113000
DTSTAMP:20260419T205042
CREATED:20160119T234559Z
LAST-MODIFIED:20160119T234559Z
UID:10003926-1471084200-1471087800@mooreinstitute.info
SUMMARY:Refuge Recovery
DESCRIPTION:Buddhist path of addiction recovery. MEETINGS: Fridays@5:30p & Sundays@6:30p (Shambhala Center) & Saturdays@10:30a & Wednesdays@7p (C3 at Moore Institute)
URL:https://mooreinstitute.info/event/refuge-recovery-2/2016-08-13/
LOCATION:The Moore Institute\, 4126 Autumn Ln\, Birmingham\, AL\, 35243\, United States
GEO:33.454958;-86.732979
X-APPLE-STRUCTURED-LOCATION;VALUE=URI;X-ADDRESS=The Moore Institute 4126 Autumn Ln Birmingham AL 35243 United States;X-APPLE-RADIUS=500;X-TITLE=4126 Autumn Ln:geo:-86.732979,33.454958
END:VEVENT
BEGIN:VEVENT
DTSTART;TZID=UTC:20160810T190000
DTEND;TZID=UTC:20160810T200000
DTSTAMP:20260419T205042
CREATED:20160119T234046Z
LAST-MODIFIED:20160119T234046Z
UID:10003873-1470855600-1470859200@mooreinstitute.info
SUMMARY:Refuge Recovery
DESCRIPTION:Buddhist path of addiction recovery. MEETINGS: Fridays@5:30p & Sundays@6:30p (Shambhala Center) & Saturdays@10:30a & Wednesdays@7p (C3 at Moore Institute \n  \nFree BABYSITTING \nDoors open at 6:30pm
URL:https://mooreinstitute.info/event/refuge-recovery/2016-08-10/
LOCATION:The Moore Institute\, 4126 Autumn Ln\, Birmingham\, AL\, 35243\, United States
GEO:33.454958;-86.732979
X-APPLE-STRUCTURED-LOCATION;VALUE=URI;X-ADDRESS=The Moore Institute 4126 Autumn Ln Birmingham AL 35243 United States;X-APPLE-RADIUS=500;X-TITLE=4126 Autumn Ln:geo:-86.732979,33.454958
END:VEVENT
BEGIN:VEVENT
DTSTART;TZID=UTC:20160806T103000
DTEND;TZID=UTC:20160806T113000
DTSTAMP:20260419T205042
CREATED:20160119T234559Z
LAST-MODIFIED:20160119T234559Z
UID:10003925-1470479400-1470483000@mooreinstitute.info
SUMMARY:Refuge Recovery
DESCRIPTION:Buddhist path of addiction recovery. MEETINGS: Fridays@5:30p & Sundays@6:30p (Shambhala Center) & Saturdays@10:30a & Wednesdays@7p (C3 at Moore Institute)
URL:https://mooreinstitute.info/event/refuge-recovery-2/2016-08-06/
LOCATION:The Moore Institute\, 4126 Autumn Ln\, Birmingham\, AL\, 35243\, United States
GEO:33.454958;-86.732979
X-APPLE-STRUCTURED-LOCATION;VALUE=URI;X-ADDRESS=The Moore Institute 4126 Autumn Ln Birmingham AL 35243 United States;X-APPLE-RADIUS=500;X-TITLE=4126 Autumn Ln:geo:-86.732979,33.454958
END:VEVENT
BEGIN:VEVENT
DTSTART;TZID=UTC:20160803T190000
DTEND;TZID=UTC:20160803T200000
DTSTAMP:20260419T205042
CREATED:20160119T234046Z
LAST-MODIFIED:20160119T234046Z
UID:10003872-1470250800-1470254400@mooreinstitute.info
SUMMARY:Refuge Recovery
DESCRIPTION:Buddhist path of addiction recovery. MEETINGS: Fridays@5:30p & Sundays@6:30p (Shambhala Center) & Saturdays@10:30a & Wednesdays@7p (C3 at Moore Institute \n  \nFree BABYSITTING \nDoors open at 6:30pm
URL:https://mooreinstitute.info/event/refuge-recovery/2016-08-03/
LOCATION:The Moore Institute\, 4126 Autumn Ln\, Birmingham\, AL\, 35243\, United States
GEO:33.454958;-86.732979
X-APPLE-STRUCTURED-LOCATION;VALUE=URI;X-ADDRESS=The Moore Institute 4126 Autumn Ln Birmingham AL 35243 United States;X-APPLE-RADIUS=500;X-TITLE=4126 Autumn Ln:geo:-86.732979,33.454958
END:VEVENT
BEGIN:VEVENT
DTSTART;TZID=UTC:20160730T103000
DTEND;TZID=UTC:20160730T113000
DTSTAMP:20260419T205042
CREATED:20160119T234559Z
LAST-MODIFIED:20160119T234559Z
UID:10003924-1469874600-1469878200@mooreinstitute.info
SUMMARY:Refuge Recovery
DESCRIPTION:Buddhist path of addiction recovery. MEETINGS: Fridays@5:30p & Sundays@6:30p (Shambhala Center) & Saturdays@10:30a & Wednesdays@7p (C3 at Moore Institute)
URL:https://mooreinstitute.info/event/refuge-recovery-2/2016-07-30/
LOCATION:The Moore Institute\, 4126 Autumn Ln\, Birmingham\, AL\, 35243\, United States
GEO:33.454958;-86.732979
X-APPLE-STRUCTURED-LOCATION;VALUE=URI;X-ADDRESS=The Moore Institute 4126 Autumn Ln Birmingham AL 35243 United States;X-APPLE-RADIUS=500;X-TITLE=4126 Autumn Ln:geo:-86.732979,33.454958
END:VEVENT
BEGIN:VEVENT
DTSTART;TZID=UTC:20160727T190000
DTEND;TZID=UTC:20160727T200000
DTSTAMP:20260419T205042
CREATED:20160119T234046Z
LAST-MODIFIED:20160119T234046Z
UID:10003871-1469646000-1469649600@mooreinstitute.info
SUMMARY:Refuge Recovery
DESCRIPTION:Buddhist path of addiction recovery. MEETINGS: Fridays@5:30p & Sundays@6:30p (Shambhala Center) & Saturdays@10:30a & Wednesdays@7p (C3 at Moore Institute \n  \nFree BABYSITTING \nDoors open at 6:30pm
URL:https://mooreinstitute.info/event/refuge-recovery/2016-07-27/
LOCATION:The Moore Institute\, 4126 Autumn Ln\, Birmingham\, AL\, 35243\, United States
GEO:33.454958;-86.732979
X-APPLE-STRUCTURED-LOCATION;VALUE=URI;X-ADDRESS=The Moore Institute 4126 Autumn Ln Birmingham AL 35243 United States;X-APPLE-RADIUS=500;X-TITLE=4126 Autumn Ln:geo:-86.732979,33.454958
END:VEVENT
BEGIN:VEVENT
DTSTART;TZID=UTC:20160723T103000
DTEND;TZID=UTC:20160723T113000
DTSTAMP:20260419T205042
CREATED:20160119T234559Z
LAST-MODIFIED:20160119T234559Z
UID:10003923-1469269800-1469273400@mooreinstitute.info
SUMMARY:Refuge Recovery
DESCRIPTION:Buddhist path of addiction recovery. MEETINGS: Fridays@5:30p & Sundays@6:30p (Shambhala Center) & Saturdays@10:30a & Wednesdays@7p (C3 at Moore Institute)
URL:https://mooreinstitute.info/event/refuge-recovery-2/2016-07-23/
LOCATION:The Moore Institute\, 4126 Autumn Ln\, Birmingham\, AL\, 35243\, United States
GEO:33.454958;-86.732979
X-APPLE-STRUCTURED-LOCATION;VALUE=URI;X-ADDRESS=The Moore Institute 4126 Autumn Ln Birmingham AL 35243 United States;X-APPLE-RADIUS=500;X-TITLE=4126 Autumn Ln:geo:-86.732979,33.454958
END:VEVENT
BEGIN:VEVENT
DTSTART;TZID=UTC:20160720T190000
DTEND;TZID=UTC:20160720T200000
DTSTAMP:20260419T205042
CREATED:20160119T234046Z
LAST-MODIFIED:20160119T234046Z
UID:10003870-1469041200-1469044800@mooreinstitute.info
SUMMARY:Refuge Recovery
DESCRIPTION:Buddhist path of addiction recovery. MEETINGS: Fridays@5:30p & Sundays@6:30p (Shambhala Center) & Saturdays@10:30a & Wednesdays@7p (C3 at Moore Institute \n  \nFree BABYSITTING \nDoors open at 6:30pm
URL:https://mooreinstitute.info/event/refuge-recovery/2016-07-20/
LOCATION:The Moore Institute\, 4126 Autumn Ln\, Birmingham\, AL\, 35243\, United States
GEO:33.454958;-86.732979
X-APPLE-STRUCTURED-LOCATION;VALUE=URI;X-ADDRESS=The Moore Institute 4126 Autumn Ln Birmingham AL 35243 United States;X-APPLE-RADIUS=500;X-TITLE=4126 Autumn Ln:geo:-86.732979,33.454958
END:VEVENT
BEGIN:VEVENT
DTSTART;TZID=UTC:20160716T103000
DTEND;TZID=UTC:20160716T113000
DTSTAMP:20260419T205042
CREATED:20160119T234559Z
LAST-MODIFIED:20160119T234559Z
UID:10003922-1468665000-1468668600@mooreinstitute.info
SUMMARY:Refuge Recovery
DESCRIPTION:Buddhist path of addiction recovery. MEETINGS: Fridays@5:30p & Sundays@6:30p (Shambhala Center) & Saturdays@10:30a & Wednesdays@7p (C3 at Moore Institute)
URL:https://mooreinstitute.info/event/refuge-recovery-2/2016-07-16/
LOCATION:The Moore Institute\, 4126 Autumn Ln\, Birmingham\, AL\, 35243\, United States
GEO:33.454958;-86.732979
X-APPLE-STRUCTURED-LOCATION;VALUE=URI;X-ADDRESS=The Moore Institute 4126 Autumn Ln Birmingham AL 35243 United States;X-APPLE-RADIUS=500;X-TITLE=4126 Autumn Ln:geo:-86.732979,33.454958
END:VEVENT
BEGIN:VEVENT
DTSTART;TZID=UTC:20160713T190000
DTEND;TZID=UTC:20160713T200000
DTSTAMP:20260419T205042
CREATED:20160119T234046Z
LAST-MODIFIED:20160119T234046Z
UID:10003869-1468436400-1468440000@mooreinstitute.info
SUMMARY:Refuge Recovery
DESCRIPTION:Buddhist path of addiction recovery. MEETINGS: Fridays@5:30p & Sundays@6:30p (Shambhala Center) & Saturdays@10:30a & Wednesdays@7p (C3 at Moore Institute \n  \nFree BABYSITTING \nDoors open at 6:30pm
URL:https://mooreinstitute.info/event/refuge-recovery/2016-07-13/
LOCATION:The Moore Institute\, 4126 Autumn Ln\, Birmingham\, AL\, 35243\, United States
GEO:33.454958;-86.732979
X-APPLE-STRUCTURED-LOCATION;VALUE=URI;X-ADDRESS=The Moore Institute 4126 Autumn Ln Birmingham AL 35243 United States;X-APPLE-RADIUS=500;X-TITLE=4126 Autumn Ln:geo:-86.732979,33.454958
END:VEVENT
BEGIN:VEVENT
DTSTART;TZID=UTC:20160709T103000
DTEND;TZID=UTC:20160709T113000
DTSTAMP:20260419T205042
CREATED:20160119T234559Z
LAST-MODIFIED:20160119T234559Z
UID:10003921-1468060200-1468063800@mooreinstitute.info
SUMMARY:Refuge Recovery
DESCRIPTION:Buddhist path of addiction recovery. MEETINGS: Fridays@5:30p & Sundays@6:30p (Shambhala Center) & Saturdays@10:30a & Wednesdays@7p (C3 at Moore Institute)
URL:https://mooreinstitute.info/event/refuge-recovery-2/2016-07-09/
LOCATION:The Moore Institute\, 4126 Autumn Ln\, Birmingham\, AL\, 35243\, United States
GEO:33.454958;-86.732979
X-APPLE-STRUCTURED-LOCATION;VALUE=URI;X-ADDRESS=The Moore Institute 4126 Autumn Ln Birmingham AL 35243 United States;X-APPLE-RADIUS=500;X-TITLE=4126 Autumn Ln:geo:-86.732979,33.454958
END:VEVENT
BEGIN:VEVENT
DTSTART;TZID=UTC:20160706T190000
DTEND;TZID=UTC:20160706T200000
DTSTAMP:20260419T205042
CREATED:20160119T234046Z
LAST-MODIFIED:20160119T234046Z
UID:10003868-1467831600-1467835200@mooreinstitute.info
SUMMARY:Refuge Recovery
DESCRIPTION:Buddhist path of addiction recovery. MEETINGS: Fridays@5:30p & Sundays@6:30p (Shambhala Center) & Saturdays@10:30a & Wednesdays@7p (C3 at Moore Institute \n  \nFree BABYSITTING \nDoors open at 6:30pm
URL:https://mooreinstitute.info/event/refuge-recovery/2016-07-06/
LOCATION:The Moore Institute\, 4126 Autumn Ln\, Birmingham\, AL\, 35243\, United States
GEO:33.454958;-86.732979
X-APPLE-STRUCTURED-LOCATION;VALUE=URI;X-ADDRESS=The Moore Institute 4126 Autumn Ln Birmingham AL 35243 United States;X-APPLE-RADIUS=500;X-TITLE=4126 Autumn Ln:geo:-86.732979,33.454958
END:VEVENT
BEGIN:VEVENT
DTSTART;TZID=UTC:20160702T103000
DTEND;TZID=UTC:20160702T113000
DTSTAMP:20260419T205042
CREATED:20160119T234559Z
LAST-MODIFIED:20160119T234559Z
UID:10003920-1467455400-1467459000@mooreinstitute.info
SUMMARY:Refuge Recovery
DESCRIPTION:Buddhist path of addiction recovery. MEETINGS: Fridays@5:30p & Sundays@6:30p (Shambhala Center) & Saturdays@10:30a & Wednesdays@7p (C3 at Moore Institute)
URL:https://mooreinstitute.info/event/refuge-recovery-2/2016-07-02/
LOCATION:The Moore Institute\, 4126 Autumn Ln\, Birmingham\, AL\, 35243\, United States
GEO:33.454958;-86.732979
X-APPLE-STRUCTURED-LOCATION;VALUE=URI;X-ADDRESS=The Moore Institute 4126 Autumn Ln Birmingham AL 35243 United States;X-APPLE-RADIUS=500;X-TITLE=4126 Autumn Ln:geo:-86.732979,33.454958
END:VEVENT
BEGIN:VEVENT
DTSTART;TZID=UTC:20160629T190000
DTEND;TZID=UTC:20160629T200000
DTSTAMP:20260419T205042
CREATED:20160119T234046Z
LAST-MODIFIED:20160119T234046Z
UID:10003867-1467226800-1467230400@mooreinstitute.info
SUMMARY:Refuge Recovery
DESCRIPTION:Buddhist path of addiction recovery. MEETINGS: Fridays@5:30p & Sundays@6:30p (Shambhala Center) & Saturdays@10:30a & Wednesdays@7p (C3 at Moore Institute \n  \nFree BABYSITTING \nDoors open at 6:30pm
URL:https://mooreinstitute.info/event/refuge-recovery/2016-06-29/
LOCATION:The Moore Institute\, 4126 Autumn Ln\, Birmingham\, AL\, 35243\, United States
GEO:33.454958;-86.732979
X-APPLE-STRUCTURED-LOCATION;VALUE=URI;X-ADDRESS=The Moore Institute 4126 Autumn Ln Birmingham AL 35243 United States;X-APPLE-RADIUS=500;X-TITLE=4126 Autumn Ln:geo:-86.732979,33.454958
END:VEVENT
BEGIN:VEVENT
DTSTART;TZID=UTC:20160625T103000
DTEND;TZID=UTC:20160625T113000
DTSTAMP:20260419T205042
CREATED:20160119T234559Z
LAST-MODIFIED:20160119T234559Z
UID:10003919-1466850600-1466854200@mooreinstitute.info
SUMMARY:Refuge Recovery
DESCRIPTION:Buddhist path of addiction recovery. MEETINGS: Fridays@5:30p & Sundays@6:30p (Shambhala Center) & Saturdays@10:30a & Wednesdays@7p (C3 at Moore Institute)
URL:https://mooreinstitute.info/event/refuge-recovery-2/2016-06-25/
LOCATION:The Moore Institute\, 4126 Autumn Ln\, Birmingham\, AL\, 35243\, United States
GEO:33.454958;-86.732979
X-APPLE-STRUCTURED-LOCATION;VALUE=URI;X-ADDRESS=The Moore Institute 4126 Autumn Ln Birmingham AL 35243 United States;X-APPLE-RADIUS=500;X-TITLE=4126 Autumn Ln:geo:-86.732979,33.454958
END:VEVENT
BEGIN:VEVENT
DTSTART;TZID=UTC:20160622T190000
DTEND;TZID=UTC:20160622T200000
DTSTAMP:20260419T205042
CREATED:20160119T234046Z
LAST-MODIFIED:20160119T234046Z
UID:10003866-1466622000-1466625600@mooreinstitute.info
SUMMARY:Refuge Recovery
DESCRIPTION:Buddhist path of addiction recovery. MEETINGS: Fridays@5:30p & Sundays@6:30p (Shambhala Center) & Saturdays@10:30a & Wednesdays@7p (C3 at Moore Institute \n  \nFree BABYSITTING \nDoors open at 6:30pm
URL:https://mooreinstitute.info/event/refuge-recovery/2016-06-22/
LOCATION:The Moore Institute\, 4126 Autumn Ln\, Birmingham\, AL\, 35243\, United States
GEO:33.454958;-86.732979
X-APPLE-STRUCTURED-LOCATION;VALUE=URI;X-ADDRESS=The Moore Institute 4126 Autumn Ln Birmingham AL 35243 United States;X-APPLE-RADIUS=500;X-TITLE=4126 Autumn Ln:geo:-86.732979,33.454958
END:VEVENT
BEGIN:VEVENT
DTSTART;TZID=UTC:20160618T103000
DTEND;TZID=UTC:20160618T113000
DTSTAMP:20260419T205042
CREATED:20160119T234559Z
LAST-MODIFIED:20160119T234559Z
UID:10003918-1466245800-1466249400@mooreinstitute.info
SUMMARY:Refuge Recovery
DESCRIPTION:Buddhist path of addiction recovery. MEETINGS: Fridays@5:30p & Sundays@6:30p (Shambhala Center) & Saturdays@10:30a & Wednesdays@7p (C3 at Moore Institute)
URL:https://mooreinstitute.info/event/refuge-recovery-2/2016-06-18/
LOCATION:The Moore Institute\, 4126 Autumn Ln\, Birmingham\, AL\, 35243\, United States
GEO:33.454958;-86.732979
X-APPLE-STRUCTURED-LOCATION;VALUE=URI;X-ADDRESS=The Moore Institute 4126 Autumn Ln Birmingham AL 35243 United States;X-APPLE-RADIUS=500;X-TITLE=4126 Autumn Ln:geo:-86.732979,33.454958
END:VEVENT
BEGIN:VEVENT
DTSTART;TZID=UTC:20160615T190000
DTEND;TZID=UTC:20160615T200000
DTSTAMP:20260419T205042
CREATED:20160119T234046Z
LAST-MODIFIED:20160119T234046Z
UID:10003865-1466017200-1466020800@mooreinstitute.info
SUMMARY:Refuge Recovery
DESCRIPTION:Buddhist path of addiction recovery. MEETINGS: Fridays@5:30p & Sundays@6:30p (Shambhala Center) & Saturdays@10:30a & Wednesdays@7p (C3 at Moore Institute \n  \nFree BABYSITTING \nDoors open at 6:30pm
URL:https://mooreinstitute.info/event/refuge-recovery/2016-06-15/
LOCATION:The Moore Institute\, 4126 Autumn Ln\, Birmingham\, AL\, 35243\, United States
GEO:33.454958;-86.732979
X-APPLE-STRUCTURED-LOCATION;VALUE=URI;X-ADDRESS=The Moore Institute 4126 Autumn Ln Birmingham AL 35243 United States;X-APPLE-RADIUS=500;X-TITLE=4126 Autumn Ln:geo:-86.732979,33.454958
END:VEVENT
BEGIN:VEVENT
DTSTART;TZID=UTC:20160611T103000
DTEND;TZID=UTC:20160611T113000
DTSTAMP:20260419T205042
CREATED:20160119T234559Z
LAST-MODIFIED:20160119T234559Z
UID:10003917-1465641000-1465644600@mooreinstitute.info
SUMMARY:Refuge Recovery
DESCRIPTION:Buddhist path of addiction recovery. MEETINGS: Fridays@5:30p & Sundays@6:30p (Shambhala Center) & Saturdays@10:30a & Wednesdays@7p (C3 at Moore Institute)
URL:https://mooreinstitute.info/event/refuge-recovery-2/2016-06-11/
LOCATION:The Moore Institute\, 4126 Autumn Ln\, Birmingham\, AL\, 35243\, United States
GEO:33.454958;-86.732979
X-APPLE-STRUCTURED-LOCATION;VALUE=URI;X-ADDRESS=The Moore Institute 4126 Autumn Ln Birmingham AL 35243 United States;X-APPLE-RADIUS=500;X-TITLE=4126 Autumn Ln:geo:-86.732979,33.454958
END:VEVENT
BEGIN:VEVENT
DTSTART;TZID=UTC:20160608T190000
DTEND;TZID=UTC:20160608T200000
DTSTAMP:20260419T205042
CREATED:20160119T234046Z
LAST-MODIFIED:20160119T234046Z
UID:10003864-1465412400-1465416000@mooreinstitute.info
SUMMARY:Refuge Recovery
DESCRIPTION:Buddhist path of addiction recovery. MEETINGS: Fridays@5:30p & Sundays@6:30p (Shambhala Center) & Saturdays@10:30a & Wednesdays@7p (C3 at Moore Institute \n  \nFree BABYSITTING \nDoors open at 6:30pm
URL:https://mooreinstitute.info/event/refuge-recovery/2016-06-08/
LOCATION:The Moore Institute\, 4126 Autumn Ln\, Birmingham\, AL\, 35243\, United States
GEO:33.454958;-86.732979
X-APPLE-STRUCTURED-LOCATION;VALUE=URI;X-ADDRESS=The Moore Institute 4126 Autumn Ln Birmingham AL 35243 United States;X-APPLE-RADIUS=500;X-TITLE=4126 Autumn Ln:geo:-86.732979,33.454958
END:VEVENT
BEGIN:VEVENT
DTSTART;TZID=UTC:20160604T103000
DTEND;TZID=UTC:20160604T113000
DTSTAMP:20260419T205042
CREATED:20160119T234559Z
LAST-MODIFIED:20160119T234559Z
UID:10003916-1465036200-1465039800@mooreinstitute.info
SUMMARY:Refuge Recovery
DESCRIPTION:Buddhist path of addiction recovery. MEETINGS: Fridays@5:30p & Sundays@6:30p (Shambhala Center) & Saturdays@10:30a & Wednesdays@7p (C3 at Moore Institute)
URL:https://mooreinstitute.info/event/refuge-recovery-2/2016-06-04/
LOCATION:The Moore Institute\, 4126 Autumn Ln\, Birmingham\, AL\, 35243\, United States
GEO:33.454958;-86.732979
X-APPLE-STRUCTURED-LOCATION;VALUE=URI;X-ADDRESS=The Moore Institute 4126 Autumn Ln Birmingham AL 35243 United States;X-APPLE-RADIUS=500;X-TITLE=4126 Autumn Ln:geo:-86.732979,33.454958
END:VEVENT
BEGIN:VEVENT
DTSTART;TZID=UTC:20160601T190000
DTEND;TZID=UTC:20160601T200000
DTSTAMP:20260419T205042
CREATED:20160119T234046Z
LAST-MODIFIED:20160119T234046Z
UID:10003863-1464807600-1464811200@mooreinstitute.info
SUMMARY:Refuge Recovery
DESCRIPTION:Buddhist path of addiction recovery. MEETINGS: Fridays@5:30p & Sundays@6:30p (Shambhala Center) & Saturdays@10:30a & Wednesdays@7p (C3 at Moore Institute \n  \nFree BABYSITTING \nDoors open at 6:30pm
URL:https://mooreinstitute.info/event/refuge-recovery/2016-06-01/
LOCATION:The Moore Institute\, 4126 Autumn Ln\, Birmingham\, AL\, 35243\, United States
GEO:33.454958;-86.732979
X-APPLE-STRUCTURED-LOCATION;VALUE=URI;X-ADDRESS=The Moore Institute 4126 Autumn Ln Birmingham AL 35243 United States;X-APPLE-RADIUS=500;X-TITLE=4126 Autumn Ln:geo:-86.732979,33.454958
END:VEVENT
BEGIN:VEVENT
DTSTART;TZID=UTC:20160528T103000
DTEND;TZID=UTC:20160528T113000
DTSTAMP:20260419T205042
CREATED:20160119T234559Z
LAST-MODIFIED:20160119T234559Z
UID:10003915-1464431400-1464435000@mooreinstitute.info
SUMMARY:Refuge Recovery
DESCRIPTION:Buddhist path of addiction recovery. MEETINGS: Fridays@5:30p & Sundays@6:30p (Shambhala Center) & Saturdays@10:30a & Wednesdays@7p (C3 at Moore Institute)
URL:https://mooreinstitute.info/event/refuge-recovery-2/2016-05-28/
LOCATION:The Moore Institute\, 4126 Autumn Ln\, Birmingham\, AL\, 35243\, United States
GEO:33.454958;-86.732979
X-APPLE-STRUCTURED-LOCATION;VALUE=URI;X-ADDRESS=The Moore Institute 4126 Autumn Ln Birmingham AL 35243 United States;X-APPLE-RADIUS=500;X-TITLE=4126 Autumn Ln:geo:-86.732979,33.454958
END:VEVENT
BEGIN:VEVENT
DTSTART;TZID=UTC:20160525T190000
DTEND;TZID=UTC:20160525T200000
DTSTAMP:20260419T205042
CREATED:20160119T234046Z
LAST-MODIFIED:20160119T234046Z
UID:10003862-1464202800-1464206400@mooreinstitute.info
SUMMARY:Refuge Recovery
DESCRIPTION:Buddhist path of addiction recovery. MEETINGS: Fridays@5:30p & Sundays@6:30p (Shambhala Center) & Saturdays@10:30a & Wednesdays@7p (C3 at Moore Institute \n  \nFree BABYSITTING \nDoors open at 6:30pm
URL:https://mooreinstitute.info/event/refuge-recovery/2016-05-25/
LOCATION:The Moore Institute\, 4126 Autumn Ln\, Birmingham\, AL\, 35243\, United States
GEO:33.454958;-86.732979
X-APPLE-STRUCTURED-LOCATION;VALUE=URI;X-ADDRESS=The Moore Institute 4126 Autumn Ln Birmingham AL 35243 United States;X-APPLE-RADIUS=500;X-TITLE=4126 Autumn Ln:geo:-86.732979,33.454958
END:VEVENT
BEGIN:VEVENT
DTSTART;TZID=UTC:20160521T103000
DTEND;TZID=UTC:20160521T113000
DTSTAMP:20260419T205042
CREATED:20160119T234559Z
LAST-MODIFIED:20160119T234559Z
UID:10003914-1463826600-1463830200@mooreinstitute.info
SUMMARY:Refuge Recovery
DESCRIPTION:Buddhist path of addiction recovery. MEETINGS: Fridays@5:30p & Sundays@6:30p (Shambhala Center) & Saturdays@10:30a & Wednesdays@7p (C3 at Moore Institute)
URL:https://mooreinstitute.info/event/refuge-recovery-2/2016-05-21/
LOCATION:The Moore Institute\, 4126 Autumn Ln\, Birmingham\, AL\, 35243\, United States
GEO:33.454958;-86.732979
X-APPLE-STRUCTURED-LOCATION;VALUE=URI;X-ADDRESS=The Moore Institute 4126 Autumn Ln Birmingham AL 35243 United States;X-APPLE-RADIUS=500;X-TITLE=4126 Autumn Ln:geo:-86.732979,33.454958
END:VEVENT
BEGIN:VEVENT
DTSTART;TZID=UTC:20160518T190000
DTEND;TZID=UTC:20160518T200000
DTSTAMP:20260419T205042
CREATED:20160119T234046Z
LAST-MODIFIED:20160119T234046Z
UID:10003861-1463598000-1463601600@mooreinstitute.info
SUMMARY:Refuge Recovery
DESCRIPTION:Buddhist path of addiction recovery. MEETINGS: Fridays@5:30p & Sundays@6:30p (Shambhala Center) & Saturdays@10:30a & Wednesdays@7p (C3 at Moore Institute \n  \nFree BABYSITTING \nDoors open at 6:30pm
URL:https://mooreinstitute.info/event/refuge-recovery/2016-05-18/
LOCATION:The Moore Institute\, 4126 Autumn Ln\, Birmingham\, AL\, 35243\, United States
GEO:33.454958;-86.732979
X-APPLE-STRUCTURED-LOCATION;VALUE=URI;X-ADDRESS=The Moore Institute 4126 Autumn Ln Birmingham AL 35243 United States;X-APPLE-RADIUS=500;X-TITLE=4126 Autumn Ln:geo:-86.732979,33.454958
END:VEVENT
END:VCALENDAR