BEGIN:VCALENDAR
VERSION:2.0
PRODID:-//The Moore Institute - ECPv6.15.20//NONSGML v1.0//EN
CALSCALE:GREGORIAN
METHOD:PUBLISH
X-WR-CALNAME:The Moore Institute
X-ORIGINAL-URL:https://mooreinstitute.info
X-WR-CALDESC:Events for The Moore Institute
REFRESH-INTERVAL;VALUE=DURATION:PT1H
X-Robots-Tag:noindex
X-PUBLISHED-TTL:PT1H
BEGIN:VTIMEZONE
TZID:UTC
BEGIN:STANDARD
TZOFFSETFROM:+0000
TZOFFSETTO:+0000
TZNAME:UTC
DTSTART:20150101T000000
END:STANDARD
END:VTIMEZONE
BEGIN:VTIMEZONE
TZID:America/Chicago
BEGIN:DAYLIGHT
TZOFFSETFROM:-0600
TZOFFSETTO:-0500
TZNAME:CDT
DTSTART:20150308T080000
END:DAYLIGHT
BEGIN:STANDARD
TZOFFSETFROM:-0500
TZOFFSETTO:-0600
TZNAME:CST
DTSTART:20151101T070000
END:STANDARD
BEGIN:DAYLIGHT
TZOFFSETFROM:-0600
TZOFFSETTO:-0500
TZNAME:CDT
DTSTART:20160313T080000
END:DAYLIGHT
BEGIN:STANDARD
TZOFFSETFROM:-0500
TZOFFSETTO:-0600
TZNAME:CST
DTSTART:20161106T070000
END:STANDARD
BEGIN:DAYLIGHT
TZOFFSETFROM:-0600
TZOFFSETTO:-0500
TZNAME:CDT
DTSTART:20170312T080000
END:DAYLIGHT
BEGIN:STANDARD
TZOFFSETFROM:-0500
TZOFFSETTO:-0600
TZNAME:CST
DTSTART:20171105T070000
END:STANDARD
END:VTIMEZONE
BEGIN:VEVENT
DTSTART;TZID=UTC:20160128T180000
DTEND;TZID=UTC:20160128T193000
DTSTAMP:20260421T012914
CREATED:20160120T214226Z
LAST-MODIFIED:20160120T214251Z
UID:10004004-1454004000-1454009400@mooreinstitute.info
SUMMARY:Being Well the yoga of health with Anne Markham Bailey
DESCRIPTION:All ages\, all levels\, all traditions \nThis class explores becoming and being well.  In a safe and inclusive atmosphere\, we will gently encourage flexibility and strength through yoga postures and mindfulness meditation. \nAnne Markham Bailey is a certified Yoga Alliance instructor and meditation teacher with a specialty  in yoga for trauma survisors.  She embraces contempltive and creative practice as a way of life\, supporting all people in the discovery of their inherent power and dignity. \n  \n 
URL:https://mooreinstitute.info/event/being-well-the-yoga-of-health-with-anne-markham-bailey/2016-01-28/
LOCATION:The Moore Institute\, 4126 Autumn Ln\, Birmingham\, AL\, 35243\, United States
ORGANIZER;CN="Anne Markham Bailey":MAILTO:amb@annemarkhambailey.com
GEO:33.454958;-86.732979
X-APPLE-STRUCTURED-LOCATION;VALUE=URI;X-ADDRESS=The Moore Institute 4126 Autumn Ln Birmingham AL 35243 United States;X-APPLE-RADIUS=500;X-TITLE=4126 Autumn Ln:geo:-86.732979,33.454958
END:VEVENT
BEGIN:VEVENT
DTSTART;TZID=UTC:20160127T190000
DTEND;TZID=UTC:20160127T200000
DTSTAMP:20260421T012914
CREATED:20160119T234046Z
LAST-MODIFIED:20160119T234046Z
UID:10003845-1453921200-1453924800@mooreinstitute.info
SUMMARY:Refuge Recovery
DESCRIPTION:Buddhist path of addiction recovery. MEETINGS: Fridays@5:30p & Sundays@6:30p (Shambhala Center) & Saturdays@10:30a & Wednesdays@7p (C3 at Moore Institute \n  \nFree BABYSITTING \nDoors open at 6:30pm
URL:https://mooreinstitute.info/event/refuge-recovery/2016-01-27/
LOCATION:The Moore Institute\, 4126 Autumn Ln\, Birmingham\, AL\, 35243\, United States
GEO:33.454958;-86.732979
X-APPLE-STRUCTURED-LOCATION;VALUE=URI;X-ADDRESS=The Moore Institute 4126 Autumn Ln Birmingham AL 35243 United States;X-APPLE-RADIUS=500;X-TITLE=4126 Autumn Ln:geo:-86.732979,33.454958
END:VEVENT
BEGIN:VEVENT
DTSTART;TZID=America/Chicago:20160125T100000
DTEND;TZID=America/Chicago:20160125T110000
DTSTAMP:20260421T012914
CREATED:20160120T215329Z
LAST-MODIFIED:20160121T114312Z
UID:10004010-1453716000-1453719600@mooreinstitute.info
SUMMARY:Steve Moore presents No One brings a Casserole
DESCRIPTION:Steve Moore presents No One Brings a Casserole at Christ Episcopal Church in Tuscaloosa\, Al on Sunday January 18 and 25\, 2016.  In this series he looks at why we treat substance abuse and mental health issues differently than physical issues.  He then looks at how we can be more compassionate and understanding when addressing these issues.
URL:https://mooreinstitute.info/event/steve-moore-presents-no-one-brings-a-casserole/2016-01-25/
LOCATION:Christ Episcopal Church\, 605 Lurleen B Wallace Blvd. N.\, Tuscaloosa\, AL\, 35401\, United States
ORGANIZER;CN="The Moore Institute":MAILTO:pam@mooreinstitute.net
GEO:33.2083941;-87.5692402
X-APPLE-STRUCTURED-LOCATION;VALUE=URI;X-ADDRESS=Christ Episcopal Church 605 Lurleen B Wallace Blvd. N. Tuscaloosa AL 35401 United States;X-APPLE-RADIUS=500;X-TITLE=605 Lurleen B Wallace Blvd. N.:geo:-87.5692402,33.2083941
END:VEVENT
BEGIN:VEVENT
DTSTART;TZID=UTC:20160123T103000
DTEND;TZID=UTC:20160123T113000
DTSTAMP:20260421T012914
CREATED:20160119T234559Z
LAST-MODIFIED:20160119T234559Z
UID:10003897-1453545000-1453548600@mooreinstitute.info
SUMMARY:Refuge Recovery
DESCRIPTION:Buddhist path of addiction recovery. MEETINGS: Fridays@5:30p & Sundays@6:30p (Shambhala Center) & Saturdays@10:30a & Wednesdays@7p (C3 at Moore Institute)
URL:https://mooreinstitute.info/event/refuge-recovery-2/2016-01-23/
LOCATION:The Moore Institute\, 4126 Autumn Ln\, Birmingham\, AL\, 35243\, United States
GEO:33.454958;-86.732979
X-APPLE-STRUCTURED-LOCATION;VALUE=URI;X-ADDRESS=The Moore Institute 4126 Autumn Ln Birmingham AL 35243 United States;X-APPLE-RADIUS=500;X-TITLE=4126 Autumn Ln:geo:-86.732979,33.454958
END:VEVENT
BEGIN:VEVENT
DTSTART;TZID=UTC:20160121T180000
DTEND;TZID=UTC:20160121T193000
DTSTAMP:20260421T012914
CREATED:20160120T214226Z
LAST-MODIFIED:20160120T214251Z
UID:10004003-1453399200-1453404600@mooreinstitute.info
SUMMARY:Being Well the yoga of health with Anne Markham Bailey
DESCRIPTION:All ages\, all levels\, all traditions \nThis class explores becoming and being well.  In a safe and inclusive atmosphere\, we will gently encourage flexibility and strength through yoga postures and mindfulness meditation. \nAnne Markham Bailey is a certified Yoga Alliance instructor and meditation teacher with a specialty  in yoga for trauma survisors.  She embraces contempltive and creative practice as a way of life\, supporting all people in the discovery of their inherent power and dignity. \n  \n 
URL:https://mooreinstitute.info/event/being-well-the-yoga-of-health-with-anne-markham-bailey/2016-01-21/
LOCATION:The Moore Institute\, 4126 Autumn Ln\, Birmingham\, AL\, 35243\, United States
ORGANIZER;CN="Anne Markham Bailey":MAILTO:amb@annemarkhambailey.com
GEO:33.454958;-86.732979
X-APPLE-STRUCTURED-LOCATION;VALUE=URI;X-ADDRESS=The Moore Institute 4126 Autumn Ln Birmingham AL 35243 United States;X-APPLE-RADIUS=500;X-TITLE=4126 Autumn Ln:geo:-86.732979,33.454958
END:VEVENT
BEGIN:VEVENT
DTSTART;TZID=UTC:20160120T190000
DTEND;TZID=UTC:20160120T200000
DTSTAMP:20260421T012914
CREATED:20160119T234046Z
LAST-MODIFIED:20160119T234046Z
UID:10003844-1453316400-1453320000@mooreinstitute.info
SUMMARY:Refuge Recovery
DESCRIPTION:Buddhist path of addiction recovery. MEETINGS: Fridays@5:30p & Sundays@6:30p (Shambhala Center) & Saturdays@10:30a & Wednesdays@7p (C3 at Moore Institute \n  \nFree BABYSITTING \nDoors open at 6:30pm
URL:https://mooreinstitute.info/event/refuge-recovery/2016-01-20/
LOCATION:The Moore Institute\, 4126 Autumn Ln\, Birmingham\, AL\, 35243\, United States
GEO:33.454958;-86.732979
X-APPLE-STRUCTURED-LOCATION;VALUE=URI;X-ADDRESS=The Moore Institute 4126 Autumn Ln Birmingham AL 35243 United States;X-APPLE-RADIUS=500;X-TITLE=4126 Autumn Ln:geo:-86.732979,33.454958
END:VEVENT
BEGIN:VEVENT
DTSTART;TZID=America/Chicago:20160118T100000
DTEND;TZID=America/Chicago:20160118T110000
DTSTAMP:20260421T012914
CREATED:20160120T215329Z
LAST-MODIFIED:20160121T114312Z
UID:10004009-1453111200-1453114800@mooreinstitute.info
SUMMARY:Steve Moore presents No One brings a Casserole
DESCRIPTION:Steve Moore presents No One Brings a Casserole at Christ Episcopal Church in Tuscaloosa\, Al on Sunday January 18 and 25\, 2016.  In this series he looks at why we treat substance abuse and mental health issues differently than physical issues.  He then looks at how we can be more compassionate and understanding when addressing these issues.
URL:https://mooreinstitute.info/event/steve-moore-presents-no-one-brings-a-casserole/2016-01-18/
LOCATION:Christ Episcopal Church\, 605 Lurleen B Wallace Blvd. N.\, Tuscaloosa\, AL\, 35401\, United States
ORGANIZER;CN="The Moore Institute":MAILTO:pam@mooreinstitute.net
GEO:33.2083941;-87.5692402
X-APPLE-STRUCTURED-LOCATION;VALUE=URI;X-ADDRESS=Christ Episcopal Church 605 Lurleen B Wallace Blvd. N. Tuscaloosa AL 35401 United States;X-APPLE-RADIUS=500;X-TITLE=605 Lurleen B Wallace Blvd. N.:geo:-87.5692402,33.2083941
END:VEVENT
BEGIN:VEVENT
DTSTART;TZID=America/Chicago:20160111T100000
DTEND;TZID=America/Chicago:20160111T110000
DTSTAMP:20260421T012914
CREATED:20160120T215329Z
LAST-MODIFIED:20160121T114312Z
UID:10004008-1452506400-1452510000@mooreinstitute.info
SUMMARY:Steve Moore presents No One brings a Casserole
DESCRIPTION:Steve Moore presents No One Brings a Casserole at Christ Episcopal Church in Tuscaloosa\, Al on Sunday January 18 and 25\, 2016.  In this series he looks at why we treat substance abuse and mental health issues differently than physical issues.  He then looks at how we can be more compassionate and understanding when addressing these issues.
URL:https://mooreinstitute.info/event/steve-moore-presents-no-one-brings-a-casserole/2016-01-11/
LOCATION:Christ Episcopal Church\, 605 Lurleen B Wallace Blvd. N.\, Tuscaloosa\, AL\, 35401\, United States
ORGANIZER;CN="The Moore Institute":MAILTO:pam@mooreinstitute.net
GEO:33.2083941;-87.5692402
X-APPLE-STRUCTURED-LOCATION;VALUE=URI;X-ADDRESS=Christ Episcopal Church 605 Lurleen B Wallace Blvd. N. Tuscaloosa AL 35401 United States;X-APPLE-RADIUS=500;X-TITLE=605 Lurleen B Wallace Blvd. N.:geo:-87.5692402,33.2083941
END:VEVENT
END:VCALENDAR