BEGIN:VCALENDAR
VERSION:2.0
PRODID:-//The Moore Institute - ECPv6.15.20//NONSGML v1.0//EN
CALSCALE:GREGORIAN
METHOD:PUBLISH
X-WR-CALNAME:The Moore Institute
X-ORIGINAL-URL:https://mooreinstitute.info
X-WR-CALDESC:Events for The Moore Institute
REFRESH-INTERVAL;VALUE=DURATION:PT1H
X-Robots-Tag:noindex
X-PUBLISHED-TTL:PT1H
BEGIN:VTIMEZONE
TZID:UTC
BEGIN:STANDARD
TZOFFSETFROM:+0000
TZOFFSETTO:+0000
TZNAME:UTC
DTSTART:20150101T000000
END:STANDARD
END:VTIMEZONE
BEGIN:VEVENT
DTSTART;TZID=UTC:20160511T190000
DTEND;TZID=UTC:20160511T200000
DTSTAMP:20260420T141717
CREATED:20160119T234046Z
LAST-MODIFIED:20160119T234046Z
UID:10003860-1462993200-1462996800@mooreinstitute.info
SUMMARY:Refuge Recovery
DESCRIPTION:Buddhist path of addiction recovery. MEETINGS: Fridays@5:30p & Sundays@6:30p (Shambhala Center) & Saturdays@10:30a & Wednesdays@7p (C3 at Moore Institute \n  \nFree BABYSITTING \nDoors open at 6:30pm
URL:https://mooreinstitute.info/event/refuge-recovery/2016-05-11/
LOCATION:The Moore Institute\, 4126 Autumn Ln\, Birmingham\, AL\, 35243\, United States
GEO:33.454958;-86.732979
X-APPLE-STRUCTURED-LOCATION;VALUE=URI;X-ADDRESS=The Moore Institute 4126 Autumn Ln Birmingham AL 35243 United States;X-APPLE-RADIUS=500;X-TITLE=4126 Autumn Ln:geo:-86.732979,33.454958
END:VEVENT
BEGIN:VEVENT
DTSTART;TZID=UTC:20160507T103000
DTEND;TZID=UTC:20160507T113000
DTSTAMP:20260420T141717
CREATED:20160119T234559Z
LAST-MODIFIED:20160119T234559Z
UID:10003912-1462617000-1462620600@mooreinstitute.info
SUMMARY:Refuge Recovery
DESCRIPTION:Buddhist path of addiction recovery. MEETINGS: Fridays@5:30p & Sundays@6:30p (Shambhala Center) & Saturdays@10:30a & Wednesdays@7p (C3 at Moore Institute)
URL:https://mooreinstitute.info/event/refuge-recovery-2/2016-05-07/
LOCATION:The Moore Institute\, 4126 Autumn Ln\, Birmingham\, AL\, 35243\, United States
GEO:33.454958;-86.732979
X-APPLE-STRUCTURED-LOCATION;VALUE=URI;X-ADDRESS=The Moore Institute 4126 Autumn Ln Birmingham AL 35243 United States;X-APPLE-RADIUS=500;X-TITLE=4126 Autumn Ln:geo:-86.732979,33.454958
END:VEVENT
BEGIN:VEVENT
DTSTART;TZID=UTC:20160504T190000
DTEND;TZID=UTC:20160504T200000
DTSTAMP:20260420T141717
CREATED:20160119T234046Z
LAST-MODIFIED:20160119T234046Z
UID:10003859-1462388400-1462392000@mooreinstitute.info
SUMMARY:Refuge Recovery
DESCRIPTION:Buddhist path of addiction recovery. MEETINGS: Fridays@5:30p & Sundays@6:30p (Shambhala Center) & Saturdays@10:30a & Wednesdays@7p (C3 at Moore Institute \n  \nFree BABYSITTING \nDoors open at 6:30pm
URL:https://mooreinstitute.info/event/refuge-recovery/2016-05-04/
LOCATION:The Moore Institute\, 4126 Autumn Ln\, Birmingham\, AL\, 35243\, United States
GEO:33.454958;-86.732979
X-APPLE-STRUCTURED-LOCATION;VALUE=URI;X-ADDRESS=The Moore Institute 4126 Autumn Ln Birmingham AL 35243 United States;X-APPLE-RADIUS=500;X-TITLE=4126 Autumn Ln:geo:-86.732979,33.454958
END:VEVENT
BEGIN:VEVENT
DTSTART;TZID=UTC:20160430T103000
DTEND;TZID=UTC:20160430T113000
DTSTAMP:20260420T141717
CREATED:20160119T234559Z
LAST-MODIFIED:20160119T234559Z
UID:10003911-1462012200-1462015800@mooreinstitute.info
SUMMARY:Refuge Recovery
DESCRIPTION:Buddhist path of addiction recovery. MEETINGS: Fridays@5:30p & Sundays@6:30p (Shambhala Center) & Saturdays@10:30a & Wednesdays@7p (C3 at Moore Institute)
URL:https://mooreinstitute.info/event/refuge-recovery-2/2016-04-30/
LOCATION:The Moore Institute\, 4126 Autumn Ln\, Birmingham\, AL\, 35243\, United States
GEO:33.454958;-86.732979
X-APPLE-STRUCTURED-LOCATION;VALUE=URI;X-ADDRESS=The Moore Institute 4126 Autumn Ln Birmingham AL 35243 United States;X-APPLE-RADIUS=500;X-TITLE=4126 Autumn Ln:geo:-86.732979,33.454958
END:VEVENT
BEGIN:VEVENT
DTSTART;TZID=UTC:20160427T190000
DTEND;TZID=UTC:20160427T200000
DTSTAMP:20260420T141717
CREATED:20160119T234046Z
LAST-MODIFIED:20160119T234046Z
UID:10003858-1461783600-1461787200@mooreinstitute.info
SUMMARY:Refuge Recovery
DESCRIPTION:Buddhist path of addiction recovery. MEETINGS: Fridays@5:30p & Sundays@6:30p (Shambhala Center) & Saturdays@10:30a & Wednesdays@7p (C3 at Moore Institute \n  \nFree BABYSITTING \nDoors open at 6:30pm
URL:https://mooreinstitute.info/event/refuge-recovery/2016-04-27/
LOCATION:The Moore Institute\, 4126 Autumn Ln\, Birmingham\, AL\, 35243\, United States
GEO:33.454958;-86.732979
X-APPLE-STRUCTURED-LOCATION;VALUE=URI;X-ADDRESS=The Moore Institute 4126 Autumn Ln Birmingham AL 35243 United States;X-APPLE-RADIUS=500;X-TITLE=4126 Autumn Ln:geo:-86.732979,33.454958
END:VEVENT
BEGIN:VEVENT
DTSTART;TZID=UTC:20160423T103000
DTEND;TZID=UTC:20160423T113000
DTSTAMP:20260420T141717
CREATED:20160119T234559Z
LAST-MODIFIED:20160119T234559Z
UID:10003910-1461407400-1461411000@mooreinstitute.info
SUMMARY:Refuge Recovery
DESCRIPTION:Buddhist path of addiction recovery. MEETINGS: Fridays@5:30p & Sundays@6:30p (Shambhala Center) & Saturdays@10:30a & Wednesdays@7p (C3 at Moore Institute)
URL:https://mooreinstitute.info/event/refuge-recovery-2/2016-04-23/
LOCATION:The Moore Institute\, 4126 Autumn Ln\, Birmingham\, AL\, 35243\, United States
GEO:33.454958;-86.732979
X-APPLE-STRUCTURED-LOCATION;VALUE=URI;X-ADDRESS=The Moore Institute 4126 Autumn Ln Birmingham AL 35243 United States;X-APPLE-RADIUS=500;X-TITLE=4126 Autumn Ln:geo:-86.732979,33.454958
END:VEVENT
BEGIN:VEVENT
DTSTART;TZID=UTC:20160420T190000
DTEND;TZID=UTC:20160420T200000
DTSTAMP:20260420T141717
CREATED:20160119T234046Z
LAST-MODIFIED:20160119T234046Z
UID:10003857-1461178800-1461182400@mooreinstitute.info
SUMMARY:Refuge Recovery
DESCRIPTION:Buddhist path of addiction recovery. MEETINGS: Fridays@5:30p & Sundays@6:30p (Shambhala Center) & Saturdays@10:30a & Wednesdays@7p (C3 at Moore Institute \n  \nFree BABYSITTING \nDoors open at 6:30pm
URL:https://mooreinstitute.info/event/refuge-recovery/2016-04-20/
LOCATION:The Moore Institute\, 4126 Autumn Ln\, Birmingham\, AL\, 35243\, United States
GEO:33.454958;-86.732979
X-APPLE-STRUCTURED-LOCATION;VALUE=URI;X-ADDRESS=The Moore Institute 4126 Autumn Ln Birmingham AL 35243 United States;X-APPLE-RADIUS=500;X-TITLE=4126 Autumn Ln:geo:-86.732979,33.454958
END:VEVENT
BEGIN:VEVENT
DTSTART;TZID=UTC:20160416T103000
DTEND;TZID=UTC:20160416T113000
DTSTAMP:20260420T141717
CREATED:20160119T234559Z
LAST-MODIFIED:20160119T234559Z
UID:10003909-1460802600-1460806200@mooreinstitute.info
SUMMARY:Refuge Recovery
DESCRIPTION:Buddhist path of addiction recovery. MEETINGS: Fridays@5:30p & Sundays@6:30p (Shambhala Center) & Saturdays@10:30a & Wednesdays@7p (C3 at Moore Institute)
URL:https://mooreinstitute.info/event/refuge-recovery-2/2016-04-16/
LOCATION:The Moore Institute\, 4126 Autumn Ln\, Birmingham\, AL\, 35243\, United States
GEO:33.454958;-86.732979
X-APPLE-STRUCTURED-LOCATION;VALUE=URI;X-ADDRESS=The Moore Institute 4126 Autumn Ln Birmingham AL 35243 United States;X-APPLE-RADIUS=500;X-TITLE=4126 Autumn Ln:geo:-86.732979,33.454958
END:VEVENT
BEGIN:VEVENT
DTSTART;TZID=UTC:20160413T190000
DTEND;TZID=UTC:20160413T200000
DTSTAMP:20260420T141717
CREATED:20160119T234046Z
LAST-MODIFIED:20160119T234046Z
UID:10003856-1460574000-1460577600@mooreinstitute.info
SUMMARY:Refuge Recovery
DESCRIPTION:Buddhist path of addiction recovery. MEETINGS: Fridays@5:30p & Sundays@6:30p (Shambhala Center) & Saturdays@10:30a & Wednesdays@7p (C3 at Moore Institute \n  \nFree BABYSITTING \nDoors open at 6:30pm
URL:https://mooreinstitute.info/event/refuge-recovery/2016-04-13/
LOCATION:The Moore Institute\, 4126 Autumn Ln\, Birmingham\, AL\, 35243\, United States
GEO:33.454958;-86.732979
X-APPLE-STRUCTURED-LOCATION;VALUE=URI;X-ADDRESS=The Moore Institute 4126 Autumn Ln Birmingham AL 35243 United States;X-APPLE-RADIUS=500;X-TITLE=4126 Autumn Ln:geo:-86.732979,33.454958
END:VEVENT
BEGIN:VEVENT
DTSTART;TZID=UTC:20160409T103000
DTEND;TZID=UTC:20160409T113000
DTSTAMP:20260420T141717
CREATED:20160119T234559Z
LAST-MODIFIED:20160119T234559Z
UID:10003908-1460197800-1460201400@mooreinstitute.info
SUMMARY:Refuge Recovery
DESCRIPTION:Buddhist path of addiction recovery. MEETINGS: Fridays@5:30p & Sundays@6:30p (Shambhala Center) & Saturdays@10:30a & Wednesdays@7p (C3 at Moore Institute)
URL:https://mooreinstitute.info/event/refuge-recovery-2/2016-04-09/
LOCATION:The Moore Institute\, 4126 Autumn Ln\, Birmingham\, AL\, 35243\, United States
GEO:33.454958;-86.732979
X-APPLE-STRUCTURED-LOCATION;VALUE=URI;X-ADDRESS=The Moore Institute 4126 Autumn Ln Birmingham AL 35243 United States;X-APPLE-RADIUS=500;X-TITLE=4126 Autumn Ln:geo:-86.732979,33.454958
END:VEVENT
BEGIN:VEVENT
DTSTART;TZID=UTC:20160406T190000
DTEND;TZID=UTC:20160406T200000
DTSTAMP:20260420T141717
CREATED:20160119T234046Z
LAST-MODIFIED:20160119T234046Z
UID:10003855-1459969200-1459972800@mooreinstitute.info
SUMMARY:Refuge Recovery
DESCRIPTION:Buddhist path of addiction recovery. MEETINGS: Fridays@5:30p & Sundays@6:30p (Shambhala Center) & Saturdays@10:30a & Wednesdays@7p (C3 at Moore Institute \n  \nFree BABYSITTING \nDoors open at 6:30pm
URL:https://mooreinstitute.info/event/refuge-recovery/2016-04-06/
LOCATION:The Moore Institute\, 4126 Autumn Ln\, Birmingham\, AL\, 35243\, United States
GEO:33.454958;-86.732979
X-APPLE-STRUCTURED-LOCATION;VALUE=URI;X-ADDRESS=The Moore Institute 4126 Autumn Ln Birmingham AL 35243 United States;X-APPLE-RADIUS=500;X-TITLE=4126 Autumn Ln:geo:-86.732979,33.454958
END:VEVENT
BEGIN:VEVENT
DTSTART;TZID=UTC:20160402T103000
DTEND;TZID=UTC:20160402T113000
DTSTAMP:20260420T141717
CREATED:20160119T234559Z
LAST-MODIFIED:20160119T234559Z
UID:10003907-1459593000-1459596600@mooreinstitute.info
SUMMARY:Refuge Recovery
DESCRIPTION:Buddhist path of addiction recovery. MEETINGS: Fridays@5:30p & Sundays@6:30p (Shambhala Center) & Saturdays@10:30a & Wednesdays@7p (C3 at Moore Institute)
URL:https://mooreinstitute.info/event/refuge-recovery-2/2016-04-02/
LOCATION:The Moore Institute\, 4126 Autumn Ln\, Birmingham\, AL\, 35243\, United States
GEO:33.454958;-86.732979
X-APPLE-STRUCTURED-LOCATION;VALUE=URI;X-ADDRESS=The Moore Institute 4126 Autumn Ln Birmingham AL 35243 United States;X-APPLE-RADIUS=500;X-TITLE=4126 Autumn Ln:geo:-86.732979,33.454958
END:VEVENT
BEGIN:VEVENT
DTSTART;TZID=UTC:20160330T190000
DTEND;TZID=UTC:20160330T200000
DTSTAMP:20260420T141717
CREATED:20160119T234046Z
LAST-MODIFIED:20160119T234046Z
UID:10003854-1459364400-1459368000@mooreinstitute.info
SUMMARY:Refuge Recovery
DESCRIPTION:Buddhist path of addiction recovery. MEETINGS: Fridays@5:30p & Sundays@6:30p (Shambhala Center) & Saturdays@10:30a & Wednesdays@7p (C3 at Moore Institute \n  \nFree BABYSITTING \nDoors open at 6:30pm
URL:https://mooreinstitute.info/event/refuge-recovery/2016-03-30/
LOCATION:The Moore Institute\, 4126 Autumn Ln\, Birmingham\, AL\, 35243\, United States
GEO:33.454958;-86.732979
X-APPLE-STRUCTURED-LOCATION;VALUE=URI;X-ADDRESS=The Moore Institute 4126 Autumn Ln Birmingham AL 35243 United States;X-APPLE-RADIUS=500;X-TITLE=4126 Autumn Ln:geo:-86.732979,33.454958
END:VEVENT
BEGIN:VEVENT
DTSTART;TZID=UTC:20160326T103000
DTEND;TZID=UTC:20160326T113000
DTSTAMP:20260420T141717
CREATED:20160119T234559Z
LAST-MODIFIED:20160119T234559Z
UID:10003906-1458988200-1458991800@mooreinstitute.info
SUMMARY:Refuge Recovery
DESCRIPTION:Buddhist path of addiction recovery. MEETINGS: Fridays@5:30p & Sundays@6:30p (Shambhala Center) & Saturdays@10:30a & Wednesdays@7p (C3 at Moore Institute)
URL:https://mooreinstitute.info/event/refuge-recovery-2/2016-03-26/
LOCATION:The Moore Institute\, 4126 Autumn Ln\, Birmingham\, AL\, 35243\, United States
GEO:33.454958;-86.732979
X-APPLE-STRUCTURED-LOCATION;VALUE=URI;X-ADDRESS=The Moore Institute 4126 Autumn Ln Birmingham AL 35243 United States;X-APPLE-RADIUS=500;X-TITLE=4126 Autumn Ln:geo:-86.732979,33.454958
END:VEVENT
BEGIN:VEVENT
DTSTART;TZID=UTC:20160323T190000
DTEND;TZID=UTC:20160323T200000
DTSTAMP:20260420T141717
CREATED:20160119T234046Z
LAST-MODIFIED:20160119T234046Z
UID:10003853-1458759600-1458763200@mooreinstitute.info
SUMMARY:Refuge Recovery
DESCRIPTION:Buddhist path of addiction recovery. MEETINGS: Fridays@5:30p & Sundays@6:30p (Shambhala Center) & Saturdays@10:30a & Wednesdays@7p (C3 at Moore Institute \n  \nFree BABYSITTING \nDoors open at 6:30pm
URL:https://mooreinstitute.info/event/refuge-recovery/2016-03-23/
LOCATION:The Moore Institute\, 4126 Autumn Ln\, Birmingham\, AL\, 35243\, United States
GEO:33.454958;-86.732979
X-APPLE-STRUCTURED-LOCATION;VALUE=URI;X-ADDRESS=The Moore Institute 4126 Autumn Ln Birmingham AL 35243 United States;X-APPLE-RADIUS=500;X-TITLE=4126 Autumn Ln:geo:-86.732979,33.454958
END:VEVENT
BEGIN:VEVENT
DTSTART;TZID=UTC:20160319T103000
DTEND;TZID=UTC:20160319T113000
DTSTAMP:20260420T141717
CREATED:20160119T234559Z
LAST-MODIFIED:20160119T234559Z
UID:10003905-1458383400-1458387000@mooreinstitute.info
SUMMARY:Refuge Recovery
DESCRIPTION:Buddhist path of addiction recovery. MEETINGS: Fridays@5:30p & Sundays@6:30p (Shambhala Center) & Saturdays@10:30a & Wednesdays@7p (C3 at Moore Institute)
URL:https://mooreinstitute.info/event/refuge-recovery-2/2016-03-19/
LOCATION:The Moore Institute\, 4126 Autumn Ln\, Birmingham\, AL\, 35243\, United States
GEO:33.454958;-86.732979
X-APPLE-STRUCTURED-LOCATION;VALUE=URI;X-ADDRESS=The Moore Institute 4126 Autumn Ln Birmingham AL 35243 United States;X-APPLE-RADIUS=500;X-TITLE=4126 Autumn Ln:geo:-86.732979,33.454958
END:VEVENT
BEGIN:VEVENT
DTSTART;TZID=UTC:20160316T190000
DTEND;TZID=UTC:20160316T200000
DTSTAMP:20260420T141717
CREATED:20160119T234046Z
LAST-MODIFIED:20160119T234046Z
UID:10003852-1458154800-1458158400@mooreinstitute.info
SUMMARY:Refuge Recovery
DESCRIPTION:Buddhist path of addiction recovery. MEETINGS: Fridays@5:30p & Sundays@6:30p (Shambhala Center) & Saturdays@10:30a & Wednesdays@7p (C3 at Moore Institute \n  \nFree BABYSITTING \nDoors open at 6:30pm
URL:https://mooreinstitute.info/event/refuge-recovery/2016-03-16/
LOCATION:The Moore Institute\, 4126 Autumn Ln\, Birmingham\, AL\, 35243\, United States
GEO:33.454958;-86.732979
X-APPLE-STRUCTURED-LOCATION;VALUE=URI;X-ADDRESS=The Moore Institute 4126 Autumn Ln Birmingham AL 35243 United States;X-APPLE-RADIUS=500;X-TITLE=4126 Autumn Ln:geo:-86.732979,33.454958
END:VEVENT
BEGIN:VEVENT
DTSTART;TZID=UTC:20160312T103000
DTEND;TZID=UTC:20160312T113000
DTSTAMP:20260420T141717
CREATED:20160119T234559Z
LAST-MODIFIED:20160119T234559Z
UID:10003904-1457778600-1457782200@mooreinstitute.info
SUMMARY:Refuge Recovery
DESCRIPTION:Buddhist path of addiction recovery. MEETINGS: Fridays@5:30p & Sundays@6:30p (Shambhala Center) & Saturdays@10:30a & Wednesdays@7p (C3 at Moore Institute)
URL:https://mooreinstitute.info/event/refuge-recovery-2/2016-03-12/
LOCATION:The Moore Institute\, 4126 Autumn Ln\, Birmingham\, AL\, 35243\, United States
GEO:33.454958;-86.732979
X-APPLE-STRUCTURED-LOCATION;VALUE=URI;X-ADDRESS=The Moore Institute 4126 Autumn Ln Birmingham AL 35243 United States;X-APPLE-RADIUS=500;X-TITLE=4126 Autumn Ln:geo:-86.732979,33.454958
END:VEVENT
BEGIN:VEVENT
DTSTART;TZID=UTC:20160309T190000
DTEND;TZID=UTC:20160309T200000
DTSTAMP:20260420T141717
CREATED:20160119T234046Z
LAST-MODIFIED:20160119T234046Z
UID:10003851-1457550000-1457553600@mooreinstitute.info
SUMMARY:Refuge Recovery
DESCRIPTION:Buddhist path of addiction recovery. MEETINGS: Fridays@5:30p & Sundays@6:30p (Shambhala Center) & Saturdays@10:30a & Wednesdays@7p (C3 at Moore Institute \n  \nFree BABYSITTING \nDoors open at 6:30pm
URL:https://mooreinstitute.info/event/refuge-recovery/2016-03-09/
LOCATION:The Moore Institute\, 4126 Autumn Ln\, Birmingham\, AL\, 35243\, United States
GEO:33.454958;-86.732979
X-APPLE-STRUCTURED-LOCATION;VALUE=URI;X-ADDRESS=The Moore Institute 4126 Autumn Ln Birmingham AL 35243 United States;X-APPLE-RADIUS=500;X-TITLE=4126 Autumn Ln:geo:-86.732979,33.454958
END:VEVENT
BEGIN:VEVENT
DTSTART;TZID=UTC:20160305T103000
DTEND;TZID=UTC:20160305T113000
DTSTAMP:20260420T141717
CREATED:20160119T234559Z
LAST-MODIFIED:20160119T234559Z
UID:10003903-1457173800-1457177400@mooreinstitute.info
SUMMARY:Refuge Recovery
DESCRIPTION:Buddhist path of addiction recovery. MEETINGS: Fridays@5:30p & Sundays@6:30p (Shambhala Center) & Saturdays@10:30a & Wednesdays@7p (C3 at Moore Institute)
URL:https://mooreinstitute.info/event/refuge-recovery-2/2016-03-05/
LOCATION:The Moore Institute\, 4126 Autumn Ln\, Birmingham\, AL\, 35243\, United States
GEO:33.454958;-86.732979
X-APPLE-STRUCTURED-LOCATION;VALUE=URI;X-ADDRESS=The Moore Institute 4126 Autumn Ln Birmingham AL 35243 United States;X-APPLE-RADIUS=500;X-TITLE=4126 Autumn Ln:geo:-86.732979,33.454958
END:VEVENT
BEGIN:VEVENT
DTSTART;TZID=UTC:20160302T190000
DTEND;TZID=UTC:20160302T200000
DTSTAMP:20260420T141717
CREATED:20160119T234046Z
LAST-MODIFIED:20160119T234046Z
UID:10003850-1456945200-1456948800@mooreinstitute.info
SUMMARY:Refuge Recovery
DESCRIPTION:Buddhist path of addiction recovery. MEETINGS: Fridays@5:30p & Sundays@6:30p (Shambhala Center) & Saturdays@10:30a & Wednesdays@7p (C3 at Moore Institute \n  \nFree BABYSITTING \nDoors open at 6:30pm
URL:https://mooreinstitute.info/event/refuge-recovery/2016-03-02/
LOCATION:The Moore Institute\, 4126 Autumn Ln\, Birmingham\, AL\, 35243\, United States
GEO:33.454958;-86.732979
X-APPLE-STRUCTURED-LOCATION;VALUE=URI;X-ADDRESS=The Moore Institute 4126 Autumn Ln Birmingham AL 35243 United States;X-APPLE-RADIUS=500;X-TITLE=4126 Autumn Ln:geo:-86.732979,33.454958
END:VEVENT
BEGIN:VEVENT
DTSTART;TZID=UTC:20160227T103000
DTEND;TZID=UTC:20160227T113000
DTSTAMP:20260420T141717
CREATED:20160119T234559Z
LAST-MODIFIED:20160119T234559Z
UID:10003902-1456569000-1456572600@mooreinstitute.info
SUMMARY:Refuge Recovery
DESCRIPTION:Buddhist path of addiction recovery. MEETINGS: Fridays@5:30p & Sundays@6:30p (Shambhala Center) & Saturdays@10:30a & Wednesdays@7p (C3 at Moore Institute)
URL:https://mooreinstitute.info/event/refuge-recovery-2/2016-02-27/
LOCATION:The Moore Institute\, 4126 Autumn Ln\, Birmingham\, AL\, 35243\, United States
GEO:33.454958;-86.732979
X-APPLE-STRUCTURED-LOCATION;VALUE=URI;X-ADDRESS=The Moore Institute 4126 Autumn Ln Birmingham AL 35243 United States;X-APPLE-RADIUS=500;X-TITLE=4126 Autumn Ln:geo:-86.732979,33.454958
END:VEVENT
BEGIN:VEVENT
DTSTART;TZID=UTC:20160224T190000
DTEND;TZID=UTC:20160224T200000
DTSTAMP:20260420T141717
CREATED:20160119T234046Z
LAST-MODIFIED:20160119T234046Z
UID:10003849-1456340400-1456344000@mooreinstitute.info
SUMMARY:Refuge Recovery
DESCRIPTION:Buddhist path of addiction recovery. MEETINGS: Fridays@5:30p & Sundays@6:30p (Shambhala Center) & Saturdays@10:30a & Wednesdays@7p (C3 at Moore Institute \n  \nFree BABYSITTING \nDoors open at 6:30pm
URL:https://mooreinstitute.info/event/refuge-recovery/2016-02-24/
LOCATION:The Moore Institute\, 4126 Autumn Ln\, Birmingham\, AL\, 35243\, United States
GEO:33.454958;-86.732979
X-APPLE-STRUCTURED-LOCATION;VALUE=URI;X-ADDRESS=The Moore Institute 4126 Autumn Ln Birmingham AL 35243 United States;X-APPLE-RADIUS=500;X-TITLE=4126 Autumn Ln:geo:-86.732979,33.454958
END:VEVENT
BEGIN:VEVENT
DTSTART;TZID=UTC:20160220T103000
DTEND;TZID=UTC:20160220T113000
DTSTAMP:20260420T141717
CREATED:20160119T234559Z
LAST-MODIFIED:20160119T234559Z
UID:10003901-1455964200-1455967800@mooreinstitute.info
SUMMARY:Refuge Recovery
DESCRIPTION:Buddhist path of addiction recovery. MEETINGS: Fridays@5:30p & Sundays@6:30p (Shambhala Center) & Saturdays@10:30a & Wednesdays@7p (C3 at Moore Institute)
URL:https://mooreinstitute.info/event/refuge-recovery-2/2016-02-20/
LOCATION:The Moore Institute\, 4126 Autumn Ln\, Birmingham\, AL\, 35243\, United States
GEO:33.454958;-86.732979
X-APPLE-STRUCTURED-LOCATION;VALUE=URI;X-ADDRESS=The Moore Institute 4126 Autumn Ln Birmingham AL 35243 United States;X-APPLE-RADIUS=500;X-TITLE=4126 Autumn Ln:geo:-86.732979,33.454958
END:VEVENT
BEGIN:VEVENT
DTSTART;TZID=UTC:20160218T180000
DTEND;TZID=UTC:20160218T193000
DTSTAMP:20260420T141717
CREATED:20160120T214226Z
LAST-MODIFIED:20160120T214251Z
UID:10004007-1455818400-1455823800@mooreinstitute.info
SUMMARY:Being Well the yoga of health with Anne Markham Bailey
DESCRIPTION:All ages\, all levels\, all traditions \nThis class explores becoming and being well.  In a safe and inclusive atmosphere\, we will gently encourage flexibility and strength through yoga postures and mindfulness meditation. \nAnne Markham Bailey is a certified Yoga Alliance instructor and meditation teacher with a specialty  in yoga for trauma survisors.  She embraces contempltive and creative practice as a way of life\, supporting all people in the discovery of their inherent power and dignity. \n  \n 
URL:https://mooreinstitute.info/event/being-well-the-yoga-of-health-with-anne-markham-bailey/2016-02-18/
LOCATION:The Moore Institute\, 4126 Autumn Ln\, Birmingham\, AL\, 35243\, United States
ORGANIZER;CN="Anne Markham Bailey":MAILTO:amb@annemarkhambailey.com
GEO:33.454958;-86.732979
X-APPLE-STRUCTURED-LOCATION;VALUE=URI;X-ADDRESS=The Moore Institute 4126 Autumn Ln Birmingham AL 35243 United States;X-APPLE-RADIUS=500;X-TITLE=4126 Autumn Ln:geo:-86.732979,33.454958
END:VEVENT
BEGIN:VEVENT
DTSTART;TZID=UTC:20160217T190000
DTEND;TZID=UTC:20160217T200000
DTSTAMP:20260420T141717
CREATED:20160119T234046Z
LAST-MODIFIED:20160119T234046Z
UID:10003848-1455735600-1455739200@mooreinstitute.info
SUMMARY:Refuge Recovery
DESCRIPTION:Buddhist path of addiction recovery. MEETINGS: Fridays@5:30p & Sundays@6:30p (Shambhala Center) & Saturdays@10:30a & Wednesdays@7p (C3 at Moore Institute \n  \nFree BABYSITTING \nDoors open at 6:30pm
URL:https://mooreinstitute.info/event/refuge-recovery/2016-02-17/
LOCATION:The Moore Institute\, 4126 Autumn Ln\, Birmingham\, AL\, 35243\, United States
GEO:33.454958;-86.732979
X-APPLE-STRUCTURED-LOCATION;VALUE=URI;X-ADDRESS=The Moore Institute 4126 Autumn Ln Birmingham AL 35243 United States;X-APPLE-RADIUS=500;X-TITLE=4126 Autumn Ln:geo:-86.732979,33.454958
END:VEVENT
BEGIN:VEVENT
DTSTART;TZID=UTC:20160213T103000
DTEND;TZID=UTC:20160213T113000
DTSTAMP:20260420T141717
CREATED:20160119T234559Z
LAST-MODIFIED:20160119T234559Z
UID:10003900-1455359400-1455363000@mooreinstitute.info
SUMMARY:Refuge Recovery
DESCRIPTION:Buddhist path of addiction recovery. MEETINGS: Fridays@5:30p & Sundays@6:30p (Shambhala Center) & Saturdays@10:30a & Wednesdays@7p (C3 at Moore Institute)
URL:https://mooreinstitute.info/event/refuge-recovery-2/2016-02-13/
LOCATION:The Moore Institute\, 4126 Autumn Ln\, Birmingham\, AL\, 35243\, United States
GEO:33.454958;-86.732979
X-APPLE-STRUCTURED-LOCATION;VALUE=URI;X-ADDRESS=The Moore Institute 4126 Autumn Ln Birmingham AL 35243 United States;X-APPLE-RADIUS=500;X-TITLE=4126 Autumn Ln:geo:-86.732979,33.454958
END:VEVENT
BEGIN:VEVENT
DTSTART;TZID=UTC:20160211T180000
DTEND;TZID=UTC:20160211T193000
DTSTAMP:20260420T141717
CREATED:20160120T214226Z
LAST-MODIFIED:20160120T214251Z
UID:10004006-1455213600-1455219000@mooreinstitute.info
SUMMARY:Being Well the yoga of health with Anne Markham Bailey
DESCRIPTION:All ages\, all levels\, all traditions \nThis class explores becoming and being well.  In a safe and inclusive atmosphere\, we will gently encourage flexibility and strength through yoga postures and mindfulness meditation. \nAnne Markham Bailey is a certified Yoga Alliance instructor and meditation teacher with a specialty  in yoga for trauma survisors.  She embraces contempltive and creative practice as a way of life\, supporting all people in the discovery of their inherent power and dignity. \n  \n 
URL:https://mooreinstitute.info/event/being-well-the-yoga-of-health-with-anne-markham-bailey/2016-02-11/
LOCATION:The Moore Institute\, 4126 Autumn Ln\, Birmingham\, AL\, 35243\, United States
ORGANIZER;CN="Anne Markham Bailey":MAILTO:amb@annemarkhambailey.com
GEO:33.454958;-86.732979
X-APPLE-STRUCTURED-LOCATION;VALUE=URI;X-ADDRESS=The Moore Institute 4126 Autumn Ln Birmingham AL 35243 United States;X-APPLE-RADIUS=500;X-TITLE=4126 Autumn Ln:geo:-86.732979,33.454958
END:VEVENT
BEGIN:VEVENT
DTSTART;TZID=UTC:20160210T190000
DTEND;TZID=UTC:20160210T200000
DTSTAMP:20260420T141717
CREATED:20160119T234046Z
LAST-MODIFIED:20160119T234046Z
UID:10003847-1455130800-1455134400@mooreinstitute.info
SUMMARY:Refuge Recovery
DESCRIPTION:Buddhist path of addiction recovery. MEETINGS: Fridays@5:30p & Sundays@6:30p (Shambhala Center) & Saturdays@10:30a & Wednesdays@7p (C3 at Moore Institute \n  \nFree BABYSITTING \nDoors open at 6:30pm
URL:https://mooreinstitute.info/event/refuge-recovery/2016-02-10/
LOCATION:The Moore Institute\, 4126 Autumn Ln\, Birmingham\, AL\, 35243\, United States
GEO:33.454958;-86.732979
X-APPLE-STRUCTURED-LOCATION;VALUE=URI;X-ADDRESS=The Moore Institute 4126 Autumn Ln Birmingham AL 35243 United States;X-APPLE-RADIUS=500;X-TITLE=4126 Autumn Ln:geo:-86.732979,33.454958
END:VEVENT
BEGIN:VEVENT
DTSTART;TZID=UTC:20160206T103000
DTEND;TZID=UTC:20160206T113000
DTSTAMP:20260420T141717
CREATED:20160119T234559Z
LAST-MODIFIED:20160119T234559Z
UID:10003899-1454754600-1454758200@mooreinstitute.info
SUMMARY:Refuge Recovery
DESCRIPTION:Buddhist path of addiction recovery. MEETINGS: Fridays@5:30p & Sundays@6:30p (Shambhala Center) & Saturdays@10:30a & Wednesdays@7p (C3 at Moore Institute)
URL:https://mooreinstitute.info/event/refuge-recovery-2/2016-02-06/
LOCATION:The Moore Institute\, 4126 Autumn Ln\, Birmingham\, AL\, 35243\, United States
GEO:33.454958;-86.732979
X-APPLE-STRUCTURED-LOCATION;VALUE=URI;X-ADDRESS=The Moore Institute 4126 Autumn Ln Birmingham AL 35243 United States;X-APPLE-RADIUS=500;X-TITLE=4126 Autumn Ln:geo:-86.732979,33.454958
END:VEVENT
END:VCALENDAR