BEGIN:VCALENDAR
VERSION:2.0
PRODID:-//The Moore Institute - ECPv6.15.20//NONSGML v1.0//EN
CALSCALE:GREGORIAN
METHOD:PUBLISH
X-ORIGINAL-URL:https://mooreinstitute.info
X-WR-CALDESC:Events for The Moore Institute
REFRESH-INTERVAL;VALUE=DURATION:PT1H
X-Robots-Tag:noindex
X-PUBLISHED-TTL:PT1H
BEGIN:VTIMEZONE
TZID:UTC
BEGIN:STANDARD
TZOFFSETFROM:+0000
TZOFFSETTO:+0000
TZNAME:UTC
DTSTART:20150101T000000
END:STANDARD
END:VTIMEZONE
BEGIN:VEVENT
DTSTART;TZID=UTC:20161001T103000
DTEND;TZID=UTC:20161001T113000
DTSTAMP:20260420T101422
CREATED:20160119T234559Z
LAST-MODIFIED:20160119T234559Z
UID:10003933-1475317800-1475321400@mooreinstitute.info
SUMMARY:Refuge Recovery
DESCRIPTION:Buddhist path of addiction recovery. MEETINGS: Fridays@5:30p & Sundays@6:30p (Shambhala Center) & Saturdays@10:30a & Wednesdays@7p (C3 at Moore Institute)
URL:https://mooreinstitute.info/event/refuge-recovery-2/2016-10-01/
LOCATION:The Moore Institute\, 4126 Autumn Ln\, Birmingham\, AL\, 35243\, United States
GEO:33.454958;-86.732979
X-APPLE-STRUCTURED-LOCATION;VALUE=URI;X-ADDRESS=The Moore Institute 4126 Autumn Ln Birmingham AL 35243 United States;X-APPLE-RADIUS=500;X-TITLE=4126 Autumn Ln:geo:-86.732979,33.454958
END:VEVENT
BEGIN:VEVENT
DTSTART;TZID=UTC:20161005T190000
DTEND;TZID=UTC:20161005T200000
DTSTAMP:20260420T101422
CREATED:20160119T234046Z
LAST-MODIFIED:20160119T234046Z
UID:10003881-1475694000-1475697600@mooreinstitute.info
SUMMARY:Refuge Recovery
DESCRIPTION:Buddhist path of addiction recovery. MEETINGS: Fridays@5:30p & Sundays@6:30p (Shambhala Center) & Saturdays@10:30a & Wednesdays@7p (C3 at Moore Institute \n  \nFree BABYSITTING \nDoors open at 6:30pm
URL:https://mooreinstitute.info/event/refuge-recovery/2016-10-05/
LOCATION:The Moore Institute\, 4126 Autumn Ln\, Birmingham\, AL\, 35243\, United States
GEO:33.454958;-86.732979
X-APPLE-STRUCTURED-LOCATION;VALUE=URI;X-ADDRESS=The Moore Institute 4126 Autumn Ln Birmingham AL 35243 United States;X-APPLE-RADIUS=500;X-TITLE=4126 Autumn Ln:geo:-86.732979,33.454958
END:VEVENT
BEGIN:VEVENT
DTSTART;TZID=UTC:20161008T103000
DTEND;TZID=UTC:20161008T113000
DTSTAMP:20260420T101422
CREATED:20160119T234559Z
LAST-MODIFIED:20160119T234559Z
UID:10003934-1475922600-1475926200@mooreinstitute.info
SUMMARY:Refuge Recovery
DESCRIPTION:Buddhist path of addiction recovery. MEETINGS: Fridays@5:30p & Sundays@6:30p (Shambhala Center) & Saturdays@10:30a & Wednesdays@7p (C3 at Moore Institute)
URL:https://mooreinstitute.info/event/refuge-recovery-2/2016-10-08/
LOCATION:The Moore Institute\, 4126 Autumn Ln\, Birmingham\, AL\, 35243\, United States
GEO:33.454958;-86.732979
X-APPLE-STRUCTURED-LOCATION;VALUE=URI;X-ADDRESS=The Moore Institute 4126 Autumn Ln Birmingham AL 35243 United States;X-APPLE-RADIUS=500;X-TITLE=4126 Autumn Ln:geo:-86.732979,33.454958
END:VEVENT
BEGIN:VEVENT
DTSTART;TZID=UTC:20161012T190000
DTEND;TZID=UTC:20161012T200000
DTSTAMP:20260420T101422
CREATED:20160119T234046Z
LAST-MODIFIED:20160119T234046Z
UID:10003882-1476298800-1476302400@mooreinstitute.info
SUMMARY:Refuge Recovery
DESCRIPTION:Buddhist path of addiction recovery. MEETINGS: Fridays@5:30p & Sundays@6:30p (Shambhala Center) & Saturdays@10:30a & Wednesdays@7p (C3 at Moore Institute \n  \nFree BABYSITTING \nDoors open at 6:30pm
URL:https://mooreinstitute.info/event/refuge-recovery/2016-10-12/
LOCATION:The Moore Institute\, 4126 Autumn Ln\, Birmingham\, AL\, 35243\, United States
GEO:33.454958;-86.732979
X-APPLE-STRUCTURED-LOCATION;VALUE=URI;X-ADDRESS=The Moore Institute 4126 Autumn Ln Birmingham AL 35243 United States;X-APPLE-RADIUS=500;X-TITLE=4126 Autumn Ln:geo:-86.732979,33.454958
END:VEVENT
BEGIN:VEVENT
DTSTART;TZID=UTC:20161015T103000
DTEND;TZID=UTC:20161015T113000
DTSTAMP:20260420T101422
CREATED:20160119T234559Z
LAST-MODIFIED:20160119T234559Z
UID:10003935-1476527400-1476531000@mooreinstitute.info
SUMMARY:Refuge Recovery
DESCRIPTION:Buddhist path of addiction recovery. MEETINGS: Fridays@5:30p & Sundays@6:30p (Shambhala Center) & Saturdays@10:30a & Wednesdays@7p (C3 at Moore Institute)
URL:https://mooreinstitute.info/event/refuge-recovery-2/2016-10-15/
LOCATION:The Moore Institute\, 4126 Autumn Ln\, Birmingham\, AL\, 35243\, United States
GEO:33.454958;-86.732979
X-APPLE-STRUCTURED-LOCATION;VALUE=URI;X-ADDRESS=The Moore Institute 4126 Autumn Ln Birmingham AL 35243 United States;X-APPLE-RADIUS=500;X-TITLE=4126 Autumn Ln:geo:-86.732979,33.454958
END:VEVENT
BEGIN:VEVENT
DTSTART;TZID=UTC:20161019T190000
DTEND;TZID=UTC:20161019T200000
DTSTAMP:20260420T101422
CREATED:20160119T234046Z
LAST-MODIFIED:20160119T234046Z
UID:10003883-1476903600-1476907200@mooreinstitute.info
SUMMARY:Refuge Recovery
DESCRIPTION:Buddhist path of addiction recovery. MEETINGS: Fridays@5:30p & Sundays@6:30p (Shambhala Center) & Saturdays@10:30a & Wednesdays@7p (C3 at Moore Institute \n  \nFree BABYSITTING \nDoors open at 6:30pm
URL:https://mooreinstitute.info/event/refuge-recovery/2016-10-19/
LOCATION:The Moore Institute\, 4126 Autumn Ln\, Birmingham\, AL\, 35243\, United States
GEO:33.454958;-86.732979
X-APPLE-STRUCTURED-LOCATION;VALUE=URI;X-ADDRESS=The Moore Institute 4126 Autumn Ln Birmingham AL 35243 United States;X-APPLE-RADIUS=500;X-TITLE=4126 Autumn Ln:geo:-86.732979,33.454958
END:VEVENT
BEGIN:VEVENT
DTSTART;TZID=UTC:20161021T080000
DTEND;TZID=UTC:20161021T120000
DTSTAMP:20260420T101422
CREATED:20160909T010216Z
LAST-MODIFIED:20160909T010300Z
UID:10004016-1477036800-1477051200@mooreinstitute.info
SUMMARY:Clinical Dharma and the MET(T)A Method with Dr Steve Dansiger
DESCRIPTION:Dr. Steve played CBGB and Max’s Kansas City in the late 70s; drank\, played in a toy rock band and then got sober in the 80s; became an international educator and rocker again in the 90s; and a sought after clinician and meditation teacher in the 2000s. Dr. Steve has attempted to cure Marc Maron on WTF\, become a master EMDR therapist and provider of Basic Training with theInstitute for Creative Mindfulness\, and with Noah Levinehelped set up the premiere Buddhist addictions rehab center\, Refuge Recovery Centers. Holding an MA in Counseling Psychology and a PsyD in Clinical Psychology\, Dr. Steve is putting finishing touches on his book Clinical Dharma (due for release October 2016)\, giving regular Dharma talks at Against the Stream Buddhist Meditation Society and with his own DharmaSpring\, beginning production of two podcasts\, seeing patients\, and supervising and guiding young clinicians.  \nDr Steve Dansinger  WORKSHOP Friday October from 8:00 am until 12 pm at C3 in The Moore Institute SPONSERED BY ADDICTION RESEARCH FOUNDATION \nRefuge Recovery is a mindfulness-based addiction treatment program that utilizes Buddhist philosophy as the cornerstone of the curriculum. Participants will be introduced to Refuge Recovery as a program\, and its implications for addictions treatment.  Partcipants will also be introduced to Clinical Dharma\, Dr. Steve’s suggested path of the 4 Noble Truths and the 8 Fold Path as a self care imperative.  Finally\, partcipants will be introduced to the MET(T)A\, which is the Mindfulness and EMDR therapy approach utilized at Refuge Recovery centers as feaured in this year’s EMDRIA Conference in Minneapolis. \nCEs  for 3 hours
URL:https://mooreinstitute.info/event/clinical-dharma-and-the-metta-method-with-dr-steve-dansiger/
LOCATION:The Moore Institute\, 4126 Autumn Ln\, Birmingham\, AL\, 35243\, United States
ORGANIZER;CN="The Moore Institute":MAILTO:pam@mooreinstitute.net
GEO:33.454958;-86.732979
X-APPLE-STRUCTURED-LOCATION;VALUE=URI;X-ADDRESS=The Moore Institute 4126 Autumn Ln Birmingham AL 35243 United States;X-APPLE-RADIUS=500;X-TITLE=4126 Autumn Ln:geo:-86.732979,33.454958
END:VEVENT
BEGIN:VEVENT
DTSTART;TZID=UTC:20161022T090000
DTEND;TZID=UTC:20161022T140000
DTSTAMP:20260420T101422
CREATED:20160909T010539Z
LAST-MODIFIED:20160909T010539Z
UID:10004017-1477126800-1477144800@mooreinstitute.info
SUMMARY:Dharma Talk and Meet and Greet with Dr Steve Dansiger
DESCRIPTION:Dr Steve Dansiger will MEET AND GREET (and Book Event) Saturday October 22rd 9 am UNTIL REFUGE RECOVERY MEETING at 10:30 -11:30 then lunch (provided by Addiction Research Foundation) and then a Dharma Talk at 1 pm LED BY Dr Steve AT THE MOORE INSTITUTE’S C3.
URL:https://mooreinstitute.info/event/dharma-talk-and-meet-and-greet-with-dr-steve-dansiger/
LOCATION:The Moore Institute\, 4126 Autumn Ln\, Birmingham\, AL\, 35243\, United States
CATEGORIES:The Moore Institute Events,Workshop
ORGANIZER;CN="The Moore Institute":MAILTO:pam@mooreinstitute.net
GEO:33.454958;-86.732979
X-APPLE-STRUCTURED-LOCATION;VALUE=URI;X-ADDRESS=The Moore Institute 4126 Autumn Ln Birmingham AL 35243 United States;X-APPLE-RADIUS=500;X-TITLE=4126 Autumn Ln:geo:-86.732979,33.454958
END:VEVENT
BEGIN:VEVENT
DTSTART;TZID=UTC:20161022T103000
DTEND;TZID=UTC:20161022T113000
DTSTAMP:20260420T101422
CREATED:20160119T234559Z
LAST-MODIFIED:20160119T234559Z
UID:10003936-1477132200-1477135800@mooreinstitute.info
SUMMARY:Refuge Recovery
DESCRIPTION:Buddhist path of addiction recovery. MEETINGS: Fridays@5:30p & Sundays@6:30p (Shambhala Center) & Saturdays@10:30a & Wednesdays@7p (C3 at Moore Institute)
URL:https://mooreinstitute.info/event/refuge-recovery-2/2016-10-22/
LOCATION:The Moore Institute\, 4126 Autumn Ln\, Birmingham\, AL\, 35243\, United States
GEO:33.454958;-86.732979
X-APPLE-STRUCTURED-LOCATION;VALUE=URI;X-ADDRESS=The Moore Institute 4126 Autumn Ln Birmingham AL 35243 United States;X-APPLE-RADIUS=500;X-TITLE=4126 Autumn Ln:geo:-86.732979,33.454958
END:VEVENT
BEGIN:VEVENT
DTSTART;TZID=UTC:20161026T190000
DTEND;TZID=UTC:20161026T200000
DTSTAMP:20260420T101422
CREATED:20160119T234046Z
LAST-MODIFIED:20160119T234046Z
UID:10003884-1477508400-1477512000@mooreinstitute.info
SUMMARY:Refuge Recovery
DESCRIPTION:Buddhist path of addiction recovery. MEETINGS: Fridays@5:30p & Sundays@6:30p (Shambhala Center) & Saturdays@10:30a & Wednesdays@7p (C3 at Moore Institute \n  \nFree BABYSITTING \nDoors open at 6:30pm
URL:https://mooreinstitute.info/event/refuge-recovery/2016-10-26/
LOCATION:The Moore Institute\, 4126 Autumn Ln\, Birmingham\, AL\, 35243\, United States
GEO:33.454958;-86.732979
X-APPLE-STRUCTURED-LOCATION;VALUE=URI;X-ADDRESS=The Moore Institute 4126 Autumn Ln Birmingham AL 35243 United States;X-APPLE-RADIUS=500;X-TITLE=4126 Autumn Ln:geo:-86.732979,33.454958
END:VEVENT
BEGIN:VEVENT
DTSTART;TZID=UTC:20161029T103000
DTEND;TZID=UTC:20161029T113000
DTSTAMP:20260420T101422
CREATED:20160119T234559Z
LAST-MODIFIED:20160119T234559Z
UID:10003937-1477737000-1477740600@mooreinstitute.info
SUMMARY:Refuge Recovery
DESCRIPTION:Buddhist path of addiction recovery. MEETINGS: Fridays@5:30p & Sundays@6:30p (Shambhala Center) & Saturdays@10:30a & Wednesdays@7p (C3 at Moore Institute)
URL:https://mooreinstitute.info/event/refuge-recovery-2/2016-10-29/
LOCATION:The Moore Institute\, 4126 Autumn Ln\, Birmingham\, AL\, 35243\, United States
GEO:33.454958;-86.732979
X-APPLE-STRUCTURED-LOCATION;VALUE=URI;X-ADDRESS=The Moore Institute 4126 Autumn Ln Birmingham AL 35243 United States;X-APPLE-RADIUS=500;X-TITLE=4126 Autumn Ln:geo:-86.732979,33.454958
END:VEVENT
END:VCALENDAR