BEGIN:VCALENDAR
VERSION:2.0
PRODID:-//The Moore Institute - ECPv6.15.20//NONSGML v1.0//EN
CALSCALE:GREGORIAN
METHOD:PUBLISH
X-WR-CALNAME:The Moore Institute
X-ORIGINAL-URL:https://mooreinstitute.info
X-WR-CALDESC:Events for The Moore Institute
REFRESH-INTERVAL;VALUE=DURATION:PT1H
X-Robots-Tag:noindex
X-PUBLISHED-TTL:PT1H
BEGIN:VTIMEZONE
TZID:UTC
BEGIN:STANDARD
TZOFFSETFROM:+0000
TZOFFSETTO:+0000
TZNAME:UTC
DTSTART:20150101T000000
END:STANDARD
END:VTIMEZONE
BEGIN:VEVENT
DTSTART;TZID=UTC:20161203T103000
DTEND;TZID=UTC:20161203T113000
DTSTAMP:20260420T002504
CREATED:20160119T234559Z
LAST-MODIFIED:20160119T234559Z
UID:10003942-1480761000-1480764600@mooreinstitute.info
SUMMARY:Refuge Recovery
DESCRIPTION:Buddhist path of addiction recovery. MEETINGS: Fridays@5:30p & Sundays@6:30p (Shambhala Center) & Saturdays@10:30a & Wednesdays@7p (C3 at Moore Institute)
URL:https://mooreinstitute.info/event/refuge-recovery-2/2016-12-03/
LOCATION:The Moore Institute\, 4126 Autumn Ln\, Birmingham\, AL\, 35243\, United States
GEO:33.454958;-86.732979
X-APPLE-STRUCTURED-LOCATION;VALUE=URI;X-ADDRESS=The Moore Institute 4126 Autumn Ln Birmingham AL 35243 United States;X-APPLE-RADIUS=500;X-TITLE=4126 Autumn Ln:geo:-86.732979,33.454958
END:VEVENT
BEGIN:VEVENT
DTSTART;TZID=UTC:20161207T190000
DTEND;TZID=UTC:20161207T200000
DTSTAMP:20260420T002504
CREATED:20160119T234046Z
LAST-MODIFIED:20160119T234046Z
UID:10003890-1481137200-1481140800@mooreinstitute.info
SUMMARY:Refuge Recovery
DESCRIPTION:Buddhist path of addiction recovery. MEETINGS: Fridays@5:30p & Sundays@6:30p (Shambhala Center) & Saturdays@10:30a & Wednesdays@7p (C3 at Moore Institute \n  \nFree BABYSITTING \nDoors open at 6:30pm
URL:https://mooreinstitute.info/event/refuge-recovery/2016-12-07/
LOCATION:The Moore Institute\, 4126 Autumn Ln\, Birmingham\, AL\, 35243\, United States
GEO:33.454958;-86.732979
X-APPLE-STRUCTURED-LOCATION;VALUE=URI;X-ADDRESS=The Moore Institute 4126 Autumn Ln Birmingham AL 35243 United States;X-APPLE-RADIUS=500;X-TITLE=4126 Autumn Ln:geo:-86.732979,33.454958
END:VEVENT
BEGIN:VEVENT
DTSTART;TZID=UTC:20161210T103000
DTEND;TZID=UTC:20161210T113000
DTSTAMP:20260420T002504
CREATED:20160119T234559Z
LAST-MODIFIED:20160119T234559Z
UID:10003943-1481365800-1481369400@mooreinstitute.info
SUMMARY:Refuge Recovery
DESCRIPTION:Buddhist path of addiction recovery. MEETINGS: Fridays@5:30p & Sundays@6:30p (Shambhala Center) & Saturdays@10:30a & Wednesdays@7p (C3 at Moore Institute)
URL:https://mooreinstitute.info/event/refuge-recovery-2/2016-12-10/
LOCATION:The Moore Institute\, 4126 Autumn Ln\, Birmingham\, AL\, 35243\, United States
GEO:33.454958;-86.732979
X-APPLE-STRUCTURED-LOCATION;VALUE=URI;X-ADDRESS=The Moore Institute 4126 Autumn Ln Birmingham AL 35243 United States;X-APPLE-RADIUS=500;X-TITLE=4126 Autumn Ln:geo:-86.732979,33.454958
END:VEVENT
BEGIN:VEVENT
DTSTART;TZID=UTC:20161214T190000
DTEND;TZID=UTC:20161214T200000
DTSTAMP:20260420T002504
CREATED:20160119T234046Z
LAST-MODIFIED:20160119T234046Z
UID:10003891-1481742000-1481745600@mooreinstitute.info
SUMMARY:Refuge Recovery
DESCRIPTION:Buddhist path of addiction recovery. MEETINGS: Fridays@5:30p & Sundays@6:30p (Shambhala Center) & Saturdays@10:30a & Wednesdays@7p (C3 at Moore Institute \n  \nFree BABYSITTING \nDoors open at 6:30pm
URL:https://mooreinstitute.info/event/refuge-recovery/2016-12-14/
LOCATION:The Moore Institute\, 4126 Autumn Ln\, Birmingham\, AL\, 35243\, United States
GEO:33.454958;-86.732979
X-APPLE-STRUCTURED-LOCATION;VALUE=URI;X-ADDRESS=The Moore Institute 4126 Autumn Ln Birmingham AL 35243 United States;X-APPLE-RADIUS=500;X-TITLE=4126 Autumn Ln:geo:-86.732979,33.454958
END:VEVENT
BEGIN:VEVENT
DTSTART;TZID=UTC:20161217T103000
DTEND;TZID=UTC:20161217T113000
DTSTAMP:20260420T002504
CREATED:20160119T234559Z
LAST-MODIFIED:20160119T234559Z
UID:10003944-1481970600-1481974200@mooreinstitute.info
SUMMARY:Refuge Recovery
DESCRIPTION:Buddhist path of addiction recovery. MEETINGS: Fridays@5:30p & Sundays@6:30p (Shambhala Center) & Saturdays@10:30a & Wednesdays@7p (C3 at Moore Institute)
URL:https://mooreinstitute.info/event/refuge-recovery-2/2016-12-17/
LOCATION:The Moore Institute\, 4126 Autumn Ln\, Birmingham\, AL\, 35243\, United States
GEO:33.454958;-86.732979
X-APPLE-STRUCTURED-LOCATION;VALUE=URI;X-ADDRESS=The Moore Institute 4126 Autumn Ln Birmingham AL 35243 United States;X-APPLE-RADIUS=500;X-TITLE=4126 Autumn Ln:geo:-86.732979,33.454958
END:VEVENT
BEGIN:VEVENT
DTSTART;TZID=UTC:20161221T190000
DTEND;TZID=UTC:20161221T200000
DTSTAMP:20260420T002504
CREATED:20160119T234046Z
LAST-MODIFIED:20160119T234046Z
UID:10003892-1482346800-1482350400@mooreinstitute.info
SUMMARY:Refuge Recovery
DESCRIPTION:Buddhist path of addiction recovery. MEETINGS: Fridays@5:30p & Sundays@6:30p (Shambhala Center) & Saturdays@10:30a & Wednesdays@7p (C3 at Moore Institute \n  \nFree BABYSITTING \nDoors open at 6:30pm
URL:https://mooreinstitute.info/event/refuge-recovery/2016-12-21/
LOCATION:The Moore Institute\, 4126 Autumn Ln\, Birmingham\, AL\, 35243\, United States
GEO:33.454958;-86.732979
X-APPLE-STRUCTURED-LOCATION;VALUE=URI;X-ADDRESS=The Moore Institute 4126 Autumn Ln Birmingham AL 35243 United States;X-APPLE-RADIUS=500;X-TITLE=4126 Autumn Ln:geo:-86.732979,33.454958
END:VEVENT
BEGIN:VEVENT
DTSTART;TZID=UTC:20161224T103000
DTEND;TZID=UTC:20161224T113000
DTSTAMP:20260420T002504
CREATED:20160119T234559Z
LAST-MODIFIED:20160119T234559Z
UID:10003945-1482575400-1482579000@mooreinstitute.info
SUMMARY:Refuge Recovery
DESCRIPTION:Buddhist path of addiction recovery. MEETINGS: Fridays@5:30p & Sundays@6:30p (Shambhala Center) & Saturdays@10:30a & Wednesdays@7p (C3 at Moore Institute)
URL:https://mooreinstitute.info/event/refuge-recovery-2/2016-12-24/
LOCATION:The Moore Institute\, 4126 Autumn Ln\, Birmingham\, AL\, 35243\, United States
GEO:33.454958;-86.732979
X-APPLE-STRUCTURED-LOCATION;VALUE=URI;X-ADDRESS=The Moore Institute 4126 Autumn Ln Birmingham AL 35243 United States;X-APPLE-RADIUS=500;X-TITLE=4126 Autumn Ln:geo:-86.732979,33.454958
END:VEVENT
BEGIN:VEVENT
DTSTART;TZID=UTC:20161228T190000
DTEND;TZID=UTC:20161228T200000
DTSTAMP:20260420T002504
CREATED:20160119T234046Z
LAST-MODIFIED:20160119T234046Z
UID:10003893-1482951600-1482955200@mooreinstitute.info
SUMMARY:Refuge Recovery
DESCRIPTION:Buddhist path of addiction recovery. MEETINGS: Fridays@5:30p & Sundays@6:30p (Shambhala Center) & Saturdays@10:30a & Wednesdays@7p (C3 at Moore Institute \n  \nFree BABYSITTING \nDoors open at 6:30pm
URL:https://mooreinstitute.info/event/refuge-recovery/2016-12-28/
LOCATION:The Moore Institute\, 4126 Autumn Ln\, Birmingham\, AL\, 35243\, United States
GEO:33.454958;-86.732979
X-APPLE-STRUCTURED-LOCATION;VALUE=URI;X-ADDRESS=The Moore Institute 4126 Autumn Ln Birmingham AL 35243 United States;X-APPLE-RADIUS=500;X-TITLE=4126 Autumn Ln:geo:-86.732979,33.454958
END:VEVENT
BEGIN:VEVENT
DTSTART;TZID=UTC:20161231T103000
DTEND;TZID=UTC:20161231T113000
DTSTAMP:20260420T002504
CREATED:20160119T234559Z
LAST-MODIFIED:20160119T234559Z
UID:10003946-1483180200-1483183800@mooreinstitute.info
SUMMARY:Refuge Recovery
DESCRIPTION:Buddhist path of addiction recovery. MEETINGS: Fridays@5:30p & Sundays@6:30p (Shambhala Center) & Saturdays@10:30a & Wednesdays@7p (C3 at Moore Institute)
URL:https://mooreinstitute.info/event/refuge-recovery-2/2016-12-31/
LOCATION:The Moore Institute\, 4126 Autumn Ln\, Birmingham\, AL\, 35243\, United States
GEO:33.454958;-86.732979
X-APPLE-STRUCTURED-LOCATION;VALUE=URI;X-ADDRESS=The Moore Institute 4126 Autumn Ln Birmingham AL 35243 United States;X-APPLE-RADIUS=500;X-TITLE=4126 Autumn Ln:geo:-86.732979,33.454958
END:VEVENT
END:VCALENDAR