BEGIN:VCALENDAR
VERSION:2.0
PRODID:-//The Moore Institute - ECPv6.15.20//NONSGML v1.0//EN
CALSCALE:GREGORIAN
METHOD:PUBLISH
X-WR-CALNAME:The Moore Institute
X-ORIGINAL-URL:https://mooreinstitute.info
X-WR-CALDESC:Events for The Moore Institute
REFRESH-INTERVAL;VALUE=DURATION:PT1H
X-Robots-Tag:noindex
X-PUBLISHED-TTL:PT1H
BEGIN:VTIMEZONE
TZID:UTC
BEGIN:STANDARD
TZOFFSETFROM:+0000
TZOFFSETTO:+0000
TZNAME:UTC
DTSTART:20170101T000000
END:STANDARD
END:VTIMEZONE
BEGIN:VEVENT
DTSTART;TZID=UTC:20180904T180000
DTEND;TZID=UTC:20180904T193000
DTSTAMP:20260425T124227
CREATED:20170921T002132Z
LAST-MODIFIED:20170921T002132Z
UID:10005163-1536084000-1536089400@mooreinstitute.info
SUMMARY:SMART Recovery and SMART for Friends and Family
DESCRIPTION:CBT Recovery for Addicts/ Alcoholism \nCBT Recovery For Friends and Family
URL:https://mooreinstitute.info/event/smart-recovery-and-smart-for-friends-and-family/2018-09-04/
END:VEVENT
BEGIN:VEVENT
DTSTART;TZID=UTC:20180905T103000
DTEND;TZID=UTC:20180905T113000
DTSTAMP:20260425T124227
CREATED:20170921T001912Z
LAST-MODIFIED:20170921T001912Z
UID:10004834-1536143400-1536147000@mooreinstitute.info
SUMMARY:Refuge Recovery
DESCRIPTION:Buddhist Inspired Recovery From All Addictions \nAll Are Welcomed!!
URL:https://mooreinstitute.info/event/refuge-recovery-7/2018-09-05/
END:VEVENT
BEGIN:VEVENT
DTSTART;TZID=UTC:20180905T190000
DTEND;TZID=UTC:20180905T200000
DTSTAMP:20260425T124227
CREATED:20170921T001611Z
LAST-MODIFIED:20170921T001646Z
UID:10004779-1536174000-1536177600@mooreinstitute.info
SUMMARY:Refuge Recovery - Childcare Provided
DESCRIPTION:Buddhist Inspired Recovery From All Addictions!  All are welcomed!
URL:https://mooreinstitute.info/event/refuge-recovery-childcare-provided/2018-09-05/
END:VEVENT
BEGIN:VEVENT
DTSTART;TZID=UTC:20180911T180000
DTEND;TZID=UTC:20180911T193000
DTSTAMP:20260425T124227
CREATED:20170921T002132Z
LAST-MODIFIED:20170921T002132Z
UID:10005164-1536688800-1536694200@mooreinstitute.info
SUMMARY:SMART Recovery and SMART for Friends and Family
DESCRIPTION:CBT Recovery for Addicts/ Alcoholism \nCBT Recovery For Friends and Family
URL:https://mooreinstitute.info/event/smart-recovery-and-smart-for-friends-and-family/2018-09-11/
END:VEVENT
BEGIN:VEVENT
DTSTART;TZID=UTC:20180912T103000
DTEND;TZID=UTC:20180912T113000
DTSTAMP:20260425T124227
CREATED:20170921T001912Z
LAST-MODIFIED:20170921T001912Z
UID:10004835-1536748200-1536751800@mooreinstitute.info
SUMMARY:Refuge Recovery
DESCRIPTION:Buddhist Inspired Recovery From All Addictions \nAll Are Welcomed!!
URL:https://mooreinstitute.info/event/refuge-recovery-7/2018-09-12/
END:VEVENT
BEGIN:VEVENT
DTSTART;TZID=UTC:20180912T190000
DTEND;TZID=UTC:20180912T200000
DTSTAMP:20260425T124227
CREATED:20170921T001611Z
LAST-MODIFIED:20170921T001646Z
UID:10004780-1536778800-1536782400@mooreinstitute.info
SUMMARY:Refuge Recovery - Childcare Provided
DESCRIPTION:Buddhist Inspired Recovery From All Addictions!  All are welcomed!
URL:https://mooreinstitute.info/event/refuge-recovery-childcare-provided/2018-09-12/
END:VEVENT
BEGIN:VEVENT
DTSTART;TZID=UTC:20180912T190000
DTEND;TZID=UTC:20180912T200000
DTSTAMP:20260425T124227
CREATED:20170921T001611Z
LAST-MODIFIED:20170921T003523Z
UID:10004781-1536778800-1536782400@mooreinstitute.info
SUMMARY:Refuge Recovery - Childcare Provided
DESCRIPTION:Buddhist Inspired Recovery From All Addictions!  All are welcomed!
URL:https://mooreinstitute.info/event/refuge-recovery-childcare-provided-2018-09-12/2018-09-12/
END:VEVENT
BEGIN:VEVENT
DTSTART;TZID=UTC:20180918T180000
DTEND;TZID=UTC:20180918T193000
DTSTAMP:20260425T124227
CREATED:20170921T002132Z
LAST-MODIFIED:20170921T002132Z
UID:10005165-1537293600-1537299000@mooreinstitute.info
SUMMARY:SMART Recovery and SMART for Friends and Family
DESCRIPTION:CBT Recovery for Addicts/ Alcoholism \nCBT Recovery For Friends and Family
URL:https://mooreinstitute.info/event/smart-recovery-and-smart-for-friends-and-family/2018-09-18/
END:VEVENT
BEGIN:VEVENT
DTSTART;TZID=UTC:20180919T103000
DTEND;TZID=UTC:20180919T113000
DTSTAMP:20260425T124227
CREATED:20170921T001912Z
LAST-MODIFIED:20170921T001912Z
UID:10004836-1537353000-1537356600@mooreinstitute.info
SUMMARY:Refuge Recovery
DESCRIPTION:Buddhist Inspired Recovery From All Addictions \nAll Are Welcomed!!
URL:https://mooreinstitute.info/event/refuge-recovery-7/2018-09-19/
END:VEVENT
BEGIN:VEVENT
DTSTART;TZID=UTC:20180919T190000
DTEND;TZID=UTC:20180919T200000
DTSTAMP:20260425T124227
CREATED:20170921T001611Z
LAST-MODIFIED:20170921T003523Z
UID:10004782-1537383600-1537387200@mooreinstitute.info
SUMMARY:Refuge Recovery - Childcare Provided
DESCRIPTION:Buddhist Inspired Recovery From All Addictions!  All are welcomed!
URL:https://mooreinstitute.info/event/refuge-recovery-childcare-provided-2018-09-12/2018-09-19/
END:VEVENT
BEGIN:VEVENT
DTSTART;TZID=UTC:20180925T180000
DTEND;TZID=UTC:20180925T193000
DTSTAMP:20260425T124227
CREATED:20170921T002132Z
LAST-MODIFIED:20170921T002132Z
UID:10005166-1537898400-1537903800@mooreinstitute.info
SUMMARY:SMART Recovery and SMART for Friends and Family
DESCRIPTION:CBT Recovery for Addicts/ Alcoholism \nCBT Recovery For Friends and Family
URL:https://mooreinstitute.info/event/smart-recovery-and-smart-for-friends-and-family/2018-09-25/
END:VEVENT
BEGIN:VEVENT
DTSTART;TZID=UTC:20180926T103000
DTEND;TZID=UTC:20180926T113000
DTSTAMP:20260425T124227
CREATED:20170921T001912Z
LAST-MODIFIED:20170921T001912Z
UID:10004837-1537957800-1537961400@mooreinstitute.info
SUMMARY:Refuge Recovery
DESCRIPTION:Buddhist Inspired Recovery From All Addictions \nAll Are Welcomed!!
URL:https://mooreinstitute.info/event/refuge-recovery-7/2018-09-26/
END:VEVENT
BEGIN:VEVENT
DTSTART;TZID=UTC:20180926T190000
DTEND;TZID=UTC:20180926T200000
DTSTAMP:20260425T124227
CREATED:20170921T001611Z
LAST-MODIFIED:20170921T003523Z
UID:10004783-1537988400-1537992000@mooreinstitute.info
SUMMARY:Refuge Recovery - Childcare Provided
DESCRIPTION:Buddhist Inspired Recovery From All Addictions!  All are welcomed!
URL:https://mooreinstitute.info/event/refuge-recovery-childcare-provided-2018-09-12/2018-09-26/
END:VEVENT
END:VCALENDAR