BEGIN:VCALENDAR
VERSION:2.0
PRODID:-//The Moore Institute - ECPv6.15.20//NONSGML v1.0//EN
CALSCALE:GREGORIAN
METHOD:PUBLISH
X-WR-CALNAME:The Moore Institute
X-ORIGINAL-URL:https://mooreinstitute.info
X-WR-CALDESC:Events for The Moore Institute
REFRESH-INTERVAL;VALUE=DURATION:PT1H
X-Robots-Tag:noindex
X-PUBLISHED-TTL:PT1H
BEGIN:VTIMEZONE
TZID:UTC
BEGIN:STANDARD
TZOFFSETFROM:+0000
TZOFFSETTO:+0000
TZNAME:UTC
DTSTART:20170101T000000
END:STANDARD
END:VTIMEZONE
BEGIN:VEVENT
DTSTART;TZID=UTC:20181002T180000
DTEND;TZID=UTC:20181002T193000
DTSTAMP:20260425T111305
CREATED:20170921T002132Z
LAST-MODIFIED:20170921T002132Z
UID:10005167-1538503200-1538508600@mooreinstitute.info
SUMMARY:SMART Recovery and SMART for Friends and Family
DESCRIPTION:CBT Recovery for Addicts/ Alcoholism \nCBT Recovery For Friends and Family
URL:https://mooreinstitute.info/event/smart-recovery-and-smart-for-friends-and-family/2018-10-02/
END:VEVENT
BEGIN:VEVENT
DTSTART;TZID=UTC:20181003T103000
DTEND;TZID=UTC:20181003T113000
DTSTAMP:20260425T111306
CREATED:20170921T001912Z
LAST-MODIFIED:20170921T001912Z
UID:10004838-1538562600-1538566200@mooreinstitute.info
SUMMARY:Refuge Recovery
DESCRIPTION:Buddhist Inspired Recovery From All Addictions \nAll Are Welcomed!!
URL:https://mooreinstitute.info/event/refuge-recovery-7/2018-10-03/
END:VEVENT
BEGIN:VEVENT
DTSTART;TZID=UTC:20181009T180000
DTEND;TZID=UTC:20181009T193000
DTSTAMP:20260425T111306
CREATED:20170921T002132Z
LAST-MODIFIED:20170921T002132Z
UID:10005168-1539108000-1539113400@mooreinstitute.info
SUMMARY:SMART Recovery and SMART for Friends and Family
DESCRIPTION:CBT Recovery for Addicts/ Alcoholism \nCBT Recovery For Friends and Family
URL:https://mooreinstitute.info/event/smart-recovery-and-smart-for-friends-and-family/2018-10-09/
END:VEVENT
BEGIN:VEVENT
DTSTART;TZID=UTC:20181010T103000
DTEND;TZID=UTC:20181010T113000
DTSTAMP:20260425T111306
CREATED:20170921T001912Z
LAST-MODIFIED:20170921T001912Z
UID:10004839-1539167400-1539171000@mooreinstitute.info
SUMMARY:Refuge Recovery
DESCRIPTION:Buddhist Inspired Recovery From All Addictions \nAll Are Welcomed!!
URL:https://mooreinstitute.info/event/refuge-recovery-7/2018-10-10/
END:VEVENT
BEGIN:VEVENT
DTSTART;TZID=UTC:20181016T180000
DTEND;TZID=UTC:20181016T193000
DTSTAMP:20260425T111306
CREATED:20170921T002132Z
LAST-MODIFIED:20170921T002132Z
UID:10005169-1539712800-1539718200@mooreinstitute.info
SUMMARY:SMART Recovery and SMART for Friends and Family
DESCRIPTION:CBT Recovery for Addicts/ Alcoholism \nCBT Recovery For Friends and Family
URL:https://mooreinstitute.info/event/smart-recovery-and-smart-for-friends-and-family/2018-10-16/
END:VEVENT
BEGIN:VEVENT
DTSTART;TZID=UTC:20181017T103000
DTEND;TZID=UTC:20181017T113000
DTSTAMP:20260425T111306
CREATED:20170921T001912Z
LAST-MODIFIED:20170921T001912Z
UID:10004840-1539772200-1539775800@mooreinstitute.info
SUMMARY:Refuge Recovery
DESCRIPTION:Buddhist Inspired Recovery From All Addictions \nAll Are Welcomed!!
URL:https://mooreinstitute.info/event/refuge-recovery-7/2018-10-17/
END:VEVENT
BEGIN:VEVENT
DTSTART;TZID=UTC:20181023T180000
DTEND;TZID=UTC:20181023T193000
DTSTAMP:20260425T111306
CREATED:20170921T002132Z
LAST-MODIFIED:20170921T002132Z
UID:10005170-1540317600-1540323000@mooreinstitute.info
SUMMARY:SMART Recovery and SMART for Friends and Family
DESCRIPTION:CBT Recovery for Addicts/ Alcoholism \nCBT Recovery For Friends and Family
URL:https://mooreinstitute.info/event/smart-recovery-and-smart-for-friends-and-family/2018-10-23/
END:VEVENT
BEGIN:VEVENT
DTSTART;TZID=UTC:20181024T103000
DTEND;TZID=UTC:20181024T113000
DTSTAMP:20260425T111306
CREATED:20170921T001912Z
LAST-MODIFIED:20170921T001912Z
UID:10004841-1540377000-1540380600@mooreinstitute.info
SUMMARY:Refuge Recovery
DESCRIPTION:Buddhist Inspired Recovery From All Addictions \nAll Are Welcomed!!
URL:https://mooreinstitute.info/event/refuge-recovery-7/2018-10-24/
END:VEVENT
BEGIN:VEVENT
DTSTART;TZID=UTC:20181030T180000
DTEND;TZID=UTC:20181030T193000
DTSTAMP:20260425T111306
CREATED:20170921T002132Z
LAST-MODIFIED:20170921T002132Z
UID:10005171-1540922400-1540927800@mooreinstitute.info
SUMMARY:SMART Recovery and SMART for Friends and Family
DESCRIPTION:CBT Recovery for Addicts/ Alcoholism \nCBT Recovery For Friends and Family
URL:https://mooreinstitute.info/event/smart-recovery-and-smart-for-friends-and-family/2018-10-30/
END:VEVENT
BEGIN:VEVENT
DTSTART;TZID=UTC:20181031T103000
DTEND;TZID=UTC:20181031T113000
DTSTAMP:20260425T111306
CREATED:20170921T001912Z
LAST-MODIFIED:20170921T001912Z
UID:10004842-1540981800-1540985400@mooreinstitute.info
SUMMARY:Refuge Recovery
DESCRIPTION:Buddhist Inspired Recovery From All Addictions \nAll Are Welcomed!!
URL:https://mooreinstitute.info/event/refuge-recovery-7/2018-10-31/
END:VEVENT
END:VCALENDAR