BEGIN:VCALENDAR
VERSION:2.0
PRODID:-//The Moore Institute - ECPv6.15.20//NONSGML v1.0//EN
CALSCALE:GREGORIAN
METHOD:PUBLISH
X-WR-CALNAME:The Moore Institute
X-ORIGINAL-URL:https://mooreinstitute.info
X-WR-CALDESC:Events for The Moore Institute
REFRESH-INTERVAL;VALUE=DURATION:PT1H
X-Robots-Tag:noindex
X-PUBLISHED-TTL:PT1H
BEGIN:VTIMEZONE
TZID:UTC
BEGIN:STANDARD
TZOFFSETFROM:+0000
TZOFFSETTO:+0000
TZNAME:UTC
DTSTART:20170101T000000
END:STANDARD
END:VTIMEZONE
BEGIN:VEVENT
DTSTART;TZID=UTC:20181106T180000
DTEND;TZID=UTC:20181106T193000
DTSTAMP:20260425T062132
CREATED:20170921T002132Z
LAST-MODIFIED:20170921T002132Z
UID:10005172-1541527200-1541532600@mooreinstitute.info
SUMMARY:SMART Recovery and SMART for Friends and Family
DESCRIPTION:CBT Recovery for Addicts/ Alcoholism \nCBT Recovery For Friends and Family
URL:https://mooreinstitute.info/event/smart-recovery-and-smart-for-friends-and-family/2018-11-06/
END:VEVENT
BEGIN:VEVENT
DTSTART;TZID=UTC:20181107T103000
DTEND;TZID=UTC:20181107T113000
DTSTAMP:20260425T062132
CREATED:20170921T001912Z
LAST-MODIFIED:20170921T001912Z
UID:10004843-1541586600-1541590200@mooreinstitute.info
SUMMARY:Refuge Recovery
DESCRIPTION:Buddhist Inspired Recovery From All Addictions \nAll Are Welcomed!!
URL:https://mooreinstitute.info/event/refuge-recovery-7/2018-11-07/
END:VEVENT
BEGIN:VEVENT
DTSTART;TZID=UTC:20181113T180000
DTEND;TZID=UTC:20181113T193000
DTSTAMP:20260425T062132
CREATED:20170921T002132Z
LAST-MODIFIED:20170921T002132Z
UID:10005173-1542132000-1542137400@mooreinstitute.info
SUMMARY:SMART Recovery and SMART for Friends and Family
DESCRIPTION:CBT Recovery for Addicts/ Alcoholism \nCBT Recovery For Friends and Family
URL:https://mooreinstitute.info/event/smart-recovery-and-smart-for-friends-and-family/2018-11-13/
END:VEVENT
BEGIN:VEVENT
DTSTART;TZID=UTC:20181114T103000
DTEND;TZID=UTC:20181114T113000
DTSTAMP:20260425T062132
CREATED:20170921T001912Z
LAST-MODIFIED:20170921T001912Z
UID:10004844-1542191400-1542195000@mooreinstitute.info
SUMMARY:Refuge Recovery
DESCRIPTION:Buddhist Inspired Recovery From All Addictions \nAll Are Welcomed!!
URL:https://mooreinstitute.info/event/refuge-recovery-7/2018-11-14/
END:VEVENT
BEGIN:VEVENT
DTSTART;TZID=UTC:20181120T180000
DTEND;TZID=UTC:20181120T193000
DTSTAMP:20260425T062132
CREATED:20170921T002132Z
LAST-MODIFIED:20170921T002132Z
UID:10005174-1542736800-1542742200@mooreinstitute.info
SUMMARY:SMART Recovery and SMART for Friends and Family
DESCRIPTION:CBT Recovery for Addicts/ Alcoholism \nCBT Recovery For Friends and Family
URL:https://mooreinstitute.info/event/smart-recovery-and-smart-for-friends-and-family/2018-11-20/
END:VEVENT
BEGIN:VEVENT
DTSTART;TZID=UTC:20181121T103000
DTEND;TZID=UTC:20181121T113000
DTSTAMP:20260425T062132
CREATED:20170921T001912Z
LAST-MODIFIED:20170921T001912Z
UID:10004845-1542796200-1542799800@mooreinstitute.info
SUMMARY:Refuge Recovery
DESCRIPTION:Buddhist Inspired Recovery From All Addictions \nAll Are Welcomed!!
URL:https://mooreinstitute.info/event/refuge-recovery-7/2018-11-21/
END:VEVENT
BEGIN:VEVENT
DTSTART;TZID=UTC:20181127T180000
DTEND;TZID=UTC:20181127T193000
DTSTAMP:20260425T062132
CREATED:20170921T002132Z
LAST-MODIFIED:20170921T002132Z
UID:10005175-1543341600-1543347000@mooreinstitute.info
SUMMARY:SMART Recovery and SMART for Friends and Family
DESCRIPTION:CBT Recovery for Addicts/ Alcoholism \nCBT Recovery For Friends and Family
URL:https://mooreinstitute.info/event/smart-recovery-and-smart-for-friends-and-family/2018-11-27/
END:VEVENT
BEGIN:VEVENT
DTSTART;TZID=UTC:20181128T103000
DTEND;TZID=UTC:20181128T113000
DTSTAMP:20260425T062132
CREATED:20170921T001912Z
LAST-MODIFIED:20170921T001912Z
UID:10004846-1543401000-1543404600@mooreinstitute.info
SUMMARY:Refuge Recovery
DESCRIPTION:Buddhist Inspired Recovery From All Addictions \nAll Are Welcomed!!
URL:https://mooreinstitute.info/event/refuge-recovery-7/2018-11-28/
END:VEVENT
END:VCALENDAR