BEGIN:VCALENDAR
VERSION:2.0
PRODID:-//The Moore Institute - ECPv6.15.20//NONSGML v1.0//EN
CALSCALE:GREGORIAN
METHOD:PUBLISH
X-WR-CALNAME:The Moore Institute
X-ORIGINAL-URL:https://mooreinstitute.info
X-WR-CALDESC:Events for The Moore Institute
REFRESH-INTERVAL;VALUE=DURATION:PT1H
X-Robots-Tag:noindex
X-PUBLISHED-TTL:PT1H
BEGIN:VTIMEZONE
TZID:UTC
BEGIN:STANDARD
TZOFFSETFROM:+0000
TZOFFSETTO:+0000
TZNAME:UTC
DTSTART:20180101T000000
END:STANDARD
END:VTIMEZONE
BEGIN:VEVENT
DTSTART;TZID=UTC:20191001T180000
DTEND;TZID=UTC:20191001T193000
DTSTAMP:20260421T125025
CREATED:20170921T002132Z
LAST-MODIFIED:20170921T002132Z
UID:10005219-1569952800-1569958200@mooreinstitute.info
SUMMARY:SMART Recovery and SMART for Friends and Family
DESCRIPTION:CBT Recovery for Addicts/ Alcoholism \nCBT Recovery For Friends and Family
URL:https://mooreinstitute.info/event/smart-recovery-and-smart-for-friends-and-family/2019-10-01/
END:VEVENT
BEGIN:VEVENT
DTSTART;TZID=UTC:20191002T103000
DTEND;TZID=UTC:20191002T113000
DTSTAMP:20260421T125025
CREATED:20170921T001912Z
LAST-MODIFIED:20170921T001912Z
UID:10004890-1570012200-1570015800@mooreinstitute.info
SUMMARY:Refuge Recovery
DESCRIPTION:Buddhist Inspired Recovery From All Addictions \nAll Are Welcomed!!
URL:https://mooreinstitute.info/event/refuge-recovery-7/2019-10-02/
END:VEVENT
BEGIN:VEVENT
DTSTART;TZID=UTC:20191003T180000
DTEND;TZID=UTC:20191003T203000
DTSTAMP:20260421T125025
CREATED:20190720T004608Z
LAST-MODIFIED:20190720T004737Z
UID:10003381-1570125600-1570134600@mooreinstitute.info
SUMMARY:PALS - Parents (and loved ones) of Addicted Love Ones
DESCRIPTION:
URL:https://mooreinstitute.info/event/pals-parents-and-loved-ones-of-addicted-love-ones/2019-10-03/
CATEGORIES:Self Help Meeting
END:VEVENT
BEGIN:VEVENT
DTSTART;TZID=UTC:20191004T180000
DTEND;TZID=UTC:20191004T190000
DTSTAMP:20260421T125025
CREATED:20240116T061518Z
LAST-MODIFIED:20240116T061518Z
UID:10005853-1570212000-1570215600@mooreinstitute.info
SUMMARY:GRASP   Grief Recovery After a Substance Passing
DESCRIPTION:Anyone who has lost a loved one through substance use knows that society treats this loss differently than a death from any other cause. There is the belief that the one who died must have somehow been a bad person. And for those of us left behind\, that we too must have somehow been a bad person. We must have been a bad parent\, a bad spouse\, a bad partner\, a bad sibling\, a bad friend\, or the person we love wouldn’t have died. But we are not bad people. The one we lost was not a bad person. There is no blame here. For them or for you. They did their best. They struggled with their disease but\, ultimately\, this disease took their life. And however you tried to save them\, you did your best. Because that’s what love does. \n\n\n\n\n\n\nGrief Recovery After Substance Passing (GRASP) was created to offer understanding\, compassion\, and support for those who have lost someone they love through addiction and overdose. Too many times we suffer not only the death of the person we love\, but we become isolated in our grief. We feel\, and too many times it is true\, that no one understands our pain. But at GRASP\, we do. We have suffered this same kind of loss and we have found the love and connection that only those who have lived this loss can give another. And while the pain of this loss will always be with us\, we have found through GRASP that we don’t have to walk the road that is our pain alone. We walk it together; hand in hand and heart to heart. \nCome\, join us. And become a part of the healing community that is GRASP! \n\n\nContact Lori Ritter at 205-910-0789 or loricritter@bellsouth.net for information and to pre-register
URL:https://mooreinstitute.info/event/grasp-grief-recovery-after-a-substance-passing/2019-10-04/
CATEGORIES:Self Help Meeting
END:VEVENT
BEGIN:VEVENT
DTSTART;TZID=UTC:20191006T173000
DTEND;TZID=UTC:20191006T193000
DTSTAMP:20260421T125025
CREATED:20181210T235812Z
LAST-MODIFIED:20190302T190856Z
UID:10005863-1570383000-1570390200@mooreinstitute.info
SUMMARY:Y12SR Birmingham
DESCRIPTION:50 minute 12-step like discussion and 50 minute yoga practice with a 10 minute break. By donation only. \nDiscussion Topic: Spiritual principles of the first 3 steps include HOW (Honesty\, Open-mindedness\, Willingness)\, Acceptance\, Surrender\, Hope\, Faith\, Trust. How do we apply them in our everyday lives? \nYoga Practice: The Panchamaya Kosha Model (The 5 Bodies)\nWhat are they? How the human system is an integrated whole and what happens when there is an imbalance. \n\nGrounding Practice: Radiant Heart Breath\nPranayama (Breathwork): Nadi Shodhana (Alternate Nostril Breathing)\nAsana (Poses): Gentle and preparatory for Meditation\nMeditation: Yoga Nidra Practice (Yogic Sleep)\, Pure Awareness
URL:https://mooreinstitute.info/event/y12sr-birmingham/2019-10-06/
CATEGORIES:Self Help Meeting
END:VEVENT
BEGIN:VEVENT
DTSTART;TZID=UTC:20191008T180000
DTEND;TZID=UTC:20191008T193000
DTSTAMP:20260421T125025
CREATED:20170921T002132Z
LAST-MODIFIED:20170921T002132Z
UID:10005220-1570557600-1570563000@mooreinstitute.info
SUMMARY:SMART Recovery and SMART for Friends and Family
DESCRIPTION:CBT Recovery for Addicts/ Alcoholism \nCBT Recovery For Friends and Family
URL:https://mooreinstitute.info/event/smart-recovery-and-smart-for-friends-and-family/2019-10-08/
END:VEVENT
BEGIN:VEVENT
DTSTART;TZID=UTC:20191009T103000
DTEND;TZID=UTC:20191009T113000
DTSTAMP:20260421T125025
CREATED:20170921T001912Z
LAST-MODIFIED:20170921T001912Z
UID:10004891-1570617000-1570620600@mooreinstitute.info
SUMMARY:Refuge Recovery
DESCRIPTION:Buddhist Inspired Recovery From All Addictions \nAll Are Welcomed!!
URL:https://mooreinstitute.info/event/refuge-recovery-7/2019-10-09/
END:VEVENT
BEGIN:VEVENT
DTSTART;TZID=UTC:20191010T180000
DTEND;TZID=UTC:20191010T203000
DTSTAMP:20260421T125025
CREATED:20190720T004608Z
LAST-MODIFIED:20190720T004737Z
UID:10003382-1570730400-1570739400@mooreinstitute.info
SUMMARY:PALS - Parents (and loved ones) of Addicted Love Ones
DESCRIPTION:
URL:https://mooreinstitute.info/event/pals-parents-and-loved-ones-of-addicted-love-ones/2019-10-10/
CATEGORIES:Self Help Meeting
END:VEVENT
BEGIN:VEVENT
DTSTART;TZID=UTC:20191015T180000
DTEND;TZID=UTC:20191015T193000
DTSTAMP:20260421T125025
CREATED:20170921T002132Z
LAST-MODIFIED:20170921T002132Z
UID:10005221-1571162400-1571167800@mooreinstitute.info
SUMMARY:SMART Recovery and SMART for Friends and Family
DESCRIPTION:CBT Recovery for Addicts/ Alcoholism \nCBT Recovery For Friends and Family
URL:https://mooreinstitute.info/event/smart-recovery-and-smart-for-friends-and-family/2019-10-15/
END:VEVENT
BEGIN:VEVENT
DTSTART;TZID=UTC:20191016T103000
DTEND;TZID=UTC:20191016T113000
DTSTAMP:20260421T125025
CREATED:20170921T001912Z
LAST-MODIFIED:20170921T001912Z
UID:10004892-1571221800-1571225400@mooreinstitute.info
SUMMARY:Refuge Recovery
DESCRIPTION:Buddhist Inspired Recovery From All Addictions \nAll Are Welcomed!!
URL:https://mooreinstitute.info/event/refuge-recovery-7/2019-10-16/
END:VEVENT
BEGIN:VEVENT
DTSTART;TZID=UTC:20191017T180000
DTEND;TZID=UTC:20191017T203000
DTSTAMP:20260421T125025
CREATED:20190720T004608Z
LAST-MODIFIED:20190720T004737Z
UID:10003383-1571335200-1571344200@mooreinstitute.info
SUMMARY:PALS - Parents (and loved ones) of Addicted Love Ones
DESCRIPTION:
URL:https://mooreinstitute.info/event/pals-parents-and-loved-ones-of-addicted-love-ones/2019-10-17/
CATEGORIES:Self Help Meeting
END:VEVENT
BEGIN:VEVENT
DTSTART;TZID=UTC:20191018T180000
DTEND;TZID=UTC:20191018T190000
DTSTAMP:20260421T125025
CREATED:20181210T234650Z
LAST-MODIFIED:20181210T235017Z
UID:10005841-1571421600-1571425200@mooreinstitute.info
SUMMARY:GRASP   Grief Recovery After a Substance Passing
DESCRIPTION:Anyone who has lost a loved one through substance use knows that society treats this loss differently than a death from any other cause. There is the belief that the one who died must have somehow been a bad person. And for those of us left behind\, that we too must have somehow been a bad person. We must have been a bad parent\, a bad spouse\, a bad partner\, a bad sibling\, a bad friend\, or the person we love wouldn’t have died. But we are not bad people. The one we lost was not a bad person. There is no blame here. For them or for you. They did their best. They struggled with their disease but\, ultimately\, this disease took their life. And however you tried to save them\, you did your best. Because that’s what love does. \n\n\n\n\n\n\nGrief Recovery After Substance Passing (GRASP) was created to offer understanding\, compassion\, and support for those who have lost someone they love through addiction and overdose. Too many times we suffer not only the death of the person we love\, but we become isolated in our grief. We feel\, and too many times it is true\, that no one understands our pain. But at GRASP\, we do. We have suffered this same kind of loss and we have found the love and connection that only those who have lived this loss can give another. And while the pain of this loss will always be with us\, we have found through GRASP that we don’t have to walk the road that is our pain alone. We walk it together; hand in hand and heart to heart. \nCome\, join us. And become a part of the healing community that is GRASP! \n\n\nContact Lori Ritter at 205-910-0789 or loricritter@bellsouth.net for information and to pre-register
URL:https://mooreinstitute.info/event/grasp-grief-recovery-after-a-substance-passing/2019-10-18/
CATEGORIES:Self Help Meeting
END:VEVENT
BEGIN:VEVENT
DTSTART;TZID=UTC:20191020T173000
DTEND;TZID=UTC:20191020T193000
DTSTAMP:20260421T125025
CREATED:20240116T061518Z
LAST-MODIFIED:20240116T061518Z
UID:10005876-1571592600-1571599800@mooreinstitute.info
SUMMARY:Y12SR Birmingham
DESCRIPTION:50 minute 12-step like discussion and 50 minute yoga practice with a 10 minute break. By donation only. \nDiscussion Topic: Spiritual principles of the first 3 steps include HOW (Honesty\, Open-mindedness\, Willingness)\, Acceptance\, Surrender\, Hope\, Faith\, Trust. How do we apply them in our everyday lives? \nYoga Practice: The Panchamaya Kosha Model (The 5 Bodies)\nWhat are they? How the human system is an integrated whole and what happens when there is an imbalance. \n\nGrounding Practice: Radiant Heart Breath\nPranayama (Breathwork): Nadi Shodhana (Alternate Nostril Breathing)\nAsana (Poses): Gentle and preparatory for Meditation\nMeditation: Yoga Nidra Practice (Yogic Sleep)\, Pure Awareness
URL:https://mooreinstitute.info/event/y12sr-birmingham/2019-10-20/
CATEGORIES:Self Help Meeting
END:VEVENT
BEGIN:VEVENT
DTSTART;TZID=UTC:20191022T180000
DTEND;TZID=UTC:20191022T193000
DTSTAMP:20260421T125025
CREATED:20170921T002132Z
LAST-MODIFIED:20170921T002132Z
UID:10005222-1571767200-1571772600@mooreinstitute.info
SUMMARY:SMART Recovery and SMART for Friends and Family
DESCRIPTION:CBT Recovery for Addicts/ Alcoholism \nCBT Recovery For Friends and Family
URL:https://mooreinstitute.info/event/smart-recovery-and-smart-for-friends-and-family/2019-10-22/
END:VEVENT
BEGIN:VEVENT
DTSTART;TZID=UTC:20191023T103000
DTEND;TZID=UTC:20191023T113000
DTSTAMP:20260421T125025
CREATED:20170921T001912Z
LAST-MODIFIED:20170921T001912Z
UID:10004893-1571826600-1571830200@mooreinstitute.info
SUMMARY:Refuge Recovery
DESCRIPTION:Buddhist Inspired Recovery From All Addictions \nAll Are Welcomed!!
URL:https://mooreinstitute.info/event/refuge-recovery-7/2019-10-23/
END:VEVENT
BEGIN:VEVENT
DTSTART;TZID=UTC:20191024T180000
DTEND;TZID=UTC:20191024T203000
DTSTAMP:20260421T125025
CREATED:20190720T004608Z
LAST-MODIFIED:20190720T004737Z
UID:10003384-1571940000-1571949000@mooreinstitute.info
SUMMARY:PALS - Parents (and loved ones) of Addicted Love Ones
DESCRIPTION:
URL:https://mooreinstitute.info/event/pals-parents-and-loved-ones-of-addicted-love-ones/2019-10-24/
CATEGORIES:Self Help Meeting
END:VEVENT
BEGIN:VEVENT
DTSTART;TZID=UTC:20191027T140000
DTEND;TZID=UTC:20191027T153000
DTSTAMP:20260421T125025
CREATED:20181211T000840Z
LAST-MODIFIED:20181211T000840Z
UID:10005891-1572184800-1572190200@mooreinstitute.info
SUMMARY:ILLUMAN
DESCRIPTION:MEET OTHER MEN COMMITTED TO BECOMING BETTER\, MORE AUTHENTIC MEN\n  \nIlluman is a not for profit organization for men who are simply interested in becoming better\, more authentic men. We welcome all men to our work without regard for your ethnicity\, class\, education\, sexual orientation\, religion or any other characteristic that might make you feel excluded. \nIlluman’s Implementation Of Council\nThe Way of Council is Illuman’s primary practice\, implemented at all levels of our work\, from rites of passage to chapter meetings\, from our homes to our wider communities. We respect this enough to equip men to do it well\, but we acknowledge that council emerges apart from our efforts to control it. Circles have an archetypal life of their own. Council is the best teacher of council. \n\n\n\nThe Four Intentions of Council \n\nListen from the heart.\nSpeak from the heart.\nBe spontaneous and authentic.\nBe lean of expression.
URL:https://mooreinstitute.info/event/illuman/2019-10-27/
CATEGORIES:Self Help Meeting,Workshop
END:VEVENT
BEGIN:VEVENT
DTSTART;TZID=UTC:20191029T180000
DTEND;TZID=UTC:20191029T193000
DTSTAMP:20260421T125025
CREATED:20170921T002132Z
LAST-MODIFIED:20170921T002132Z
UID:10005223-1572372000-1572377400@mooreinstitute.info
SUMMARY:SMART Recovery and SMART for Friends and Family
DESCRIPTION:CBT Recovery for Addicts/ Alcoholism \nCBT Recovery For Friends and Family
URL:https://mooreinstitute.info/event/smart-recovery-and-smart-for-friends-and-family/2019-10-29/
END:VEVENT
BEGIN:VEVENT
DTSTART;TZID=UTC:20191030T103000
DTEND;TZID=UTC:20191030T113000
DTSTAMP:20260421T125025
CREATED:20170921T001912Z
LAST-MODIFIED:20170921T001912Z
UID:10004894-1572431400-1572435000@mooreinstitute.info
SUMMARY:Refuge Recovery
DESCRIPTION:Buddhist Inspired Recovery From All Addictions \nAll Are Welcomed!!
URL:https://mooreinstitute.info/event/refuge-recovery-7/2019-10-30/
END:VEVENT
BEGIN:VEVENT
DTSTART;TZID=UTC:20191031T180000
DTEND;TZID=UTC:20191031T203000
DTSTAMP:20260421T125025
CREATED:20190720T004608Z
LAST-MODIFIED:20190720T004737Z
UID:10003385-1572544800-1572553800@mooreinstitute.info
SUMMARY:PALS - Parents (and loved ones) of Addicted Love Ones
DESCRIPTION:
URL:https://mooreinstitute.info/event/pals-parents-and-loved-ones-of-addicted-love-ones/2019-10-31/
CATEGORIES:Self Help Meeting
END:VEVENT
END:VCALENDAR