BEGIN:VCALENDAR
VERSION:2.0
PRODID:-//The Moore Institute - ECPv6.15.20//NONSGML v1.0//EN
CALSCALE:GREGORIAN
METHOD:PUBLISH
X-WR-CALNAME:The Moore Institute
X-ORIGINAL-URL:https://mooreinstitute.info
X-WR-CALDESC:Events for The Moore Institute
REFRESH-INTERVAL;VALUE=DURATION:PT1H
X-Robots-Tag:noindex
X-PUBLISHED-TTL:PT1H
BEGIN:VTIMEZONE
TZID:UTC
BEGIN:STANDARD
TZOFFSETFROM:+0000
TZOFFSETTO:+0000
TZNAME:UTC
DTSTART:20180101T000000
END:STANDARD
END:VTIMEZONE
BEGIN:VEVENT
DTSTART;TZID=UTC:20191101T180000
DTEND;TZID=UTC:20191101T190000
DTSTAMP:20260421T072013
CREATED:20240116T061518Z
LAST-MODIFIED:20240116T061518Z
UID:10005854-1572631200-1572634800@mooreinstitute.info
SUMMARY:GRASP   Grief Recovery After a Substance Passing
DESCRIPTION:Anyone who has lost a loved one through substance use knows that society treats this loss differently than a death from any other cause. There is the belief that the one who died must have somehow been a bad person. And for those of us left behind\, that we too must have somehow been a bad person. We must have been a bad parent\, a bad spouse\, a bad partner\, a bad sibling\, a bad friend\, or the person we love wouldn’t have died. But we are not bad people. The one we lost was not a bad person. There is no blame here. For them or for you. They did their best. They struggled with their disease but\, ultimately\, this disease took their life. And however you tried to save them\, you did your best. Because that’s what love does. \n\n\n\n\n\n\nGrief Recovery After Substance Passing (GRASP) was created to offer understanding\, compassion\, and support for those who have lost someone they love through addiction and overdose. Too many times we suffer not only the death of the person we love\, but we become isolated in our grief. We feel\, and too many times it is true\, that no one understands our pain. But at GRASP\, we do. We have suffered this same kind of loss and we have found the love and connection that only those who have lived this loss can give another. And while the pain of this loss will always be with us\, we have found through GRASP that we don’t have to walk the road that is our pain alone. We walk it together; hand in hand and heart to heart. \nCome\, join us. And become a part of the healing community that is GRASP! \n\n\nContact Lori Ritter at 205-910-0789 or loricritter@bellsouth.net for information and to pre-register
URL:https://mooreinstitute.info/event/grasp-grief-recovery-after-a-substance-passing/2019-11-01/
CATEGORIES:Self Help Meeting
END:VEVENT
BEGIN:VEVENT
DTSTART;TZID=UTC:20191103T173000
DTEND;TZID=UTC:20191103T193000
DTSTAMP:20260421T072013
CREATED:20181210T235812Z
LAST-MODIFIED:20190302T190856Z
UID:10005864-1572802200-1572809400@mooreinstitute.info
SUMMARY:Y12SR Birmingham
DESCRIPTION:50 minute 12-step like discussion and 50 minute yoga practice with a 10 minute break. By donation only. \nDiscussion Topic: Spiritual principles of the first 3 steps include HOW (Honesty\, Open-mindedness\, Willingness)\, Acceptance\, Surrender\, Hope\, Faith\, Trust. How do we apply them in our everyday lives? \nYoga Practice: The Panchamaya Kosha Model (The 5 Bodies)\nWhat are they? How the human system is an integrated whole and what happens when there is an imbalance. \n\nGrounding Practice: Radiant Heart Breath\nPranayama (Breathwork): Nadi Shodhana (Alternate Nostril Breathing)\nAsana (Poses): Gentle and preparatory for Meditation\nMeditation: Yoga Nidra Practice (Yogic Sleep)\, Pure Awareness
URL:https://mooreinstitute.info/event/y12sr-birmingham/2019-11-03/
CATEGORIES:Self Help Meeting
END:VEVENT
BEGIN:VEVENT
DTSTART;TZID=UTC:20191105T180000
DTEND;TZID=UTC:20191105T193000
DTSTAMP:20260421T072013
CREATED:20170921T002132Z
LAST-MODIFIED:20170921T002132Z
UID:10005224-1572976800-1572982200@mooreinstitute.info
SUMMARY:SMART Recovery and SMART for Friends and Family
DESCRIPTION:CBT Recovery for Addicts/ Alcoholism \nCBT Recovery For Friends and Family
URL:https://mooreinstitute.info/event/smart-recovery-and-smart-for-friends-and-family/2019-11-05/
END:VEVENT
BEGIN:VEVENT
DTSTART;TZID=UTC:20191106T103000
DTEND;TZID=UTC:20191106T113000
DTSTAMP:20260421T072013
CREATED:20170921T001912Z
LAST-MODIFIED:20170921T001912Z
UID:10004895-1573036200-1573039800@mooreinstitute.info
SUMMARY:Refuge Recovery
DESCRIPTION:Buddhist Inspired Recovery From All Addictions \nAll Are Welcomed!!
URL:https://mooreinstitute.info/event/refuge-recovery-7/2019-11-06/
END:VEVENT
BEGIN:VEVENT
DTSTART;TZID=UTC:20191107T180000
DTEND;TZID=UTC:20191107T203000
DTSTAMP:20260421T072013
CREATED:20190720T004608Z
LAST-MODIFIED:20190720T004737Z
UID:10003386-1573149600-1573158600@mooreinstitute.info
SUMMARY:PALS - Parents (and loved ones) of Addicted Love Ones
DESCRIPTION:
URL:https://mooreinstitute.info/event/pals-parents-and-loved-ones-of-addicted-love-ones/2019-11-07/
CATEGORIES:Self Help Meeting
END:VEVENT
BEGIN:VEVENT
DTSTART;TZID=UTC:20191112T180000
DTEND;TZID=UTC:20191112T193000
DTSTAMP:20260421T072013
CREATED:20170921T002132Z
LAST-MODIFIED:20170921T002132Z
UID:10005225-1573581600-1573587000@mooreinstitute.info
SUMMARY:SMART Recovery and SMART for Friends and Family
DESCRIPTION:CBT Recovery for Addicts/ Alcoholism \nCBT Recovery For Friends and Family
URL:https://mooreinstitute.info/event/smart-recovery-and-smart-for-friends-and-family/2019-11-12/
END:VEVENT
BEGIN:VEVENT
DTSTART;TZID=UTC:20191113T103000
DTEND;TZID=UTC:20191113T113000
DTSTAMP:20260421T072013
CREATED:20170921T001912Z
LAST-MODIFIED:20170921T001912Z
UID:10004896-1573641000-1573644600@mooreinstitute.info
SUMMARY:Refuge Recovery
DESCRIPTION:Buddhist Inspired Recovery From All Addictions \nAll Are Welcomed!!
URL:https://mooreinstitute.info/event/refuge-recovery-7/2019-11-13/
END:VEVENT
BEGIN:VEVENT
DTSTART;TZID=UTC:20191114T180000
DTEND;TZID=UTC:20191114T203000
DTSTAMP:20260421T072013
CREATED:20190720T004608Z
LAST-MODIFIED:20190720T004737Z
UID:10003387-1573754400-1573763400@mooreinstitute.info
SUMMARY:PALS - Parents (and loved ones) of Addicted Love Ones
DESCRIPTION:
URL:https://mooreinstitute.info/event/pals-parents-and-loved-ones-of-addicted-love-ones/2019-11-14/
CATEGORIES:Self Help Meeting
END:VEVENT
BEGIN:VEVENT
DTSTART;TZID=UTC:20191115T180000
DTEND;TZID=UTC:20191115T190000
DTSTAMP:20260421T072013
CREATED:20181210T234650Z
LAST-MODIFIED:20181210T235017Z
UID:10005842-1573840800-1573844400@mooreinstitute.info
SUMMARY:GRASP   Grief Recovery After a Substance Passing
DESCRIPTION:Anyone who has lost a loved one through substance use knows that society treats this loss differently than a death from any other cause. There is the belief that the one who died must have somehow been a bad person. And for those of us left behind\, that we too must have somehow been a bad person. We must have been a bad parent\, a bad spouse\, a bad partner\, a bad sibling\, a bad friend\, or the person we love wouldn’t have died. But we are not bad people. The one we lost was not a bad person. There is no blame here. For them or for you. They did their best. They struggled with their disease but\, ultimately\, this disease took their life. And however you tried to save them\, you did your best. Because that’s what love does. \n\n\n\n\n\n\nGrief Recovery After Substance Passing (GRASP) was created to offer understanding\, compassion\, and support for those who have lost someone they love through addiction and overdose. Too many times we suffer not only the death of the person we love\, but we become isolated in our grief. We feel\, and too many times it is true\, that no one understands our pain. But at GRASP\, we do. We have suffered this same kind of loss and we have found the love and connection that only those who have lived this loss can give another. And while the pain of this loss will always be with us\, we have found through GRASP that we don’t have to walk the road that is our pain alone. We walk it together; hand in hand and heart to heart. \nCome\, join us. And become a part of the healing community that is GRASP! \n\n\nContact Lori Ritter at 205-910-0789 or loricritter@bellsouth.net for information and to pre-register
URL:https://mooreinstitute.info/event/grasp-grief-recovery-after-a-substance-passing/2019-11-15/
CATEGORIES:Self Help Meeting
END:VEVENT
BEGIN:VEVENT
DTSTART;TZID=UTC:20191117T173000
DTEND;TZID=UTC:20191117T193000
DTSTAMP:20260421T072013
CREATED:20240116T061518Z
LAST-MODIFIED:20240116T061518Z
UID:10005877-1574011800-1574019000@mooreinstitute.info
SUMMARY:Y12SR Birmingham
DESCRIPTION:50 minute 12-step like discussion and 50 minute yoga practice with a 10 minute break. By donation only. \nDiscussion Topic: Spiritual principles of the first 3 steps include HOW (Honesty\, Open-mindedness\, Willingness)\, Acceptance\, Surrender\, Hope\, Faith\, Trust. How do we apply them in our everyday lives? \nYoga Practice: The Panchamaya Kosha Model (The 5 Bodies)\nWhat are they? How the human system is an integrated whole and what happens when there is an imbalance. \n\nGrounding Practice: Radiant Heart Breath\nPranayama (Breathwork): Nadi Shodhana (Alternate Nostril Breathing)\nAsana (Poses): Gentle and preparatory for Meditation\nMeditation: Yoga Nidra Practice (Yogic Sleep)\, Pure Awareness
URL:https://mooreinstitute.info/event/y12sr-birmingham/2019-11-17/
CATEGORIES:Self Help Meeting
END:VEVENT
BEGIN:VEVENT
DTSTART;TZID=UTC:20191119T180000
DTEND;TZID=UTC:20191119T193000
DTSTAMP:20260421T072013
CREATED:20170921T002132Z
LAST-MODIFIED:20170921T002132Z
UID:10005226-1574186400-1574191800@mooreinstitute.info
SUMMARY:SMART Recovery and SMART for Friends and Family
DESCRIPTION:CBT Recovery for Addicts/ Alcoholism \nCBT Recovery For Friends and Family
URL:https://mooreinstitute.info/event/smart-recovery-and-smart-for-friends-and-family/2019-11-19/
END:VEVENT
BEGIN:VEVENT
DTSTART;TZID=UTC:20191120T103000
DTEND;TZID=UTC:20191120T113000
DTSTAMP:20260421T072013
CREATED:20170921T001912Z
LAST-MODIFIED:20170921T001912Z
UID:10004897-1574245800-1574249400@mooreinstitute.info
SUMMARY:Refuge Recovery
DESCRIPTION:Buddhist Inspired Recovery From All Addictions \nAll Are Welcomed!!
URL:https://mooreinstitute.info/event/refuge-recovery-7/2019-11-20/
END:VEVENT
BEGIN:VEVENT
DTSTART;TZID=UTC:20191121T180000
DTEND;TZID=UTC:20191121T203000
DTSTAMP:20260421T072013
CREATED:20190720T004608Z
LAST-MODIFIED:20190720T004737Z
UID:10003388-1574359200-1574368200@mooreinstitute.info
SUMMARY:PALS - Parents (and loved ones) of Addicted Love Ones
DESCRIPTION:
URL:https://mooreinstitute.info/event/pals-parents-and-loved-ones-of-addicted-love-ones/2019-11-21/
CATEGORIES:Self Help Meeting
END:VEVENT
BEGIN:VEVENT
DTSTART;TZID=UTC:20191124T140000
DTEND;TZID=UTC:20191124T153000
DTSTAMP:20260421T072013
CREATED:20181211T000840Z
LAST-MODIFIED:20181211T000840Z
UID:10005892-1574604000-1574609400@mooreinstitute.info
SUMMARY:ILLUMAN
DESCRIPTION:MEET OTHER MEN COMMITTED TO BECOMING BETTER\, MORE AUTHENTIC MEN\n  \nIlluman is a not for profit organization for men who are simply interested in becoming better\, more authentic men. We welcome all men to our work without regard for your ethnicity\, class\, education\, sexual orientation\, religion or any other characteristic that might make you feel excluded. \nIlluman’s Implementation Of Council\nThe Way of Council is Illuman’s primary practice\, implemented at all levels of our work\, from rites of passage to chapter meetings\, from our homes to our wider communities. We respect this enough to equip men to do it well\, but we acknowledge that council emerges apart from our efforts to control it. Circles have an archetypal life of their own. Council is the best teacher of council. \n\n\n\nThe Four Intentions of Council \n\nListen from the heart.\nSpeak from the heart.\nBe spontaneous and authentic.\nBe lean of expression.
URL:https://mooreinstitute.info/event/illuman/2019-11-24/
CATEGORIES:Self Help Meeting,Workshop
END:VEVENT
BEGIN:VEVENT
DTSTART;TZID=UTC:20191126T180000
DTEND;TZID=UTC:20191126T193000
DTSTAMP:20260421T072013
CREATED:20170921T002132Z
LAST-MODIFIED:20170921T002132Z
UID:10005227-1574791200-1574796600@mooreinstitute.info
SUMMARY:SMART Recovery and SMART for Friends and Family
DESCRIPTION:CBT Recovery for Addicts/ Alcoholism \nCBT Recovery For Friends and Family
URL:https://mooreinstitute.info/event/smart-recovery-and-smart-for-friends-and-family/2019-11-26/
END:VEVENT
BEGIN:VEVENT
DTSTART;TZID=UTC:20191127T103000
DTEND;TZID=UTC:20191127T113000
DTSTAMP:20260421T072013
CREATED:20170921T001912Z
LAST-MODIFIED:20170921T001912Z
UID:10004898-1574850600-1574854200@mooreinstitute.info
SUMMARY:Refuge Recovery
DESCRIPTION:Buddhist Inspired Recovery From All Addictions \nAll Are Welcomed!!
URL:https://mooreinstitute.info/event/refuge-recovery-7/2019-11-27/
END:VEVENT
END:VCALENDAR