BEGIN:VCALENDAR
VERSION:2.0
PRODID:-//The Moore Institute - ECPv6.15.20//NONSGML v1.0//EN
CALSCALE:GREGORIAN
METHOD:PUBLISH
X-WR-CALNAME:The Moore Institute
X-ORIGINAL-URL:https://mooreinstitute.info
X-WR-CALDESC:Events for The Moore Institute
REFRESH-INTERVAL;VALUE=DURATION:PT1H
X-Robots-Tag:noindex
X-PUBLISHED-TTL:PT1H
BEGIN:VTIMEZONE
TZID:UTC
BEGIN:STANDARD
TZOFFSETFROM:+0000
TZOFFSETTO:+0000
TZNAME:UTC
DTSTART:20190101T000000
END:STANDARD
END:VTIMEZONE
BEGIN:VEVENT
DTSTART;TZID=UTC:20200804T180000
DTEND;TZID=UTC:20200804T193000
DTSTAMP:20260419T113959
CREATED:20170921T002132Z
LAST-MODIFIED:20170921T002132Z
UID:10005263-1596564000-1596569400@mooreinstitute.info
SUMMARY:SMART Recovery and SMART for Friends and Family
DESCRIPTION:CBT Recovery for Addicts/ Alcoholism \nCBT Recovery For Friends and Family
URL:https://mooreinstitute.info/event/smart-recovery-and-smart-for-friends-and-family/2020-08-04/
END:VEVENT
BEGIN:VEVENT
DTSTART;TZID=UTC:20200805T103000
DTEND;TZID=UTC:20200805T113000
DTSTAMP:20260419T113959
CREATED:20170921T001912Z
LAST-MODIFIED:20170921T001912Z
UID:10004934-1596623400-1596627000@mooreinstitute.info
SUMMARY:Refuge Recovery
DESCRIPTION:Buddhist Inspired Recovery From All Addictions \nAll Are Welcomed!!
URL:https://mooreinstitute.info/event/refuge-recovery-7/2020-08-05/
END:VEVENT
BEGIN:VEVENT
DTSTART;TZID=UTC:20200811T180000
DTEND;TZID=UTC:20200811T193000
DTSTAMP:20260419T113959
CREATED:20170921T002132Z
LAST-MODIFIED:20170921T002132Z
UID:10005264-1597168800-1597174200@mooreinstitute.info
SUMMARY:SMART Recovery and SMART for Friends and Family
DESCRIPTION:CBT Recovery for Addicts/ Alcoholism \nCBT Recovery For Friends and Family
URL:https://mooreinstitute.info/event/smart-recovery-and-smart-for-friends-and-family/2020-08-11/
END:VEVENT
BEGIN:VEVENT
DTSTART;TZID=UTC:20200812T103000
DTEND;TZID=UTC:20200812T113000
DTSTAMP:20260419T113959
CREATED:20170921T001912Z
LAST-MODIFIED:20170921T001912Z
UID:10004935-1597228200-1597231800@mooreinstitute.info
SUMMARY:Refuge Recovery
DESCRIPTION:Buddhist Inspired Recovery From All Addictions \nAll Are Welcomed!!
URL:https://mooreinstitute.info/event/refuge-recovery-7/2020-08-12/
END:VEVENT
BEGIN:VEVENT
DTSTART;TZID=UTC:20200818T180000
DTEND;TZID=UTC:20200818T193000
DTSTAMP:20260419T113959
CREATED:20170921T002132Z
LAST-MODIFIED:20170921T002132Z
UID:10005265-1597773600-1597779000@mooreinstitute.info
SUMMARY:SMART Recovery and SMART for Friends and Family
DESCRIPTION:CBT Recovery for Addicts/ Alcoholism \nCBT Recovery For Friends and Family
URL:https://mooreinstitute.info/event/smart-recovery-and-smart-for-friends-and-family/2020-08-18/
END:VEVENT
BEGIN:VEVENT
DTSTART;TZID=UTC:20200819T103000
DTEND;TZID=UTC:20200819T113000
DTSTAMP:20260419T113959
CREATED:20170921T001912Z
LAST-MODIFIED:20170921T001912Z
UID:10004936-1597833000-1597836600@mooreinstitute.info
SUMMARY:Refuge Recovery
DESCRIPTION:Buddhist Inspired Recovery From All Addictions \nAll Are Welcomed!!
URL:https://mooreinstitute.info/event/refuge-recovery-7/2020-08-19/
END:VEVENT
BEGIN:VEVENT
DTSTART;TZID=UTC:20200825T180000
DTEND;TZID=UTC:20200825T193000
DTSTAMP:20260419T113959
CREATED:20170921T002132Z
LAST-MODIFIED:20170921T002132Z
UID:10005266-1598378400-1598383800@mooreinstitute.info
SUMMARY:SMART Recovery and SMART for Friends and Family
DESCRIPTION:CBT Recovery for Addicts/ Alcoholism \nCBT Recovery For Friends and Family
URL:https://mooreinstitute.info/event/smart-recovery-and-smart-for-friends-and-family/2020-08-25/
END:VEVENT
BEGIN:VEVENT
DTSTART;TZID=UTC:20200826T103000
DTEND;TZID=UTC:20200826T113000
DTSTAMP:20260419T113959
CREATED:20170921T001912Z
LAST-MODIFIED:20170921T001912Z
UID:10004937-1598437800-1598441400@mooreinstitute.info
SUMMARY:Refuge Recovery
DESCRIPTION:Buddhist Inspired Recovery From All Addictions \nAll Are Welcomed!!
URL:https://mooreinstitute.info/event/refuge-recovery-7/2020-08-26/
END:VEVENT
END:VCALENDAR