BEGIN:VCALENDAR
VERSION:2.0
PRODID:-//The Moore Institute - ECPv6.15.20//NONSGML v1.0//EN
CALSCALE:GREGORIAN
METHOD:PUBLISH
X-WR-CALNAME:The Moore Institute
X-ORIGINAL-URL:https://mooreinstitute.info
X-WR-CALDESC:Events for The Moore Institute
REFRESH-INTERVAL;VALUE=DURATION:PT1H
X-Robots-Tag:noindex
X-PUBLISHED-TTL:PT1H
BEGIN:VTIMEZONE
TZID:UTC
BEGIN:STANDARD
TZOFFSETFROM:+0000
TZOFFSETTO:+0000
TZNAME:UTC
DTSTART:20220101T000000
END:STANDARD
END:VTIMEZONE
BEGIN:VEVENT
DTSTART;TZID=UTC:20230503T190000
DTEND;TZID=UTC:20230503T200000
DTSTAMP:20260419T124344
CREATED:20221109T221806Z
LAST-MODIFIED:20221109T221806Z
UID:10003571-1683140400-1683144000@mooreinstitute.info
SUMMARY:Recovery Dharma
DESCRIPTION:Recovery Dharma is a peer-led\, grassroots\, democratically-structured organization. Our mission is to support individuals on their path of recovery from addiction using Buddhist practices and principles. \n  \nwww.recoverydharma.org \n 
URL:https://mooreinstitute.info/event/recovery-dharma-6/2023-05-03/
LOCATION:The Moore Institute\, 4126 Autumn Ln\, Birmingham\, AL\, 35243\, United States
GEO:33.454958;-86.732979
X-APPLE-STRUCTURED-LOCATION;VALUE=URI;X-ADDRESS=The Moore Institute 4126 Autumn Ln Birmingham AL 35243 United States;X-APPLE-RADIUS=500;X-TITLE=4126 Autumn Ln:geo:-86.732979,33.454958
END:VEVENT
BEGIN:VEVENT
DTSTART;TZID=UTC:20230501T180000
DTEND;TZID=UTC:20230501T190000
DTSTAMP:20260419T124344
CREATED:20240116T061519Z
LAST-MODIFIED:20240116T061519Z
UID:10006405-1682964000-1682967600@mooreinstitute.info
SUMMARY:Recovery Dharma
DESCRIPTION:Recovery Dharma is a peer-led movement and community that is unified by our trust in the potential of each of us to recover and find freedom from the suffering of addiction. We believe that the traditional Buddhist teachings\, often referred to as the Dharma\, offer a powerful approach to healing from addiction and living a life of true freedom. \nWe believe that recovery means empowerment\, and we support each other as partners walking the path together. We believe that recovery is rooted in finding our own inner wisdom and individual journeys.
URL:https://mooreinstitute.info/event/recovery-dharma-8/2023-05-01/
LOCATION:The Moore Institute\, 4126 Autumn Ln\, Birmingham\, AL\, 35243\, United States
GEO:33.454958;-86.732979
X-APPLE-STRUCTURED-LOCATION;VALUE=URI;X-ADDRESS=The Moore Institute 4126 Autumn Ln Birmingham AL 35243 United States;X-APPLE-RADIUS=500;X-TITLE=4126 Autumn Ln:geo:-86.732979,33.454958
END:VEVENT
BEGIN:VEVENT
DTSTART;TZID=UTC:20230501T180000
DTEND;TZID=UTC:20230501T190000
DTSTAMP:20260419T124344
CREATED:20230116T233640Z
LAST-MODIFIED:20230116T233640Z
UID:10003646-1682964000-1682967600@mooreinstitute.info
SUMMARY:Recovery Dharma
DESCRIPTION:Recovery Dharma is a peer-led\, grassroots\, democratically-structured organization. Our mission is to support individuals on their path of recovery from addiction using Buddhist practices and principles. \n  \nwww.recoverydharma.org
URL:https://mooreinstitute.info/event/recovery-dharma-7/2023-05-01/
LOCATION:The Moore Institute\, 4126 Autumn Ln\, Birmingham\, AL\, 35243\, United States
GEO:33.454958;-86.732979
X-APPLE-STRUCTURED-LOCATION;VALUE=URI;X-ADDRESS=The Moore Institute 4126 Autumn Ln Birmingham AL 35243 United States;X-APPLE-RADIUS=500;X-TITLE=4126 Autumn Ln:geo:-86.732979,33.454958
END:VEVENT
BEGIN:VEVENT
DTSTART;TZID=UTC:20230501T103000
DTEND;TZID=UTC:20230501T113000
DTSTAMP:20260419T124344
CREATED:20240116T061505Z
LAST-MODIFIED:20240116T061505Z
UID:10003710-1682937000-1682940600@mooreinstitute.info
SUMMARY:Recovery Dharma
DESCRIPTION:Recovery Dharma is a peer-led\, grassroots\, democratically-structured organization. Our mission is to support individuals on their path of recovery from addiction using Buddhist practices and principles. \n  \nwww.recoverydharma.org
URL:https://mooreinstitute.info/event/recovery-dharma-7/2023-05-01/
LOCATION:The Moore Institute\, 4126 Autumn Ln\, Birmingham\, AL\, 35243\, United States
GEO:33.454958;-86.732979
X-APPLE-STRUCTURED-LOCATION;VALUE=URI;X-ADDRESS=The Moore Institute 4126 Autumn Ln Birmingham AL 35243 United States;X-APPLE-RADIUS=500;X-TITLE=4126 Autumn Ln:geo:-86.732979,33.454958
END:VEVENT
BEGIN:VEVENT
DTSTART;TZID=UTC:20230429T103000
DTEND;TZID=UTC:20230429T233000
DTSTAMP:20260419T124344
CREATED:20230315T210058Z
LAST-MODIFIED:20230315T212704Z
UID:10006348-1682764200-1682811000@mooreinstitute.info
SUMMARY:Recovery Dharma
DESCRIPTION:Recovery Dharma is a peer-led movement and community that is unified by our trust in the potential of each of us to recover and find freedom from the suffering of addiction. We believe that the traditional Buddhist teachings\, often referred to as the Dharma\, offer a powerful approach to healing from addiction and living a life of true freedom. \nWe believe that recovery means empowerment\, and we support each other as partners walking the path together. We believe that recovery is rooted in finding our own inner wisdom and individual journeys.
URL:https://mooreinstitute.info/event/recovery-dharma-8/2023-04-29/
LOCATION:The Moore Institute\, 4126 Autumn Ln\, Birmingham\, AL\, 35243\, United States
GEO:33.454958;-86.732979
X-APPLE-STRUCTURED-LOCATION;VALUE=URI;X-ADDRESS=The Moore Institute 4126 Autumn Ln Birmingham AL 35243 United States;X-APPLE-RADIUS=500;X-TITLE=4126 Autumn Ln:geo:-86.732979,33.454958
END:VEVENT
BEGIN:VEVENT
DTSTART;TZID=UTC:20230429T103000
DTEND;TZID=UTC:20230429T113000
DTSTAMP:20260419T124344
CREATED:20240116T061505Z
LAST-MODIFIED:20240116T061505Z
UID:10003709-1682764200-1682767800@mooreinstitute.info
SUMMARY:Recovery Dharma
DESCRIPTION:Recovery Dharma is a peer-led\, grassroots\, democratically-structured organization. Our mission is to support individuals on their path of recovery from addiction using Buddhist practices and principles. \n  \nwww.recoverydharma.org
URL:https://mooreinstitute.info/event/recovery-dharma-7/2023-04-29/
LOCATION:The Moore Institute\, 4126 Autumn Ln\, Birmingham\, AL\, 35243\, United States
GEO:33.454958;-86.732979
X-APPLE-STRUCTURED-LOCATION;VALUE=URI;X-ADDRESS=The Moore Institute 4126 Autumn Ln Birmingham AL 35243 United States;X-APPLE-RADIUS=500;X-TITLE=4126 Autumn Ln:geo:-86.732979,33.454958
END:VEVENT
BEGIN:VEVENT
DTSTART;TZID=UTC:20230426T190000
DTEND;TZID=UTC:20230426T200000
DTSTAMP:20260419T124344
CREATED:20240116T061519Z
LAST-MODIFIED:20240116T061519Z
UID:10006460-1682535600-1682539200@mooreinstitute.info
SUMMARY:Recovery Dharma
DESCRIPTION:Recovery Dharma is a peer-led movement and community that is unified by our trust in the potential of each of us to recover and find freedom from the suffering of addiction. We believe that the traditional Buddhist teachings\, often referred to as the Dharma\, offer a powerful approach to healing from addiction and living a life of true freedom. \nWe believe that recovery means empowerment\, and we support each other as partners walking the path together. We believe that recovery is rooted in finding our own inner wisdom and individual journeys.
URL:https://mooreinstitute.info/event/recovery-dharma-8/2023-04-26/
LOCATION:The Moore Institute\, 4126 Autumn Ln\, Birmingham\, AL\, 35243\, United States
GEO:33.454958;-86.732979
X-APPLE-STRUCTURED-LOCATION;VALUE=URI;X-ADDRESS=The Moore Institute 4126 Autumn Ln Birmingham AL 35243 United States;X-APPLE-RADIUS=500;X-TITLE=4126 Autumn Ln:geo:-86.732979,33.454958
END:VEVENT
BEGIN:VEVENT
DTSTART;TZID=UTC:20230426T190000
DTEND;TZID=UTC:20230426T200000
DTSTAMP:20260419T124344
CREATED:20240116T061505Z
LAST-MODIFIED:20240116T061505Z
UID:10003794-1682535600-1682539200@mooreinstitute.info
SUMMARY:Recovery Dharma
DESCRIPTION:Recovery Dharma is a peer-led\, grassroots\, democratically-structured organization. Our mission is to support individuals on their path of recovery from addiction using Buddhist practices and principles. \n  \nwww.recoverydharma.org
URL:https://mooreinstitute.info/event/recovery-dharma-7/2023-04-26/
LOCATION:The Moore Institute\, 4126 Autumn Ln\, Birmingham\, AL\, 35243\, United States
GEO:33.454958;-86.732979
X-APPLE-STRUCTURED-LOCATION;VALUE=URI;X-ADDRESS=The Moore Institute 4126 Autumn Ln Birmingham AL 35243 United States;X-APPLE-RADIUS=500;X-TITLE=4126 Autumn Ln:geo:-86.732979,33.454958
END:VEVENT
BEGIN:VEVENT
DTSTART;TZID=UTC:20230426T190000
DTEND;TZID=UTC:20230426T200000
DTSTAMP:20260419T124344
CREATED:20221109T221806Z
LAST-MODIFIED:20221109T221806Z
UID:10003570-1682535600-1682539200@mooreinstitute.info
SUMMARY:Recovery Dharma
DESCRIPTION:Recovery Dharma is a peer-led\, grassroots\, democratically-structured organization. Our mission is to support individuals on their path of recovery from addiction using Buddhist practices and principles. \n  \nwww.recoverydharma.org \n 
URL:https://mooreinstitute.info/event/recovery-dharma-6/2023-04-26/
LOCATION:The Moore Institute\, 4126 Autumn Ln\, Birmingham\, AL\, 35243\, United States
GEO:33.454958;-86.732979
X-APPLE-STRUCTURED-LOCATION;VALUE=URI;X-ADDRESS=The Moore Institute 4126 Autumn Ln Birmingham AL 35243 United States;X-APPLE-RADIUS=500;X-TITLE=4126 Autumn Ln:geo:-86.732979,33.454958
END:VEVENT
BEGIN:VEVENT
DTSTART;TZID=UTC:20230424T180000
DTEND;TZID=UTC:20230424T190000
DTSTAMP:20260419T124344
CREATED:20240116T061519Z
LAST-MODIFIED:20240116T061519Z
UID:10006404-1682359200-1682362800@mooreinstitute.info
SUMMARY:Recovery Dharma
DESCRIPTION:Recovery Dharma is a peer-led movement and community that is unified by our trust in the potential of each of us to recover and find freedom from the suffering of addiction. We believe that the traditional Buddhist teachings\, often referred to as the Dharma\, offer a powerful approach to healing from addiction and living a life of true freedom. \nWe believe that recovery means empowerment\, and we support each other as partners walking the path together. We believe that recovery is rooted in finding our own inner wisdom and individual journeys.
URL:https://mooreinstitute.info/event/recovery-dharma-8/2023-04-24/
LOCATION:The Moore Institute\, 4126 Autumn Ln\, Birmingham\, AL\, 35243\, United States
GEO:33.454958;-86.732979
X-APPLE-STRUCTURED-LOCATION;VALUE=URI;X-ADDRESS=The Moore Institute 4126 Autumn Ln Birmingham AL 35243 United States;X-APPLE-RADIUS=500;X-TITLE=4126 Autumn Ln:geo:-86.732979,33.454958
END:VEVENT
BEGIN:VEVENT
DTSTART;TZID=UTC:20230424T180000
DTEND;TZID=UTC:20230424T190000
DTSTAMP:20260419T124344
CREATED:20230116T233640Z
LAST-MODIFIED:20230116T233640Z
UID:10003645-1682359200-1682362800@mooreinstitute.info
SUMMARY:Recovery Dharma
DESCRIPTION:Recovery Dharma is a peer-led\, grassroots\, democratically-structured organization. Our mission is to support individuals on their path of recovery from addiction using Buddhist practices and principles. \n  \nwww.recoverydharma.org
URL:https://mooreinstitute.info/event/recovery-dharma-7/2023-04-24/
LOCATION:The Moore Institute\, 4126 Autumn Ln\, Birmingham\, AL\, 35243\, United States
GEO:33.454958;-86.732979
X-APPLE-STRUCTURED-LOCATION;VALUE=URI;X-ADDRESS=The Moore Institute 4126 Autumn Ln Birmingham AL 35243 United States;X-APPLE-RADIUS=500;X-TITLE=4126 Autumn Ln:geo:-86.732979,33.454958
END:VEVENT
BEGIN:VEVENT
DTSTART;TZID=UTC:20230424T103000
DTEND;TZID=UTC:20230424T113000
DTSTAMP:20260419T124344
CREATED:20240116T061505Z
LAST-MODIFIED:20240116T061505Z
UID:10003708-1682332200-1682335800@mooreinstitute.info
SUMMARY:Recovery Dharma
DESCRIPTION:Recovery Dharma is a peer-led\, grassroots\, democratically-structured organization. Our mission is to support individuals on their path of recovery from addiction using Buddhist practices and principles. \n  \nwww.recoverydharma.org
URL:https://mooreinstitute.info/event/recovery-dharma-7/2023-04-24/
LOCATION:The Moore Institute\, 4126 Autumn Ln\, Birmingham\, AL\, 35243\, United States
GEO:33.454958;-86.732979
X-APPLE-STRUCTURED-LOCATION;VALUE=URI;X-ADDRESS=The Moore Institute 4126 Autumn Ln Birmingham AL 35243 United States;X-APPLE-RADIUS=500;X-TITLE=4126 Autumn Ln:geo:-86.732979,33.454958
END:VEVENT
BEGIN:VEVENT
DTSTART;TZID=UTC:20230423T110000
DTEND;TZID=UTC:20230423T120000
DTSTAMP:20260419T124344
CREATED:20230315T205433Z
LAST-MODIFIED:20230315T213202Z
UID:10006270-1682247600-1682251200@mooreinstitute.info
SUMMARY:Women's Recovery Dharma 11 am 2nd and 4th Sundays
DESCRIPTION:Women’s Recovery Dharma is a peer led\, grass roots\, democratically structured Organization.  Our mission is to support individuals on their path of recovery from addiction using Buddhist practices and principles.
URL:https://mooreinstitute.info/event/womens-recovery-dharma-11-am-2nd-and-4th-sundays/2023-04-23/
LOCATION:The Moore Institute\, 4126 Autumn Ln\, Birmingham\, AL\, 35243\, United States
GEO:33.454958;-86.732979
X-APPLE-STRUCTURED-LOCATION;VALUE=URI;X-ADDRESS=The Moore Institute 4126 Autumn Ln Birmingham AL 35243 United States;X-APPLE-RADIUS=500;X-TITLE=4126 Autumn Ln:geo:-86.732979,33.454958
END:VEVENT
BEGIN:VEVENT
DTSTART;TZID=UTC:20230422T103000
DTEND;TZID=UTC:20230422T233000
DTSTAMP:20260419T124344
CREATED:20230315T210058Z
LAST-MODIFIED:20230315T212704Z
UID:10006347-1682159400-1682206200@mooreinstitute.info
SUMMARY:Recovery Dharma
DESCRIPTION:Recovery Dharma is a peer-led movement and community that is unified by our trust in the potential of each of us to recover and find freedom from the suffering of addiction. We believe that the traditional Buddhist teachings\, often referred to as the Dharma\, offer a powerful approach to healing from addiction and living a life of true freedom. \nWe believe that recovery means empowerment\, and we support each other as partners walking the path together. We believe that recovery is rooted in finding our own inner wisdom and individual journeys.
URL:https://mooreinstitute.info/event/recovery-dharma-8/2023-04-22/
LOCATION:The Moore Institute\, 4126 Autumn Ln\, Birmingham\, AL\, 35243\, United States
GEO:33.454958;-86.732979
X-APPLE-STRUCTURED-LOCATION;VALUE=URI;X-ADDRESS=The Moore Institute 4126 Autumn Ln Birmingham AL 35243 United States;X-APPLE-RADIUS=500;X-TITLE=4126 Autumn Ln:geo:-86.732979,33.454958
END:VEVENT
BEGIN:VEVENT
DTSTART;TZID=UTC:20230422T103000
DTEND;TZID=UTC:20230422T113000
DTSTAMP:20260419T124344
CREATED:20240116T061505Z
LAST-MODIFIED:20240116T061505Z
UID:10003707-1682159400-1682163000@mooreinstitute.info
SUMMARY:Recovery Dharma
DESCRIPTION:Recovery Dharma is a peer-led\, grassroots\, democratically-structured organization. Our mission is to support individuals on their path of recovery from addiction using Buddhist practices and principles. \n  \nwww.recoverydharma.org
URL:https://mooreinstitute.info/event/recovery-dharma-7/2023-04-22/
LOCATION:The Moore Institute\, 4126 Autumn Ln\, Birmingham\, AL\, 35243\, United States
GEO:33.454958;-86.732979
X-APPLE-STRUCTURED-LOCATION;VALUE=URI;X-ADDRESS=The Moore Institute 4126 Autumn Ln Birmingham AL 35243 United States;X-APPLE-RADIUS=500;X-TITLE=4126 Autumn Ln:geo:-86.732979,33.454958
END:VEVENT
BEGIN:VEVENT
DTSTART;TZID=UTC:20230419T190000
DTEND;TZID=UTC:20230419T200000
DTSTAMP:20260419T124344
CREATED:20240116T061519Z
LAST-MODIFIED:20240116T061519Z
UID:10006459-1681930800-1681934400@mooreinstitute.info
SUMMARY:Recovery Dharma
DESCRIPTION:Recovery Dharma is a peer-led movement and community that is unified by our trust in the potential of each of us to recover and find freedom from the suffering of addiction. We believe that the traditional Buddhist teachings\, often referred to as the Dharma\, offer a powerful approach to healing from addiction and living a life of true freedom. \nWe believe that recovery means empowerment\, and we support each other as partners walking the path together. We believe that recovery is rooted in finding our own inner wisdom and individual journeys.
URL:https://mooreinstitute.info/event/recovery-dharma-8/2023-04-19/
LOCATION:The Moore Institute\, 4126 Autumn Ln\, Birmingham\, AL\, 35243\, United States
GEO:33.454958;-86.732979
X-APPLE-STRUCTURED-LOCATION;VALUE=URI;X-ADDRESS=The Moore Institute 4126 Autumn Ln Birmingham AL 35243 United States;X-APPLE-RADIUS=500;X-TITLE=4126 Autumn Ln:geo:-86.732979,33.454958
END:VEVENT
BEGIN:VEVENT
DTSTART;TZID=UTC:20230419T190000
DTEND;TZID=UTC:20230419T200000
DTSTAMP:20260419T124344
CREATED:20240116T061505Z
LAST-MODIFIED:20240116T061505Z
UID:10003793-1681930800-1681934400@mooreinstitute.info
SUMMARY:Recovery Dharma
DESCRIPTION:Recovery Dharma is a peer-led\, grassroots\, democratically-structured organization. Our mission is to support individuals on their path of recovery from addiction using Buddhist practices and principles. \n  \nwww.recoverydharma.org
URL:https://mooreinstitute.info/event/recovery-dharma-7/2023-04-19/
LOCATION:The Moore Institute\, 4126 Autumn Ln\, Birmingham\, AL\, 35243\, United States
GEO:33.454958;-86.732979
X-APPLE-STRUCTURED-LOCATION;VALUE=URI;X-ADDRESS=The Moore Institute 4126 Autumn Ln Birmingham AL 35243 United States;X-APPLE-RADIUS=500;X-TITLE=4126 Autumn Ln:geo:-86.732979,33.454958
END:VEVENT
BEGIN:VEVENT
DTSTART;TZID=UTC:20230419T190000
DTEND;TZID=UTC:20230419T200000
DTSTAMP:20260419T124344
CREATED:20221109T221806Z
LAST-MODIFIED:20221109T221806Z
UID:10003569-1681930800-1681934400@mooreinstitute.info
SUMMARY:Recovery Dharma
DESCRIPTION:Recovery Dharma is a peer-led\, grassroots\, democratically-structured organization. Our mission is to support individuals on their path of recovery from addiction using Buddhist practices and principles. \n  \nwww.recoverydharma.org \n 
URL:https://mooreinstitute.info/event/recovery-dharma-6/2023-04-19/
LOCATION:The Moore Institute\, 4126 Autumn Ln\, Birmingham\, AL\, 35243\, United States
GEO:33.454958;-86.732979
X-APPLE-STRUCTURED-LOCATION;VALUE=URI;X-ADDRESS=The Moore Institute 4126 Autumn Ln Birmingham AL 35243 United States;X-APPLE-RADIUS=500;X-TITLE=4126 Autumn Ln:geo:-86.732979,33.454958
END:VEVENT
BEGIN:VEVENT
DTSTART;TZID=UTC:20230417T180000
DTEND;TZID=UTC:20230417T190000
DTSTAMP:20260419T124344
CREATED:20240116T061519Z
LAST-MODIFIED:20240116T061519Z
UID:10006403-1681754400-1681758000@mooreinstitute.info
SUMMARY:Recovery Dharma
DESCRIPTION:Recovery Dharma is a peer-led movement and community that is unified by our trust in the potential of each of us to recover and find freedom from the suffering of addiction. We believe that the traditional Buddhist teachings\, often referred to as the Dharma\, offer a powerful approach to healing from addiction and living a life of true freedom. \nWe believe that recovery means empowerment\, and we support each other as partners walking the path together. We believe that recovery is rooted in finding our own inner wisdom and individual journeys.
URL:https://mooreinstitute.info/event/recovery-dharma-8/2023-04-17/
LOCATION:The Moore Institute\, 4126 Autumn Ln\, Birmingham\, AL\, 35243\, United States
GEO:33.454958;-86.732979
X-APPLE-STRUCTURED-LOCATION;VALUE=URI;X-ADDRESS=The Moore Institute 4126 Autumn Ln Birmingham AL 35243 United States;X-APPLE-RADIUS=500;X-TITLE=4126 Autumn Ln:geo:-86.732979,33.454958
END:VEVENT
BEGIN:VEVENT
DTSTART;TZID=UTC:20230417T180000
DTEND;TZID=UTC:20230417T190000
DTSTAMP:20260419T124344
CREATED:20230116T233640Z
LAST-MODIFIED:20230116T233640Z
UID:10003644-1681754400-1681758000@mooreinstitute.info
SUMMARY:Recovery Dharma
DESCRIPTION:Recovery Dharma is a peer-led\, grassroots\, democratically-structured organization. Our mission is to support individuals on their path of recovery from addiction using Buddhist practices and principles. \n  \nwww.recoverydharma.org
URL:https://mooreinstitute.info/event/recovery-dharma-7/2023-04-17/
LOCATION:The Moore Institute\, 4126 Autumn Ln\, Birmingham\, AL\, 35243\, United States
GEO:33.454958;-86.732979
X-APPLE-STRUCTURED-LOCATION;VALUE=URI;X-ADDRESS=The Moore Institute 4126 Autumn Ln Birmingham AL 35243 United States;X-APPLE-RADIUS=500;X-TITLE=4126 Autumn Ln:geo:-86.732979,33.454958
END:VEVENT
BEGIN:VEVENT
DTSTART;TZID=UTC:20230417T103000
DTEND;TZID=UTC:20230417T113000
DTSTAMP:20260419T124344
CREATED:20240116T061505Z
LAST-MODIFIED:20240116T061505Z
UID:10003706-1681727400-1681731000@mooreinstitute.info
SUMMARY:Recovery Dharma
DESCRIPTION:Recovery Dharma is a peer-led\, grassroots\, democratically-structured organization. Our mission is to support individuals on their path of recovery from addiction using Buddhist practices and principles. \n  \nwww.recoverydharma.org
URL:https://mooreinstitute.info/event/recovery-dharma-7/2023-04-17/
LOCATION:The Moore Institute\, 4126 Autumn Ln\, Birmingham\, AL\, 35243\, United States
GEO:33.454958;-86.732979
X-APPLE-STRUCTURED-LOCATION;VALUE=URI;X-ADDRESS=The Moore Institute 4126 Autumn Ln Birmingham AL 35243 United States;X-APPLE-RADIUS=500;X-TITLE=4126 Autumn Ln:geo:-86.732979,33.454958
END:VEVENT
BEGIN:VEVENT
DTSTART;TZID=UTC:20230415T103000
DTEND;TZID=UTC:20230415T233000
DTSTAMP:20260419T124344
CREATED:20230315T210058Z
LAST-MODIFIED:20230315T212704Z
UID:10006346-1681554600-1681601400@mooreinstitute.info
SUMMARY:Recovery Dharma
DESCRIPTION:Recovery Dharma is a peer-led movement and community that is unified by our trust in the potential of each of us to recover and find freedom from the suffering of addiction. We believe that the traditional Buddhist teachings\, often referred to as the Dharma\, offer a powerful approach to healing from addiction and living a life of true freedom. \nWe believe that recovery means empowerment\, and we support each other as partners walking the path together. We believe that recovery is rooted in finding our own inner wisdom and individual journeys.
URL:https://mooreinstitute.info/event/recovery-dharma-8/2023-04-15/
LOCATION:The Moore Institute\, 4126 Autumn Ln\, Birmingham\, AL\, 35243\, United States
GEO:33.454958;-86.732979
X-APPLE-STRUCTURED-LOCATION;VALUE=URI;X-ADDRESS=The Moore Institute 4126 Autumn Ln Birmingham AL 35243 United States;X-APPLE-RADIUS=500;X-TITLE=4126 Autumn Ln:geo:-86.732979,33.454958
END:VEVENT
BEGIN:VEVENT
DTSTART;TZID=UTC:20230415T103000
DTEND;TZID=UTC:20230415T113000
DTSTAMP:20260419T124344
CREATED:20240116T061505Z
LAST-MODIFIED:20240116T061505Z
UID:10003705-1681554600-1681558200@mooreinstitute.info
SUMMARY:Recovery Dharma
DESCRIPTION:Recovery Dharma is a peer-led\, grassroots\, democratically-structured organization. Our mission is to support individuals on their path of recovery from addiction using Buddhist practices and principles. \n  \nwww.recoverydharma.org
URL:https://mooreinstitute.info/event/recovery-dharma-7/2023-04-15/
LOCATION:The Moore Institute\, 4126 Autumn Ln\, Birmingham\, AL\, 35243\, United States
GEO:33.454958;-86.732979
X-APPLE-STRUCTURED-LOCATION;VALUE=URI;X-ADDRESS=The Moore Institute 4126 Autumn Ln Birmingham AL 35243 United States;X-APPLE-RADIUS=500;X-TITLE=4126 Autumn Ln:geo:-86.732979,33.454958
END:VEVENT
BEGIN:VEVENT
DTSTART;TZID=UTC:20230412T190000
DTEND;TZID=UTC:20230412T200000
DTSTAMP:20260419T124344
CREATED:20240116T061505Z
LAST-MODIFIED:20240116T061505Z
UID:10003792-1681326000-1681329600@mooreinstitute.info
SUMMARY:Recovery Dharma
DESCRIPTION:Recovery Dharma is a peer-led\, grassroots\, democratically-structured organization. Our mission is to support individuals on their path of recovery from addiction using Buddhist practices and principles. \n  \nwww.recoverydharma.org
URL:https://mooreinstitute.info/event/recovery-dharma-7/2023-04-12/
LOCATION:The Moore Institute\, 4126 Autumn Ln\, Birmingham\, AL\, 35243\, United States
GEO:33.454958;-86.732979
X-APPLE-STRUCTURED-LOCATION;VALUE=URI;X-ADDRESS=The Moore Institute 4126 Autumn Ln Birmingham AL 35243 United States;X-APPLE-RADIUS=500;X-TITLE=4126 Autumn Ln:geo:-86.732979,33.454958
END:VEVENT
BEGIN:VEVENT
DTSTART;TZID=UTC:20230412T190000
DTEND;TZID=UTC:20230412T200000
DTSTAMP:20260419T124344
CREATED:20221109T221806Z
LAST-MODIFIED:20221109T221806Z
UID:10003568-1681326000-1681329600@mooreinstitute.info
SUMMARY:Recovery Dharma
DESCRIPTION:Recovery Dharma is a peer-led\, grassroots\, democratically-structured organization. Our mission is to support individuals on their path of recovery from addiction using Buddhist practices and principles. \n  \nwww.recoverydharma.org \n 
URL:https://mooreinstitute.info/event/recovery-dharma-6/2023-04-12/
LOCATION:The Moore Institute\, 4126 Autumn Ln\, Birmingham\, AL\, 35243\, United States
GEO:33.454958;-86.732979
X-APPLE-STRUCTURED-LOCATION;VALUE=URI;X-ADDRESS=The Moore Institute 4126 Autumn Ln Birmingham AL 35243 United States;X-APPLE-RADIUS=500;X-TITLE=4126 Autumn Ln:geo:-86.732979,33.454958
END:VEVENT
BEGIN:VEVENT
DTSTART;TZID=UTC:20230410T180000
DTEND;TZID=UTC:20230410T190000
DTSTAMP:20260419T124344
CREATED:20230116T233640Z
LAST-MODIFIED:20230116T233640Z
UID:10003643-1681149600-1681153200@mooreinstitute.info
SUMMARY:Recovery Dharma
DESCRIPTION:Recovery Dharma is a peer-led\, grassroots\, democratically-structured organization. Our mission is to support individuals on their path of recovery from addiction using Buddhist practices and principles. \n  \nwww.recoverydharma.org
URL:https://mooreinstitute.info/event/recovery-dharma-7/2023-04-10/
LOCATION:The Moore Institute\, 4126 Autumn Ln\, Birmingham\, AL\, 35243\, United States
GEO:33.454958;-86.732979
X-APPLE-STRUCTURED-LOCATION;VALUE=URI;X-ADDRESS=The Moore Institute 4126 Autumn Ln Birmingham AL 35243 United States;X-APPLE-RADIUS=500;X-TITLE=4126 Autumn Ln:geo:-86.732979,33.454958
END:VEVENT
BEGIN:VEVENT
DTSTART;TZID=UTC:20230410T103000
DTEND;TZID=UTC:20230410T113000
DTSTAMP:20260419T124344
CREATED:20240116T061505Z
LAST-MODIFIED:20240116T061505Z
UID:10003704-1681122600-1681126200@mooreinstitute.info
SUMMARY:Recovery Dharma
DESCRIPTION:Recovery Dharma is a peer-led\, grassroots\, democratically-structured organization. Our mission is to support individuals on their path of recovery from addiction using Buddhist practices and principles. \n  \nwww.recoverydharma.org
URL:https://mooreinstitute.info/event/recovery-dharma-7/2023-04-10/
LOCATION:The Moore Institute\, 4126 Autumn Ln\, Birmingham\, AL\, 35243\, United States
GEO:33.454958;-86.732979
X-APPLE-STRUCTURED-LOCATION;VALUE=URI;X-ADDRESS=The Moore Institute 4126 Autumn Ln Birmingham AL 35243 United States;X-APPLE-RADIUS=500;X-TITLE=4126 Autumn Ln:geo:-86.732979,33.454958
END:VEVENT
BEGIN:VEVENT
DTSTART;TZID=UTC:20230409T110000
DTEND;TZID=UTC:20230409T120000
DTSTAMP:20260419T124344
CREATED:20240116T061519Z
LAST-MODIFIED:20240116T061519Z
UID:10006333-1681038000-1681041600@mooreinstitute.info
SUMMARY:Women's Recovery Dharma 11 am 2nd and 4th Sundays
DESCRIPTION:Women’s Recovery Dharma is a peer led\, grass roots\, democratically structured Organization.  Our mission is to support individuals on their path of recovery from addiction using Buddhist practices and principles.
URL:https://mooreinstitute.info/event/womens-recovery-dharma-11-am-2nd-and-4th-sundays/2023-04-09/
LOCATION:The Moore Institute\, 4126 Autumn Ln\, Birmingham\, AL\, 35243\, United States
GEO:33.454958;-86.732979
X-APPLE-STRUCTURED-LOCATION;VALUE=URI;X-ADDRESS=The Moore Institute 4126 Autumn Ln Birmingham AL 35243 United States;X-APPLE-RADIUS=500;X-TITLE=4126 Autumn Ln:geo:-86.732979,33.454958
END:VEVENT
BEGIN:VEVENT
DTSTART;TZID=UTC:20230408T103000
DTEND;TZID=UTC:20230408T113000
DTSTAMP:20260419T124344
CREATED:20240116T061505Z
LAST-MODIFIED:20240116T061505Z
UID:10003703-1680949800-1680953400@mooreinstitute.info
SUMMARY:Recovery Dharma
DESCRIPTION:Recovery Dharma is a peer-led\, grassroots\, democratically-structured organization. Our mission is to support individuals on their path of recovery from addiction using Buddhist practices and principles. \n  \nwww.recoverydharma.org
URL:https://mooreinstitute.info/event/recovery-dharma-7/2023-04-08/
LOCATION:The Moore Institute\, 4126 Autumn Ln\, Birmingham\, AL\, 35243\, United States
GEO:33.454958;-86.732979
X-APPLE-STRUCTURED-LOCATION;VALUE=URI;X-ADDRESS=The Moore Institute 4126 Autumn Ln Birmingham AL 35243 United States;X-APPLE-RADIUS=500;X-TITLE=4126 Autumn Ln:geo:-86.732979,33.454958
END:VEVENT
BEGIN:VEVENT
DTSTART;TZID=UTC:20230405T190000
DTEND;TZID=UTC:20230405T200000
DTSTAMP:20260419T124344
CREATED:20240116T061505Z
LAST-MODIFIED:20240116T061505Z
UID:10003791-1680721200-1680724800@mooreinstitute.info
SUMMARY:Recovery Dharma
DESCRIPTION:Recovery Dharma is a peer-led\, grassroots\, democratically-structured organization. Our mission is to support individuals on their path of recovery from addiction using Buddhist practices and principles. \n  \nwww.recoverydharma.org
URL:https://mooreinstitute.info/event/recovery-dharma-7/2023-04-05/
LOCATION:The Moore Institute\, 4126 Autumn Ln\, Birmingham\, AL\, 35243\, United States
GEO:33.454958;-86.732979
X-APPLE-STRUCTURED-LOCATION;VALUE=URI;X-ADDRESS=The Moore Institute 4126 Autumn Ln Birmingham AL 35243 United States;X-APPLE-RADIUS=500;X-TITLE=4126 Autumn Ln:geo:-86.732979,33.454958
END:VEVENT
END:VCALENDAR