BEGIN:VCALENDAR
VERSION:2.0
PRODID:-//The Moore Institute - ECPv6.15.20//NONSGML v1.0//EN
CALSCALE:GREGORIAN
METHOD:PUBLISH
X-ORIGINAL-URL:https://mooreinstitute.info
X-WR-CALDESC:Events for The Moore Institute
REFRESH-INTERVAL;VALUE=DURATION:PT1H
X-Robots-Tag:noindex
X-PUBLISHED-TTL:PT1H
BEGIN:VTIMEZONE
TZID:UTC
BEGIN:STANDARD
TZOFFSETFROM:+0000
TZOFFSETTO:+0000
TZNAME:UTC
DTSTART:20220101T000000
END:STANDARD
END:VTIMEZONE
BEGIN:VEVENT
DTSTART;TZID=UTC:20230405T190000
DTEND;TZID=UTC:20230405T200000
DTSTAMP:20260421T122026
CREATED:20221109T221806Z
LAST-MODIFIED:20221109T221806Z
UID:10003567-1680721200-1680724800@mooreinstitute.info
SUMMARY:Recovery Dharma
DESCRIPTION:Recovery Dharma is a peer-led\, grassroots\, democratically-structured organization. Our mission is to support individuals on their path of recovery from addiction using Buddhist practices and principles. \n  \nwww.recoverydharma.org \n 
URL:https://mooreinstitute.info/event/recovery-dharma-6/2023-04-05/
LOCATION:The Moore Institute\, 4126 Autumn Ln\, Birmingham\, AL\, 35243\, United States
GEO:33.454958;-86.732979
X-APPLE-STRUCTURED-LOCATION;VALUE=URI;X-ADDRESS=The Moore Institute 4126 Autumn Ln Birmingham AL 35243 United States;X-APPLE-RADIUS=500;X-TITLE=4126 Autumn Ln:geo:-86.732979,33.454958
END:VEVENT
BEGIN:VEVENT
DTSTART;TZID=UTC:20230403T180000
DTEND;TZID=UTC:20230403T190000
DTSTAMP:20260421T122026
CREATED:20230116T233640Z
LAST-MODIFIED:20230116T233640Z
UID:10003642-1680544800-1680548400@mooreinstitute.info
SUMMARY:Recovery Dharma
DESCRIPTION:Recovery Dharma is a peer-led\, grassroots\, democratically-structured organization. Our mission is to support individuals on their path of recovery from addiction using Buddhist practices and principles. \n  \nwww.recoverydharma.org
URL:https://mooreinstitute.info/event/recovery-dharma-7/2023-04-03/
LOCATION:The Moore Institute\, 4126 Autumn Ln\, Birmingham\, AL\, 35243\, United States
GEO:33.454958;-86.732979
X-APPLE-STRUCTURED-LOCATION;VALUE=URI;X-ADDRESS=The Moore Institute 4126 Autumn Ln Birmingham AL 35243 United States;X-APPLE-RADIUS=500;X-TITLE=4126 Autumn Ln:geo:-86.732979,33.454958
END:VEVENT
BEGIN:VEVENT
DTSTART;TZID=UTC:20230403T103000
DTEND;TZID=UTC:20230403T113000
DTSTAMP:20260421T122026
CREATED:20240116T061505Z
LAST-MODIFIED:20240116T061505Z
UID:10003702-1680517800-1680521400@mooreinstitute.info
SUMMARY:Recovery Dharma
DESCRIPTION:Recovery Dharma is a peer-led\, grassroots\, democratically-structured organization. Our mission is to support individuals on their path of recovery from addiction using Buddhist practices and principles. \n  \nwww.recoverydharma.org
URL:https://mooreinstitute.info/event/recovery-dharma-7/2023-04-03/
LOCATION:The Moore Institute\, 4126 Autumn Ln\, Birmingham\, AL\, 35243\, United States
GEO:33.454958;-86.732979
X-APPLE-STRUCTURED-LOCATION;VALUE=URI;X-ADDRESS=The Moore Institute 4126 Autumn Ln Birmingham AL 35243 United States;X-APPLE-RADIUS=500;X-TITLE=4126 Autumn Ln:geo:-86.732979,33.454958
END:VEVENT
BEGIN:VEVENT
DTSTART;TZID=UTC:20230401T103000
DTEND;TZID=UTC:20230401T113000
DTSTAMP:20260421T122026
CREATED:20240116T061505Z
LAST-MODIFIED:20240116T061505Z
UID:10003701-1680345000-1680348600@mooreinstitute.info
SUMMARY:Recovery Dharma
DESCRIPTION:Recovery Dharma is a peer-led\, grassroots\, democratically-structured organization. Our mission is to support individuals on their path of recovery from addiction using Buddhist practices and principles. \n  \nwww.recoverydharma.org
URL:https://mooreinstitute.info/event/recovery-dharma-7/2023-04-01/
LOCATION:The Moore Institute\, 4126 Autumn Ln\, Birmingham\, AL\, 35243\, United States
GEO:33.454958;-86.732979
X-APPLE-STRUCTURED-LOCATION;VALUE=URI;X-ADDRESS=The Moore Institute 4126 Autumn Ln Birmingham AL 35243 United States;X-APPLE-RADIUS=500;X-TITLE=4126 Autumn Ln:geo:-86.732979,33.454958
END:VEVENT
BEGIN:VEVENT
DTSTART;TZID=UTC:20230329T190000
DTEND;TZID=UTC:20230329T200000
DTSTAMP:20260421T122026
CREATED:20240116T061505Z
LAST-MODIFIED:20240116T061505Z
UID:10003790-1680116400-1680120000@mooreinstitute.info
SUMMARY:Recovery Dharma
DESCRIPTION:Recovery Dharma is a peer-led\, grassroots\, democratically-structured organization. Our mission is to support individuals on their path of recovery from addiction using Buddhist practices and principles. \n  \nwww.recoverydharma.org
URL:https://mooreinstitute.info/event/recovery-dharma-7/2023-03-29/
LOCATION:The Moore Institute\, 4126 Autumn Ln\, Birmingham\, AL\, 35243\, United States
GEO:33.454958;-86.732979
X-APPLE-STRUCTURED-LOCATION;VALUE=URI;X-ADDRESS=The Moore Institute 4126 Autumn Ln Birmingham AL 35243 United States;X-APPLE-RADIUS=500;X-TITLE=4126 Autumn Ln:geo:-86.732979,33.454958
END:VEVENT
BEGIN:VEVENT
DTSTART;TZID=UTC:20230329T190000
DTEND;TZID=UTC:20230329T200000
DTSTAMP:20260421T122026
CREATED:20221109T221806Z
LAST-MODIFIED:20221109T221806Z
UID:10003566-1680116400-1680120000@mooreinstitute.info
SUMMARY:Recovery Dharma
DESCRIPTION:Recovery Dharma is a peer-led\, grassroots\, democratically-structured organization. Our mission is to support individuals on their path of recovery from addiction using Buddhist practices and principles. \n  \nwww.recoverydharma.org \n 
URL:https://mooreinstitute.info/event/recovery-dharma-6/2023-03-29/
LOCATION:The Moore Institute\, 4126 Autumn Ln\, Birmingham\, AL\, 35243\, United States
GEO:33.454958;-86.732979
X-APPLE-STRUCTURED-LOCATION;VALUE=URI;X-ADDRESS=The Moore Institute 4126 Autumn Ln Birmingham AL 35243 United States;X-APPLE-RADIUS=500;X-TITLE=4126 Autumn Ln:geo:-86.732979,33.454958
END:VEVENT
BEGIN:VEVENT
DTSTART;TZID=UTC:20230327T180000
DTEND;TZID=UTC:20230327T190000
DTSTAMP:20260421T122026
CREATED:20230116T233640Z
LAST-MODIFIED:20230116T233640Z
UID:10003641-1679940000-1679943600@mooreinstitute.info
SUMMARY:Recovery Dharma
DESCRIPTION:Recovery Dharma is a peer-led\, grassroots\, democratically-structured organization. Our mission is to support individuals on their path of recovery from addiction using Buddhist practices and principles. \n  \nwww.recoverydharma.org
URL:https://mooreinstitute.info/event/recovery-dharma-7/2023-03-27/
LOCATION:The Moore Institute\, 4126 Autumn Ln\, Birmingham\, AL\, 35243\, United States
GEO:33.454958;-86.732979
X-APPLE-STRUCTURED-LOCATION;VALUE=URI;X-ADDRESS=The Moore Institute 4126 Autumn Ln Birmingham AL 35243 United States;X-APPLE-RADIUS=500;X-TITLE=4126 Autumn Ln:geo:-86.732979,33.454958
END:VEVENT
BEGIN:VEVENT
DTSTART;TZID=UTC:20230327T103000
DTEND;TZID=UTC:20230327T113000
DTSTAMP:20260421T122026
CREATED:20240116T061505Z
LAST-MODIFIED:20240116T061505Z
UID:10003700-1679913000-1679916600@mooreinstitute.info
SUMMARY:Recovery Dharma
DESCRIPTION:Recovery Dharma is a peer-led\, grassroots\, democratically-structured organization. Our mission is to support individuals on their path of recovery from addiction using Buddhist practices and principles. \n  \nwww.recoverydharma.org
URL:https://mooreinstitute.info/event/recovery-dharma-7/2023-03-27/
LOCATION:The Moore Institute\, 4126 Autumn Ln\, Birmingham\, AL\, 35243\, United States
GEO:33.454958;-86.732979
X-APPLE-STRUCTURED-LOCATION;VALUE=URI;X-ADDRESS=The Moore Institute 4126 Autumn Ln Birmingham AL 35243 United States;X-APPLE-RADIUS=500;X-TITLE=4126 Autumn Ln:geo:-86.732979,33.454958
END:VEVENT
BEGIN:VEVENT
DTSTART;TZID=UTC:20230326T110000
DTEND;TZID=UTC:20230326T120000
DTSTAMP:20260421T122026
CREATED:20230315T205433Z
LAST-MODIFIED:20230315T213202Z
UID:10006269-1679828400-1679832000@mooreinstitute.info
SUMMARY:Women's Recovery Dharma 11 am 2nd and 4th Sundays
DESCRIPTION:Women’s Recovery Dharma is a peer led\, grass roots\, democratically structured Organization.  Our mission is to support individuals on their path of recovery from addiction using Buddhist practices and principles.
URL:https://mooreinstitute.info/event/womens-recovery-dharma-11-am-2nd-and-4th-sundays/2023-03-26/
LOCATION:The Moore Institute\, 4126 Autumn Ln\, Birmingham\, AL\, 35243\, United States
GEO:33.454958;-86.732979
X-APPLE-STRUCTURED-LOCATION;VALUE=URI;X-ADDRESS=The Moore Institute 4126 Autumn Ln Birmingham AL 35243 United States;X-APPLE-RADIUS=500;X-TITLE=4126 Autumn Ln:geo:-86.732979,33.454958
END:VEVENT
BEGIN:VEVENT
DTSTART;TZID=UTC:20230325T103000
DTEND;TZID=UTC:20230325T113000
DTSTAMP:20260421T122026
CREATED:20240116T061505Z
LAST-MODIFIED:20240116T061505Z
UID:10003699-1679740200-1679743800@mooreinstitute.info
SUMMARY:Recovery Dharma
DESCRIPTION:Recovery Dharma is a peer-led\, grassroots\, democratically-structured organization. Our mission is to support individuals on their path of recovery from addiction using Buddhist practices and principles. \n  \nwww.recoverydharma.org
URL:https://mooreinstitute.info/event/recovery-dharma-7/2023-03-25/
LOCATION:The Moore Institute\, 4126 Autumn Ln\, Birmingham\, AL\, 35243\, United States
GEO:33.454958;-86.732979
X-APPLE-STRUCTURED-LOCATION;VALUE=URI;X-ADDRESS=The Moore Institute 4126 Autumn Ln Birmingham AL 35243 United States;X-APPLE-RADIUS=500;X-TITLE=4126 Autumn Ln:geo:-86.732979,33.454958
END:VEVENT
BEGIN:VEVENT
DTSTART;TZID=UTC:20230322T190000
DTEND;TZID=UTC:20230322T200000
DTSTAMP:20260421T122026
CREATED:20240116T061505Z
LAST-MODIFIED:20240116T061505Z
UID:10003789-1679511600-1679515200@mooreinstitute.info
SUMMARY:Recovery Dharma
DESCRIPTION:Recovery Dharma is a peer-led\, grassroots\, democratically-structured organization. Our mission is to support individuals on their path of recovery from addiction using Buddhist practices and principles. \n  \nwww.recoverydharma.org
URL:https://mooreinstitute.info/event/recovery-dharma-7/2023-03-22/
LOCATION:The Moore Institute\, 4126 Autumn Ln\, Birmingham\, AL\, 35243\, United States
GEO:33.454958;-86.732979
X-APPLE-STRUCTURED-LOCATION;VALUE=URI;X-ADDRESS=The Moore Institute 4126 Autumn Ln Birmingham AL 35243 United States;X-APPLE-RADIUS=500;X-TITLE=4126 Autumn Ln:geo:-86.732979,33.454958
END:VEVENT
BEGIN:VEVENT
DTSTART;TZID=UTC:20230322T190000
DTEND;TZID=UTC:20230322T200000
DTSTAMP:20260421T122026
CREATED:20221109T221806Z
LAST-MODIFIED:20221109T221806Z
UID:10003565-1679511600-1679515200@mooreinstitute.info
SUMMARY:Recovery Dharma
DESCRIPTION:Recovery Dharma is a peer-led\, grassroots\, democratically-structured organization. Our mission is to support individuals on their path of recovery from addiction using Buddhist practices and principles. \n  \nwww.recoverydharma.org \n 
URL:https://mooreinstitute.info/event/recovery-dharma-6/2023-03-22/
LOCATION:The Moore Institute\, 4126 Autumn Ln\, Birmingham\, AL\, 35243\, United States
GEO:33.454958;-86.732979
X-APPLE-STRUCTURED-LOCATION;VALUE=URI;X-ADDRESS=The Moore Institute 4126 Autumn Ln Birmingham AL 35243 United States;X-APPLE-RADIUS=500;X-TITLE=4126 Autumn Ln:geo:-86.732979,33.454958
END:VEVENT
BEGIN:VEVENT
DTSTART;TZID=UTC:20230320T180000
DTEND;TZID=UTC:20230320T190000
DTSTAMP:20260421T122026
CREATED:20230116T233640Z
LAST-MODIFIED:20230116T233640Z
UID:10003640-1679335200-1679338800@mooreinstitute.info
SUMMARY:Recovery Dharma
DESCRIPTION:Recovery Dharma is a peer-led\, grassroots\, democratically-structured organization. Our mission is to support individuals on their path of recovery from addiction using Buddhist practices and principles. \n  \nwww.recoverydharma.org
URL:https://mooreinstitute.info/event/recovery-dharma-7/2023-03-20/
LOCATION:The Moore Institute\, 4126 Autumn Ln\, Birmingham\, AL\, 35243\, United States
GEO:33.454958;-86.732979
X-APPLE-STRUCTURED-LOCATION;VALUE=URI;X-ADDRESS=The Moore Institute 4126 Autumn Ln Birmingham AL 35243 United States;X-APPLE-RADIUS=500;X-TITLE=4126 Autumn Ln:geo:-86.732979,33.454958
END:VEVENT
BEGIN:VEVENT
DTSTART;TZID=UTC:20230320T103000
DTEND;TZID=UTC:20230320T113000
DTSTAMP:20260421T122026
CREATED:20240116T061505Z
LAST-MODIFIED:20240116T061505Z
UID:10003698-1679308200-1679311800@mooreinstitute.info
SUMMARY:Recovery Dharma
DESCRIPTION:Recovery Dharma is a peer-led\, grassroots\, democratically-structured organization. Our mission is to support individuals on their path of recovery from addiction using Buddhist practices and principles. \n  \nwww.recoverydharma.org
URL:https://mooreinstitute.info/event/recovery-dharma-7/2023-03-20/
LOCATION:The Moore Institute\, 4126 Autumn Ln\, Birmingham\, AL\, 35243\, United States
GEO:33.454958;-86.732979
X-APPLE-STRUCTURED-LOCATION;VALUE=URI;X-ADDRESS=The Moore Institute 4126 Autumn Ln Birmingham AL 35243 United States;X-APPLE-RADIUS=500;X-TITLE=4126 Autumn Ln:geo:-86.732979,33.454958
END:VEVENT
BEGIN:VEVENT
DTSTART;TZID=UTC:20230318T103000
DTEND;TZID=UTC:20230318T113000
DTSTAMP:20260421T122026
CREATED:20240116T061505Z
LAST-MODIFIED:20240116T061505Z
UID:10003697-1679135400-1679139000@mooreinstitute.info
SUMMARY:Recovery Dharma
DESCRIPTION:Recovery Dharma is a peer-led\, grassroots\, democratically-structured organization. Our mission is to support individuals on their path of recovery from addiction using Buddhist practices and principles. \n  \nwww.recoverydharma.org
URL:https://mooreinstitute.info/event/recovery-dharma-7/2023-03-18/
LOCATION:The Moore Institute\, 4126 Autumn Ln\, Birmingham\, AL\, 35243\, United States
GEO:33.454958;-86.732979
X-APPLE-STRUCTURED-LOCATION;VALUE=URI;X-ADDRESS=The Moore Institute 4126 Autumn Ln Birmingham AL 35243 United States;X-APPLE-RADIUS=500;X-TITLE=4126 Autumn Ln:geo:-86.732979,33.454958
END:VEVENT
BEGIN:VEVENT
DTSTART;TZID=UTC:20230315T190000
DTEND;TZID=UTC:20230315T200000
DTSTAMP:20260421T122026
CREATED:20240116T061505Z
LAST-MODIFIED:20240116T061505Z
UID:10003788-1678906800-1678910400@mooreinstitute.info
SUMMARY:Recovery Dharma
DESCRIPTION:Recovery Dharma is a peer-led\, grassroots\, democratically-structured organization. Our mission is to support individuals on their path of recovery from addiction using Buddhist practices and principles. \n  \nwww.recoverydharma.org
URL:https://mooreinstitute.info/event/recovery-dharma-7/2023-03-15/
LOCATION:The Moore Institute\, 4126 Autumn Ln\, Birmingham\, AL\, 35243\, United States
GEO:33.454958;-86.732979
X-APPLE-STRUCTURED-LOCATION;VALUE=URI;X-ADDRESS=The Moore Institute 4126 Autumn Ln Birmingham AL 35243 United States;X-APPLE-RADIUS=500;X-TITLE=4126 Autumn Ln:geo:-86.732979,33.454958
END:VEVENT
BEGIN:VEVENT
DTSTART;TZID=UTC:20230315T190000
DTEND;TZID=UTC:20230315T200000
DTSTAMP:20260421T122026
CREATED:20221109T221806Z
LAST-MODIFIED:20221109T221806Z
UID:10003564-1678906800-1678910400@mooreinstitute.info
SUMMARY:Recovery Dharma
DESCRIPTION:Recovery Dharma is a peer-led\, grassroots\, democratically-structured organization. Our mission is to support individuals on their path of recovery from addiction using Buddhist practices and principles. \n  \nwww.recoverydharma.org \n 
URL:https://mooreinstitute.info/event/recovery-dharma-6/2023-03-15/
LOCATION:The Moore Institute\, 4126 Autumn Ln\, Birmingham\, AL\, 35243\, United States
GEO:33.454958;-86.732979
X-APPLE-STRUCTURED-LOCATION;VALUE=URI;X-ADDRESS=The Moore Institute 4126 Autumn Ln Birmingham AL 35243 United States;X-APPLE-RADIUS=500;X-TITLE=4126 Autumn Ln:geo:-86.732979,33.454958
END:VEVENT
BEGIN:VEVENT
DTSTART;TZID=UTC:20230313T180000
DTEND;TZID=UTC:20230313T190000
DTSTAMP:20260421T122026
CREATED:20230116T233640Z
LAST-MODIFIED:20230116T233640Z
UID:10003639-1678730400-1678734000@mooreinstitute.info
SUMMARY:Recovery Dharma
DESCRIPTION:Recovery Dharma is a peer-led\, grassroots\, democratically-structured organization. Our mission is to support individuals on their path of recovery from addiction using Buddhist practices and principles. \n  \nwww.recoverydharma.org
URL:https://mooreinstitute.info/event/recovery-dharma-7/2023-03-13/
LOCATION:The Moore Institute\, 4126 Autumn Ln\, Birmingham\, AL\, 35243\, United States
GEO:33.454958;-86.732979
X-APPLE-STRUCTURED-LOCATION;VALUE=URI;X-ADDRESS=The Moore Institute 4126 Autumn Ln Birmingham AL 35243 United States;X-APPLE-RADIUS=500;X-TITLE=4126 Autumn Ln:geo:-86.732979,33.454958
END:VEVENT
BEGIN:VEVENT
DTSTART;TZID=UTC:20230313T103000
DTEND;TZID=UTC:20230313T113000
DTSTAMP:20260421T122026
CREATED:20240116T061505Z
LAST-MODIFIED:20240116T061505Z
UID:10003696-1678703400-1678707000@mooreinstitute.info
SUMMARY:Recovery Dharma
DESCRIPTION:Recovery Dharma is a peer-led\, grassroots\, democratically-structured organization. Our mission is to support individuals on their path of recovery from addiction using Buddhist practices and principles. \n  \nwww.recoverydharma.org
URL:https://mooreinstitute.info/event/recovery-dharma-7/2023-03-13/
LOCATION:The Moore Institute\, 4126 Autumn Ln\, Birmingham\, AL\, 35243\, United States
GEO:33.454958;-86.732979
X-APPLE-STRUCTURED-LOCATION;VALUE=URI;X-ADDRESS=The Moore Institute 4126 Autumn Ln Birmingham AL 35243 United States;X-APPLE-RADIUS=500;X-TITLE=4126 Autumn Ln:geo:-86.732979,33.454958
END:VEVENT
BEGIN:VEVENT
DTSTART;TZID=UTC:20230311T103000
DTEND;TZID=UTC:20230311T113000
DTSTAMP:20260421T122026
CREATED:20240116T061505Z
LAST-MODIFIED:20240116T061505Z
UID:10003695-1678530600-1678534200@mooreinstitute.info
SUMMARY:Recovery Dharma
DESCRIPTION:Recovery Dharma is a peer-led\, grassroots\, democratically-structured organization. Our mission is to support individuals on their path of recovery from addiction using Buddhist practices and principles. \n  \nwww.recoverydharma.org
URL:https://mooreinstitute.info/event/recovery-dharma-7/2023-03-11/
LOCATION:The Moore Institute\, 4126 Autumn Ln\, Birmingham\, AL\, 35243\, United States
GEO:33.454958;-86.732979
X-APPLE-STRUCTURED-LOCATION;VALUE=URI;X-ADDRESS=The Moore Institute 4126 Autumn Ln Birmingham AL 35243 United States;X-APPLE-RADIUS=500;X-TITLE=4126 Autumn Ln:geo:-86.732979,33.454958
END:VEVENT
BEGIN:VEVENT
DTSTART;TZID=UTC:20230308T190000
DTEND;TZID=UTC:20230308T200000
DTSTAMP:20260421T122026
CREATED:20240116T061505Z
LAST-MODIFIED:20240116T061505Z
UID:10003787-1678302000-1678305600@mooreinstitute.info
SUMMARY:Recovery Dharma
DESCRIPTION:Recovery Dharma is a peer-led\, grassroots\, democratically-structured organization. Our mission is to support individuals on their path of recovery from addiction using Buddhist practices and principles. \n  \nwww.recoverydharma.org
URL:https://mooreinstitute.info/event/recovery-dharma-7/2023-03-08/
LOCATION:The Moore Institute\, 4126 Autumn Ln\, Birmingham\, AL\, 35243\, United States
GEO:33.454958;-86.732979
X-APPLE-STRUCTURED-LOCATION;VALUE=URI;X-ADDRESS=The Moore Institute 4126 Autumn Ln Birmingham AL 35243 United States;X-APPLE-RADIUS=500;X-TITLE=4126 Autumn Ln:geo:-86.732979,33.454958
END:VEVENT
BEGIN:VEVENT
DTSTART;TZID=UTC:20230308T190000
DTEND;TZID=UTC:20230308T200000
DTSTAMP:20260421T122026
CREATED:20221109T221806Z
LAST-MODIFIED:20221109T221806Z
UID:10003563-1678302000-1678305600@mooreinstitute.info
SUMMARY:Recovery Dharma
DESCRIPTION:Recovery Dharma is a peer-led\, grassroots\, democratically-structured organization. Our mission is to support individuals on their path of recovery from addiction using Buddhist practices and principles. \n  \nwww.recoverydharma.org \n 
URL:https://mooreinstitute.info/event/recovery-dharma-6/2023-03-08/
LOCATION:The Moore Institute\, 4126 Autumn Ln\, Birmingham\, AL\, 35243\, United States
GEO:33.454958;-86.732979
X-APPLE-STRUCTURED-LOCATION;VALUE=URI;X-ADDRESS=The Moore Institute 4126 Autumn Ln Birmingham AL 35243 United States;X-APPLE-RADIUS=500;X-TITLE=4126 Autumn Ln:geo:-86.732979,33.454958
END:VEVENT
BEGIN:VEVENT
DTSTART;TZID=UTC:20230306T180000
DTEND;TZID=UTC:20230306T190000
DTSTAMP:20260421T122026
CREATED:20230116T233640Z
LAST-MODIFIED:20230116T233640Z
UID:10003638-1678125600-1678129200@mooreinstitute.info
SUMMARY:Recovery Dharma
DESCRIPTION:Recovery Dharma is a peer-led\, grassroots\, democratically-structured organization. Our mission is to support individuals on their path of recovery from addiction using Buddhist practices and principles. \n  \nwww.recoverydharma.org
URL:https://mooreinstitute.info/event/recovery-dharma-7/2023-03-06/
LOCATION:The Moore Institute\, 4126 Autumn Ln\, Birmingham\, AL\, 35243\, United States
GEO:33.454958;-86.732979
X-APPLE-STRUCTURED-LOCATION;VALUE=URI;X-ADDRESS=The Moore Institute 4126 Autumn Ln Birmingham AL 35243 United States;X-APPLE-RADIUS=500;X-TITLE=4126 Autumn Ln:geo:-86.732979,33.454958
END:VEVENT
BEGIN:VEVENT
DTSTART;TZID=UTC:20230306T103000
DTEND;TZID=UTC:20230306T113000
DTSTAMP:20260421T122026
CREATED:20240116T061505Z
LAST-MODIFIED:20240116T061505Z
UID:10003694-1678098600-1678102200@mooreinstitute.info
SUMMARY:Recovery Dharma
DESCRIPTION:Recovery Dharma is a peer-led\, grassroots\, democratically-structured organization. Our mission is to support individuals on their path of recovery from addiction using Buddhist practices and principles. \n  \nwww.recoverydharma.org
URL:https://mooreinstitute.info/event/recovery-dharma-7/2023-03-06/
LOCATION:The Moore Institute\, 4126 Autumn Ln\, Birmingham\, AL\, 35243\, United States
GEO:33.454958;-86.732979
X-APPLE-STRUCTURED-LOCATION;VALUE=URI;X-ADDRESS=The Moore Institute 4126 Autumn Ln Birmingham AL 35243 United States;X-APPLE-RADIUS=500;X-TITLE=4126 Autumn Ln:geo:-86.732979,33.454958
END:VEVENT
BEGIN:VEVENT
DTSTART;TZID=UTC:20230304T103000
DTEND;TZID=UTC:20230304T113000
DTSTAMP:20260421T122026
CREATED:20240116T061505Z
LAST-MODIFIED:20240116T061505Z
UID:10003693-1677925800-1677929400@mooreinstitute.info
SUMMARY:Recovery Dharma
DESCRIPTION:Recovery Dharma is a peer-led\, grassroots\, democratically-structured organization. Our mission is to support individuals on their path of recovery from addiction using Buddhist practices and principles. \n  \nwww.recoverydharma.org
URL:https://mooreinstitute.info/event/recovery-dharma-7/2023-03-04/
LOCATION:The Moore Institute\, 4126 Autumn Ln\, Birmingham\, AL\, 35243\, United States
GEO:33.454958;-86.732979
X-APPLE-STRUCTURED-LOCATION;VALUE=URI;X-ADDRESS=The Moore Institute 4126 Autumn Ln Birmingham AL 35243 United States;X-APPLE-RADIUS=500;X-TITLE=4126 Autumn Ln:geo:-86.732979,33.454958
END:VEVENT
BEGIN:VEVENT
DTSTART;TZID=UTC:20230301T190000
DTEND;TZID=UTC:20230301T200000
DTSTAMP:20260421T122026
CREATED:20240116T061505Z
LAST-MODIFIED:20240116T061505Z
UID:10003786-1677697200-1677700800@mooreinstitute.info
SUMMARY:Recovery Dharma
DESCRIPTION:Recovery Dharma is a peer-led\, grassroots\, democratically-structured organization. Our mission is to support individuals on their path of recovery from addiction using Buddhist practices and principles. \n  \nwww.recoverydharma.org
URL:https://mooreinstitute.info/event/recovery-dharma-7/2023-03-01/
LOCATION:The Moore Institute\, 4126 Autumn Ln\, Birmingham\, AL\, 35243\, United States
GEO:33.454958;-86.732979
X-APPLE-STRUCTURED-LOCATION;VALUE=URI;X-ADDRESS=The Moore Institute 4126 Autumn Ln Birmingham AL 35243 United States;X-APPLE-RADIUS=500;X-TITLE=4126 Autumn Ln:geo:-86.732979,33.454958
END:VEVENT
BEGIN:VEVENT
DTSTART;TZID=UTC:20230301T190000
DTEND;TZID=UTC:20230301T200000
DTSTAMP:20260421T122026
CREATED:20221109T221806Z
LAST-MODIFIED:20221109T221806Z
UID:10003562-1677697200-1677700800@mooreinstitute.info
SUMMARY:Recovery Dharma
DESCRIPTION:Recovery Dharma is a peer-led\, grassroots\, democratically-structured organization. Our mission is to support individuals on their path of recovery from addiction using Buddhist practices and principles. \n  \nwww.recoverydharma.org \n 
URL:https://mooreinstitute.info/event/recovery-dharma-6/2023-03-01/
LOCATION:The Moore Institute\, 4126 Autumn Ln\, Birmingham\, AL\, 35243\, United States
GEO:33.454958;-86.732979
X-APPLE-STRUCTURED-LOCATION;VALUE=URI;X-ADDRESS=The Moore Institute 4126 Autumn Ln Birmingham AL 35243 United States;X-APPLE-RADIUS=500;X-TITLE=4126 Autumn Ln:geo:-86.732979,33.454958
END:VEVENT
BEGIN:VEVENT
DTSTART;TZID=UTC:20230227T180000
DTEND;TZID=UTC:20230227T190000
DTSTAMP:20260421T122026
CREATED:20230116T233640Z
LAST-MODIFIED:20230116T233640Z
UID:10003637-1677520800-1677524400@mooreinstitute.info
SUMMARY:Recovery Dharma
DESCRIPTION:Recovery Dharma is a peer-led\, grassroots\, democratically-structured organization. Our mission is to support individuals on their path of recovery from addiction using Buddhist practices and principles. \n  \nwww.recoverydharma.org
URL:https://mooreinstitute.info/event/recovery-dharma-7/2023-02-27/
LOCATION:The Moore Institute\, 4126 Autumn Ln\, Birmingham\, AL\, 35243\, United States
GEO:33.454958;-86.732979
X-APPLE-STRUCTURED-LOCATION;VALUE=URI;X-ADDRESS=The Moore Institute 4126 Autumn Ln Birmingham AL 35243 United States;X-APPLE-RADIUS=500;X-TITLE=4126 Autumn Ln:geo:-86.732979,33.454958
END:VEVENT
BEGIN:VEVENT
DTSTART;TZID=UTC:20230227T103000
DTEND;TZID=UTC:20230227T113000
DTSTAMP:20260421T122026
CREATED:20240116T061505Z
LAST-MODIFIED:20240116T061505Z
UID:10003692-1677493800-1677497400@mooreinstitute.info
SUMMARY:Recovery Dharma
DESCRIPTION:Recovery Dharma is a peer-led\, grassroots\, democratically-structured organization. Our mission is to support individuals on their path of recovery from addiction using Buddhist practices and principles. \n  \nwww.recoverydharma.org
URL:https://mooreinstitute.info/event/recovery-dharma-7/2023-02-27/
LOCATION:The Moore Institute\, 4126 Autumn Ln\, Birmingham\, AL\, 35243\, United States
GEO:33.454958;-86.732979
X-APPLE-STRUCTURED-LOCATION;VALUE=URI;X-ADDRESS=The Moore Institute 4126 Autumn Ln Birmingham AL 35243 United States;X-APPLE-RADIUS=500;X-TITLE=4126 Autumn Ln:geo:-86.732979,33.454958
END:VEVENT
BEGIN:VEVENT
DTSTART;TZID=UTC:20230225T103000
DTEND;TZID=UTC:20230225T113000
DTSTAMP:20260421T122026
CREATED:20240116T061505Z
LAST-MODIFIED:20240116T061505Z
UID:10003691-1677321000-1677324600@mooreinstitute.info
SUMMARY:Recovery Dharma
DESCRIPTION:Recovery Dharma is a peer-led\, grassroots\, democratically-structured organization. Our mission is to support individuals on their path of recovery from addiction using Buddhist practices and principles. \n  \nwww.recoverydharma.org
URL:https://mooreinstitute.info/event/recovery-dharma-7/2023-02-25/
LOCATION:The Moore Institute\, 4126 Autumn Ln\, Birmingham\, AL\, 35243\, United States
GEO:33.454958;-86.732979
X-APPLE-STRUCTURED-LOCATION;VALUE=URI;X-ADDRESS=The Moore Institute 4126 Autumn Ln Birmingham AL 35243 United States;X-APPLE-RADIUS=500;X-TITLE=4126 Autumn Ln:geo:-86.732979,33.454958
END:VEVENT
END:VCALENDAR