BEGIN:VCALENDAR
VERSION:2.0
PRODID:-//The Moore Institute - ECPv6.15.20//NONSGML v1.0//EN
CALSCALE:GREGORIAN
METHOD:PUBLISH
X-WR-CALNAME:The Moore Institute
X-ORIGINAL-URL:https://mooreinstitute.info
X-WR-CALDESC:Events for The Moore Institute
REFRESH-INTERVAL;VALUE=DURATION:PT1H
X-Robots-Tag:noindex
X-PUBLISHED-TTL:PT1H
BEGIN:VTIMEZONE
TZID:UTC
BEGIN:STANDARD
TZOFFSETFROM:+0000
TZOFFSETTO:+0000
TZNAME:UTC
DTSTART:20190101T000000
END:STANDARD
END:VTIMEZONE
BEGIN:VEVENT
DTSTART;TZID=UTC:20201228T180000
DTEND;TZID=UTC:20201228T190000
DTSTAMP:20260424T145421
CREATED:20170725T224024Z
LAST-MODIFIED:20170725T224024Z
UID:10004518-1609178400-1609182000@mooreinstitute.info
SUMMARY:Refuge Recovery
DESCRIPTION:Buddhist inspired recovery
URL:https://mooreinstitute.info/event/refuge-recovery-5/2020-12-28/
LOCATION:The Moore Institute\, 4126 Autumn Ln\, Birmingham\, AL\, 35243\, United States
GEO:33.454958;-86.732979
X-APPLE-STRUCTURED-LOCATION;VALUE=URI;X-ADDRESS=The Moore Institute 4126 Autumn Ln Birmingham AL 35243 United States;X-APPLE-RADIUS=500;X-TITLE=4126 Autumn Ln:geo:-86.732979,33.454958
END:VEVENT
BEGIN:VEVENT
DTSTART;TZID=UTC:20201221T180000
DTEND;TZID=UTC:20201221T190000
DTSTAMP:20260424T145421
CREATED:20170725T224024Z
LAST-MODIFIED:20170725T224024Z
UID:10004517-1608573600-1608577200@mooreinstitute.info
SUMMARY:Refuge Recovery
DESCRIPTION:Buddhist inspired recovery
URL:https://mooreinstitute.info/event/refuge-recovery-5/2020-12-21/
LOCATION:The Moore Institute\, 4126 Autumn Ln\, Birmingham\, AL\, 35243\, United States
GEO:33.454958;-86.732979
X-APPLE-STRUCTURED-LOCATION;VALUE=URI;X-ADDRESS=The Moore Institute 4126 Autumn Ln Birmingham AL 35243 United States;X-APPLE-RADIUS=500;X-TITLE=4126 Autumn Ln:geo:-86.732979,33.454958
END:VEVENT
BEGIN:VEVENT
DTSTART;TZID=UTC:20201214T180000
DTEND;TZID=UTC:20201214T190000
DTSTAMP:20260424T145421
CREATED:20170725T224024Z
LAST-MODIFIED:20170725T224024Z
UID:10004516-1607968800-1607972400@mooreinstitute.info
SUMMARY:Refuge Recovery
DESCRIPTION:Buddhist inspired recovery
URL:https://mooreinstitute.info/event/refuge-recovery-5/2020-12-14/
LOCATION:The Moore Institute\, 4126 Autumn Ln\, Birmingham\, AL\, 35243\, United States
GEO:33.454958;-86.732979
X-APPLE-STRUCTURED-LOCATION;VALUE=URI;X-ADDRESS=The Moore Institute 4126 Autumn Ln Birmingham AL 35243 United States;X-APPLE-RADIUS=500;X-TITLE=4126 Autumn Ln:geo:-86.732979,33.454958
END:VEVENT
BEGIN:VEVENT
DTSTART;TZID=UTC:20201207T180000
DTEND;TZID=UTC:20201207T190000
DTSTAMP:20260424T145421
CREATED:20170725T224024Z
LAST-MODIFIED:20170725T224024Z
UID:10004515-1607364000-1607367600@mooreinstitute.info
SUMMARY:Refuge Recovery
DESCRIPTION:Buddhist inspired recovery
URL:https://mooreinstitute.info/event/refuge-recovery-5/2020-12-07/
LOCATION:The Moore Institute\, 4126 Autumn Ln\, Birmingham\, AL\, 35243\, United States
GEO:33.454958;-86.732979
X-APPLE-STRUCTURED-LOCATION;VALUE=URI;X-ADDRESS=The Moore Institute 4126 Autumn Ln Birmingham AL 35243 United States;X-APPLE-RADIUS=500;X-TITLE=4126 Autumn Ln:geo:-86.732979,33.454958
END:VEVENT
BEGIN:VEVENT
DTSTART;TZID=UTC:20201130T180000
DTEND;TZID=UTC:20201130T190000
DTSTAMP:20260424T145421
CREATED:20170725T224024Z
LAST-MODIFIED:20170725T224024Z
UID:10004514-1606759200-1606762800@mooreinstitute.info
SUMMARY:Refuge Recovery
DESCRIPTION:Buddhist inspired recovery
URL:https://mooreinstitute.info/event/refuge-recovery-5/2020-11-30/
LOCATION:The Moore Institute\, 4126 Autumn Ln\, Birmingham\, AL\, 35243\, United States
GEO:33.454958;-86.732979
X-APPLE-STRUCTURED-LOCATION;VALUE=URI;X-ADDRESS=The Moore Institute 4126 Autumn Ln Birmingham AL 35243 United States;X-APPLE-RADIUS=500;X-TITLE=4126 Autumn Ln:geo:-86.732979,33.454958
END:VEVENT
BEGIN:VEVENT
DTSTART;TZID=UTC:20201123T180000
DTEND;TZID=UTC:20201123T190000
DTSTAMP:20260424T145421
CREATED:20170725T224024Z
LAST-MODIFIED:20170725T224024Z
UID:10004513-1606154400-1606158000@mooreinstitute.info
SUMMARY:Refuge Recovery
DESCRIPTION:Buddhist inspired recovery
URL:https://mooreinstitute.info/event/refuge-recovery-5/2020-11-23/
LOCATION:The Moore Institute\, 4126 Autumn Ln\, Birmingham\, AL\, 35243\, United States
GEO:33.454958;-86.732979
X-APPLE-STRUCTURED-LOCATION;VALUE=URI;X-ADDRESS=The Moore Institute 4126 Autumn Ln Birmingham AL 35243 United States;X-APPLE-RADIUS=500;X-TITLE=4126 Autumn Ln:geo:-86.732979,33.454958
END:VEVENT
BEGIN:VEVENT
DTSTART;TZID=UTC:20201116T180000
DTEND;TZID=UTC:20201116T190000
DTSTAMP:20260424T145421
CREATED:20170725T224024Z
LAST-MODIFIED:20170725T224024Z
UID:10004512-1605549600-1605553200@mooreinstitute.info
SUMMARY:Refuge Recovery
DESCRIPTION:Buddhist inspired recovery
URL:https://mooreinstitute.info/event/refuge-recovery-5/2020-11-16/
LOCATION:The Moore Institute\, 4126 Autumn Ln\, Birmingham\, AL\, 35243\, United States
GEO:33.454958;-86.732979
X-APPLE-STRUCTURED-LOCATION;VALUE=URI;X-ADDRESS=The Moore Institute 4126 Autumn Ln Birmingham AL 35243 United States;X-APPLE-RADIUS=500;X-TITLE=4126 Autumn Ln:geo:-86.732979,33.454958
END:VEVENT
BEGIN:VEVENT
DTSTART;TZID=UTC:20201109T180000
DTEND;TZID=UTC:20201109T190000
DTSTAMP:20260424T145421
CREATED:20170725T224024Z
LAST-MODIFIED:20170725T224024Z
UID:10004511-1604944800-1604948400@mooreinstitute.info
SUMMARY:Refuge Recovery
DESCRIPTION:Buddhist inspired recovery
URL:https://mooreinstitute.info/event/refuge-recovery-5/2020-11-09/
LOCATION:The Moore Institute\, 4126 Autumn Ln\, Birmingham\, AL\, 35243\, United States
GEO:33.454958;-86.732979
X-APPLE-STRUCTURED-LOCATION;VALUE=URI;X-ADDRESS=The Moore Institute 4126 Autumn Ln Birmingham AL 35243 United States;X-APPLE-RADIUS=500;X-TITLE=4126 Autumn Ln:geo:-86.732979,33.454958
END:VEVENT
BEGIN:VEVENT
DTSTART;TZID=UTC:20201102T180000
DTEND;TZID=UTC:20201102T190000
DTSTAMP:20260424T145421
CREATED:20170725T224024Z
LAST-MODIFIED:20170725T224024Z
UID:10004510-1604340000-1604343600@mooreinstitute.info
SUMMARY:Refuge Recovery
DESCRIPTION:Buddhist inspired recovery
URL:https://mooreinstitute.info/event/refuge-recovery-5/2020-11-02/
LOCATION:The Moore Institute\, 4126 Autumn Ln\, Birmingham\, AL\, 35243\, United States
GEO:33.454958;-86.732979
X-APPLE-STRUCTURED-LOCATION;VALUE=URI;X-ADDRESS=The Moore Institute 4126 Autumn Ln Birmingham AL 35243 United States;X-APPLE-RADIUS=500;X-TITLE=4126 Autumn Ln:geo:-86.732979,33.454958
END:VEVENT
BEGIN:VEVENT
DTSTART;TZID=UTC:20201026T180000
DTEND;TZID=UTC:20201026T190000
DTSTAMP:20260424T145421
CREATED:20170725T224024Z
LAST-MODIFIED:20170725T224024Z
UID:10004509-1603735200-1603738800@mooreinstitute.info
SUMMARY:Refuge Recovery
DESCRIPTION:Buddhist inspired recovery
URL:https://mooreinstitute.info/event/refuge-recovery-5/2020-10-26/
LOCATION:The Moore Institute\, 4126 Autumn Ln\, Birmingham\, AL\, 35243\, United States
GEO:33.454958;-86.732979
X-APPLE-STRUCTURED-LOCATION;VALUE=URI;X-ADDRESS=The Moore Institute 4126 Autumn Ln Birmingham AL 35243 United States;X-APPLE-RADIUS=500;X-TITLE=4126 Autumn Ln:geo:-86.732979,33.454958
END:VEVENT
BEGIN:VEVENT
DTSTART;TZID=UTC:20201019T180000
DTEND;TZID=UTC:20201019T190000
DTSTAMP:20260424T145421
CREATED:20170725T224024Z
LAST-MODIFIED:20170725T224024Z
UID:10004508-1603130400-1603134000@mooreinstitute.info
SUMMARY:Refuge Recovery
DESCRIPTION:Buddhist inspired recovery
URL:https://mooreinstitute.info/event/refuge-recovery-5/2020-10-19/
LOCATION:The Moore Institute\, 4126 Autumn Ln\, Birmingham\, AL\, 35243\, United States
GEO:33.454958;-86.732979
X-APPLE-STRUCTURED-LOCATION;VALUE=URI;X-ADDRESS=The Moore Institute 4126 Autumn Ln Birmingham AL 35243 United States;X-APPLE-RADIUS=500;X-TITLE=4126 Autumn Ln:geo:-86.732979,33.454958
END:VEVENT
BEGIN:VEVENT
DTSTART;TZID=UTC:20201012T180000
DTEND;TZID=UTC:20201012T190000
DTSTAMP:20260424T145421
CREATED:20170725T224024Z
LAST-MODIFIED:20170725T224024Z
UID:10004507-1602525600-1602529200@mooreinstitute.info
SUMMARY:Refuge Recovery
DESCRIPTION:Buddhist inspired recovery
URL:https://mooreinstitute.info/event/refuge-recovery-5/2020-10-12/
LOCATION:The Moore Institute\, 4126 Autumn Ln\, Birmingham\, AL\, 35243\, United States
GEO:33.454958;-86.732979
X-APPLE-STRUCTURED-LOCATION;VALUE=URI;X-ADDRESS=The Moore Institute 4126 Autumn Ln Birmingham AL 35243 United States;X-APPLE-RADIUS=500;X-TITLE=4126 Autumn Ln:geo:-86.732979,33.454958
END:VEVENT
BEGIN:VEVENT
DTSTART;TZID=UTC:20201005T180000
DTEND;TZID=UTC:20201005T190000
DTSTAMP:20260424T145421
CREATED:20170725T224024Z
LAST-MODIFIED:20170725T224024Z
UID:10004506-1601920800-1601924400@mooreinstitute.info
SUMMARY:Refuge Recovery
DESCRIPTION:Buddhist inspired recovery
URL:https://mooreinstitute.info/event/refuge-recovery-5/2020-10-05/
LOCATION:The Moore Institute\, 4126 Autumn Ln\, Birmingham\, AL\, 35243\, United States
GEO:33.454958;-86.732979
X-APPLE-STRUCTURED-LOCATION;VALUE=URI;X-ADDRESS=The Moore Institute 4126 Autumn Ln Birmingham AL 35243 United States;X-APPLE-RADIUS=500;X-TITLE=4126 Autumn Ln:geo:-86.732979,33.454958
END:VEVENT
BEGIN:VEVENT
DTSTART;TZID=UTC:20200928T180000
DTEND;TZID=UTC:20200928T190000
DTSTAMP:20260424T145421
CREATED:20170725T224024Z
LAST-MODIFIED:20170725T224024Z
UID:10004505-1601316000-1601319600@mooreinstitute.info
SUMMARY:Refuge Recovery
DESCRIPTION:Buddhist inspired recovery
URL:https://mooreinstitute.info/event/refuge-recovery-5/2020-09-28/
LOCATION:The Moore Institute\, 4126 Autumn Ln\, Birmingham\, AL\, 35243\, United States
GEO:33.454958;-86.732979
X-APPLE-STRUCTURED-LOCATION;VALUE=URI;X-ADDRESS=The Moore Institute 4126 Autumn Ln Birmingham AL 35243 United States;X-APPLE-RADIUS=500;X-TITLE=4126 Autumn Ln:geo:-86.732979,33.454958
END:VEVENT
BEGIN:VEVENT
DTSTART;TZID=UTC:20200921T180000
DTEND;TZID=UTC:20200921T190000
DTSTAMP:20260424T145421
CREATED:20170725T224024Z
LAST-MODIFIED:20170725T224024Z
UID:10004504-1600711200-1600714800@mooreinstitute.info
SUMMARY:Refuge Recovery
DESCRIPTION:Buddhist inspired recovery
URL:https://mooreinstitute.info/event/refuge-recovery-5/2020-09-21/
LOCATION:The Moore Institute\, 4126 Autumn Ln\, Birmingham\, AL\, 35243\, United States
GEO:33.454958;-86.732979
X-APPLE-STRUCTURED-LOCATION;VALUE=URI;X-ADDRESS=The Moore Institute 4126 Autumn Ln Birmingham AL 35243 United States;X-APPLE-RADIUS=500;X-TITLE=4126 Autumn Ln:geo:-86.732979,33.454958
END:VEVENT
BEGIN:VEVENT
DTSTART;TZID=UTC:20200914T180000
DTEND;TZID=UTC:20200914T190000
DTSTAMP:20260424T145421
CREATED:20170725T224024Z
LAST-MODIFIED:20170725T224024Z
UID:10004503-1600106400-1600110000@mooreinstitute.info
SUMMARY:Refuge Recovery
DESCRIPTION:Buddhist inspired recovery
URL:https://mooreinstitute.info/event/refuge-recovery-5/2020-09-14/
LOCATION:The Moore Institute\, 4126 Autumn Ln\, Birmingham\, AL\, 35243\, United States
GEO:33.454958;-86.732979
X-APPLE-STRUCTURED-LOCATION;VALUE=URI;X-ADDRESS=The Moore Institute 4126 Autumn Ln Birmingham AL 35243 United States;X-APPLE-RADIUS=500;X-TITLE=4126 Autumn Ln:geo:-86.732979,33.454958
END:VEVENT
BEGIN:VEVENT
DTSTART;TZID=UTC:20200907T180000
DTEND;TZID=UTC:20200907T190000
DTSTAMP:20260424T145421
CREATED:20170725T224024Z
LAST-MODIFIED:20170725T224024Z
UID:10004502-1599501600-1599505200@mooreinstitute.info
SUMMARY:Refuge Recovery
DESCRIPTION:Buddhist inspired recovery
URL:https://mooreinstitute.info/event/refuge-recovery-5/2020-09-07/
LOCATION:The Moore Institute\, 4126 Autumn Ln\, Birmingham\, AL\, 35243\, United States
GEO:33.454958;-86.732979
X-APPLE-STRUCTURED-LOCATION;VALUE=URI;X-ADDRESS=The Moore Institute 4126 Autumn Ln Birmingham AL 35243 United States;X-APPLE-RADIUS=500;X-TITLE=4126 Autumn Ln:geo:-86.732979,33.454958
END:VEVENT
BEGIN:VEVENT
DTSTART;TZID=UTC:20200831T180000
DTEND;TZID=UTC:20200831T190000
DTSTAMP:20260424T145421
CREATED:20170725T224024Z
LAST-MODIFIED:20170725T224024Z
UID:10004501-1598896800-1598900400@mooreinstitute.info
SUMMARY:Refuge Recovery
DESCRIPTION:Buddhist inspired recovery
URL:https://mooreinstitute.info/event/refuge-recovery-5/2020-08-31/
LOCATION:The Moore Institute\, 4126 Autumn Ln\, Birmingham\, AL\, 35243\, United States
GEO:33.454958;-86.732979
X-APPLE-STRUCTURED-LOCATION;VALUE=URI;X-ADDRESS=The Moore Institute 4126 Autumn Ln Birmingham AL 35243 United States;X-APPLE-RADIUS=500;X-TITLE=4126 Autumn Ln:geo:-86.732979,33.454958
END:VEVENT
BEGIN:VEVENT
DTSTART;TZID=UTC:20200824T180000
DTEND;TZID=UTC:20200824T190000
DTSTAMP:20260424T145421
CREATED:20170725T224024Z
LAST-MODIFIED:20170725T224024Z
UID:10004500-1598292000-1598295600@mooreinstitute.info
SUMMARY:Refuge Recovery
DESCRIPTION:Buddhist inspired recovery
URL:https://mooreinstitute.info/event/refuge-recovery-5/2020-08-24/
LOCATION:The Moore Institute\, 4126 Autumn Ln\, Birmingham\, AL\, 35243\, United States
GEO:33.454958;-86.732979
X-APPLE-STRUCTURED-LOCATION;VALUE=URI;X-ADDRESS=The Moore Institute 4126 Autumn Ln Birmingham AL 35243 United States;X-APPLE-RADIUS=500;X-TITLE=4126 Autumn Ln:geo:-86.732979,33.454958
END:VEVENT
BEGIN:VEVENT
DTSTART;TZID=UTC:20200817T180000
DTEND;TZID=UTC:20200817T190000
DTSTAMP:20260424T145421
CREATED:20170725T224024Z
LAST-MODIFIED:20170725T224024Z
UID:10004499-1597687200-1597690800@mooreinstitute.info
SUMMARY:Refuge Recovery
DESCRIPTION:Buddhist inspired recovery
URL:https://mooreinstitute.info/event/refuge-recovery-5/2020-08-17/
LOCATION:The Moore Institute\, 4126 Autumn Ln\, Birmingham\, AL\, 35243\, United States
GEO:33.454958;-86.732979
X-APPLE-STRUCTURED-LOCATION;VALUE=URI;X-ADDRESS=The Moore Institute 4126 Autumn Ln Birmingham AL 35243 United States;X-APPLE-RADIUS=500;X-TITLE=4126 Autumn Ln:geo:-86.732979,33.454958
END:VEVENT
BEGIN:VEVENT
DTSTART;TZID=UTC:20200810T180000
DTEND;TZID=UTC:20200810T190000
DTSTAMP:20260424T145421
CREATED:20170725T224024Z
LAST-MODIFIED:20170725T224024Z
UID:10004498-1597082400-1597086000@mooreinstitute.info
SUMMARY:Refuge Recovery
DESCRIPTION:Buddhist inspired recovery
URL:https://mooreinstitute.info/event/refuge-recovery-5/2020-08-10/
LOCATION:The Moore Institute\, 4126 Autumn Ln\, Birmingham\, AL\, 35243\, United States
GEO:33.454958;-86.732979
X-APPLE-STRUCTURED-LOCATION;VALUE=URI;X-ADDRESS=The Moore Institute 4126 Autumn Ln Birmingham AL 35243 United States;X-APPLE-RADIUS=500;X-TITLE=4126 Autumn Ln:geo:-86.732979,33.454958
END:VEVENT
BEGIN:VEVENT
DTSTART;TZID=UTC:20200803T180000
DTEND;TZID=UTC:20200803T190000
DTSTAMP:20260424T145421
CREATED:20170725T224024Z
LAST-MODIFIED:20170725T224024Z
UID:10004497-1596477600-1596481200@mooreinstitute.info
SUMMARY:Refuge Recovery
DESCRIPTION:Buddhist inspired recovery
URL:https://mooreinstitute.info/event/refuge-recovery-5/2020-08-03/
LOCATION:The Moore Institute\, 4126 Autumn Ln\, Birmingham\, AL\, 35243\, United States
GEO:33.454958;-86.732979
X-APPLE-STRUCTURED-LOCATION;VALUE=URI;X-ADDRESS=The Moore Institute 4126 Autumn Ln Birmingham AL 35243 United States;X-APPLE-RADIUS=500;X-TITLE=4126 Autumn Ln:geo:-86.732979,33.454958
END:VEVENT
BEGIN:VEVENT
DTSTART;TZID=UTC:20200727T180000
DTEND;TZID=UTC:20200727T190000
DTSTAMP:20260424T145421
CREATED:20170725T224024Z
LAST-MODIFIED:20170725T224024Z
UID:10004496-1595872800-1595876400@mooreinstitute.info
SUMMARY:Refuge Recovery
DESCRIPTION:Buddhist inspired recovery
URL:https://mooreinstitute.info/event/refuge-recovery-5/2020-07-27/
LOCATION:The Moore Institute\, 4126 Autumn Ln\, Birmingham\, AL\, 35243\, United States
GEO:33.454958;-86.732979
X-APPLE-STRUCTURED-LOCATION;VALUE=URI;X-ADDRESS=The Moore Institute 4126 Autumn Ln Birmingham AL 35243 United States;X-APPLE-RADIUS=500;X-TITLE=4126 Autumn Ln:geo:-86.732979,33.454958
END:VEVENT
BEGIN:VEVENT
DTSTART;TZID=UTC:20200720T180000
DTEND;TZID=UTC:20200720T190000
DTSTAMP:20260424T145421
CREATED:20170725T224024Z
LAST-MODIFIED:20170725T224024Z
UID:10004495-1595268000-1595271600@mooreinstitute.info
SUMMARY:Refuge Recovery
DESCRIPTION:Buddhist inspired recovery
URL:https://mooreinstitute.info/event/refuge-recovery-5/2020-07-20/
LOCATION:The Moore Institute\, 4126 Autumn Ln\, Birmingham\, AL\, 35243\, United States
GEO:33.454958;-86.732979
X-APPLE-STRUCTURED-LOCATION;VALUE=URI;X-ADDRESS=The Moore Institute 4126 Autumn Ln Birmingham AL 35243 United States;X-APPLE-RADIUS=500;X-TITLE=4126 Autumn Ln:geo:-86.732979,33.454958
END:VEVENT
BEGIN:VEVENT
DTSTART;TZID=UTC:20200713T180000
DTEND;TZID=UTC:20200713T190000
DTSTAMP:20260424T145421
CREATED:20170725T224024Z
LAST-MODIFIED:20170725T224024Z
UID:10004494-1594663200-1594666800@mooreinstitute.info
SUMMARY:Refuge Recovery
DESCRIPTION:Buddhist inspired recovery
URL:https://mooreinstitute.info/event/refuge-recovery-5/2020-07-13/
LOCATION:The Moore Institute\, 4126 Autumn Ln\, Birmingham\, AL\, 35243\, United States
GEO:33.454958;-86.732979
X-APPLE-STRUCTURED-LOCATION;VALUE=URI;X-ADDRESS=The Moore Institute 4126 Autumn Ln Birmingham AL 35243 United States;X-APPLE-RADIUS=500;X-TITLE=4126 Autumn Ln:geo:-86.732979,33.454958
END:VEVENT
BEGIN:VEVENT
DTSTART;TZID=UTC:20200706T180000
DTEND;TZID=UTC:20200706T190000
DTSTAMP:20260424T145421
CREATED:20170725T224024Z
LAST-MODIFIED:20170725T224024Z
UID:10004493-1594058400-1594062000@mooreinstitute.info
SUMMARY:Refuge Recovery
DESCRIPTION:Buddhist inspired recovery
URL:https://mooreinstitute.info/event/refuge-recovery-5/2020-07-06/
LOCATION:The Moore Institute\, 4126 Autumn Ln\, Birmingham\, AL\, 35243\, United States
GEO:33.454958;-86.732979
X-APPLE-STRUCTURED-LOCATION;VALUE=URI;X-ADDRESS=The Moore Institute 4126 Autumn Ln Birmingham AL 35243 United States;X-APPLE-RADIUS=500;X-TITLE=4126 Autumn Ln:geo:-86.732979,33.454958
END:VEVENT
BEGIN:VEVENT
DTSTART;TZID=UTC:20200629T180000
DTEND;TZID=UTC:20200629T190000
DTSTAMP:20260424T145421
CREATED:20170725T224024Z
LAST-MODIFIED:20170725T224024Z
UID:10004492-1593453600-1593457200@mooreinstitute.info
SUMMARY:Refuge Recovery
DESCRIPTION:Buddhist inspired recovery
URL:https://mooreinstitute.info/event/refuge-recovery-5/2020-06-29/
LOCATION:The Moore Institute\, 4126 Autumn Ln\, Birmingham\, AL\, 35243\, United States
GEO:33.454958;-86.732979
X-APPLE-STRUCTURED-LOCATION;VALUE=URI;X-ADDRESS=The Moore Institute 4126 Autumn Ln Birmingham AL 35243 United States;X-APPLE-RADIUS=500;X-TITLE=4126 Autumn Ln:geo:-86.732979,33.454958
END:VEVENT
BEGIN:VEVENT
DTSTART;TZID=UTC:20200622T180000
DTEND;TZID=UTC:20200622T190000
DTSTAMP:20260424T145421
CREATED:20170725T224024Z
LAST-MODIFIED:20170725T224024Z
UID:10004491-1592848800-1592852400@mooreinstitute.info
SUMMARY:Refuge Recovery
DESCRIPTION:Buddhist inspired recovery
URL:https://mooreinstitute.info/event/refuge-recovery-5/2020-06-22/
LOCATION:The Moore Institute\, 4126 Autumn Ln\, Birmingham\, AL\, 35243\, United States
GEO:33.454958;-86.732979
X-APPLE-STRUCTURED-LOCATION;VALUE=URI;X-ADDRESS=The Moore Institute 4126 Autumn Ln Birmingham AL 35243 United States;X-APPLE-RADIUS=500;X-TITLE=4126 Autumn Ln:geo:-86.732979,33.454958
END:VEVENT
BEGIN:VEVENT
DTSTART;TZID=UTC:20200615T180000
DTEND;TZID=UTC:20200615T190000
DTSTAMP:20260424T145421
CREATED:20170725T224024Z
LAST-MODIFIED:20170725T224024Z
UID:10004490-1592244000-1592247600@mooreinstitute.info
SUMMARY:Refuge Recovery
DESCRIPTION:Buddhist inspired recovery
URL:https://mooreinstitute.info/event/refuge-recovery-5/2020-06-15/
LOCATION:The Moore Institute\, 4126 Autumn Ln\, Birmingham\, AL\, 35243\, United States
GEO:33.454958;-86.732979
X-APPLE-STRUCTURED-LOCATION;VALUE=URI;X-ADDRESS=The Moore Institute 4126 Autumn Ln Birmingham AL 35243 United States;X-APPLE-RADIUS=500;X-TITLE=4126 Autumn Ln:geo:-86.732979,33.454958
END:VEVENT
BEGIN:VEVENT
DTSTART;TZID=UTC:20200608T180000
DTEND;TZID=UTC:20200608T190000
DTSTAMP:20260424T145421
CREATED:20170725T224024Z
LAST-MODIFIED:20170725T224024Z
UID:10004489-1591639200-1591642800@mooreinstitute.info
SUMMARY:Refuge Recovery
DESCRIPTION:Buddhist inspired recovery
URL:https://mooreinstitute.info/event/refuge-recovery-5/2020-06-08/
LOCATION:The Moore Institute\, 4126 Autumn Ln\, Birmingham\, AL\, 35243\, United States
GEO:33.454958;-86.732979
X-APPLE-STRUCTURED-LOCATION;VALUE=URI;X-ADDRESS=The Moore Institute 4126 Autumn Ln Birmingham AL 35243 United States;X-APPLE-RADIUS=500;X-TITLE=4126 Autumn Ln:geo:-86.732979,33.454958
END:VEVENT
END:VCALENDAR