BEGIN:VCALENDAR
VERSION:2.0
PRODID:-//The Moore Institute - ECPv6.15.20//NONSGML v1.0//EN
CALSCALE:GREGORIAN
METHOD:PUBLISH
X-WR-CALNAME:The Moore Institute
X-ORIGINAL-URL:https://mooreinstitute.info
X-WR-CALDESC:Events for The Moore Institute
REFRESH-INTERVAL;VALUE=DURATION:PT1H
X-Robots-Tag:noindex
X-PUBLISHED-TTL:PT1H
BEGIN:VTIMEZONE
TZID:UTC
BEGIN:STANDARD
TZOFFSETFROM:+0000
TZOFFSETTO:+0000
TZNAME:UTC
DTSTART:20190101T000000
END:STANDARD
END:VTIMEZONE
BEGIN:VEVENT
DTSTART;TZID=UTC:20200810T180000
DTEND;TZID=UTC:20200810T190000
DTSTAMP:20260425T090047
CREATED:20170725T224024Z
LAST-MODIFIED:20170725T224024Z
UID:10004498-1597082400-1597086000@mooreinstitute.info
SUMMARY:Refuge Recovery
DESCRIPTION:Buddhist inspired recovery
URL:https://mooreinstitute.info/event/refuge-recovery-5/2020-08-10/
LOCATION:The Moore Institute\, 4126 Autumn Ln\, Birmingham\, AL\, 35243\, United States
GEO:33.454958;-86.732979
X-APPLE-STRUCTURED-LOCATION;VALUE=URI;X-ADDRESS=The Moore Institute 4126 Autumn Ln Birmingham AL 35243 United States;X-APPLE-RADIUS=500;X-TITLE=4126 Autumn Ln:geo:-86.732979,33.454958
END:VEVENT
BEGIN:VEVENT
DTSTART;TZID=UTC:20200803T180000
DTEND;TZID=UTC:20200803T190000
DTSTAMP:20260425T090047
CREATED:20170725T224024Z
LAST-MODIFIED:20170725T224024Z
UID:10004497-1596477600-1596481200@mooreinstitute.info
SUMMARY:Refuge Recovery
DESCRIPTION:Buddhist inspired recovery
URL:https://mooreinstitute.info/event/refuge-recovery-5/2020-08-03/
LOCATION:The Moore Institute\, 4126 Autumn Ln\, Birmingham\, AL\, 35243\, United States
GEO:33.454958;-86.732979
X-APPLE-STRUCTURED-LOCATION;VALUE=URI;X-ADDRESS=The Moore Institute 4126 Autumn Ln Birmingham AL 35243 United States;X-APPLE-RADIUS=500;X-TITLE=4126 Autumn Ln:geo:-86.732979,33.454958
END:VEVENT
BEGIN:VEVENT
DTSTART;TZID=UTC:20200727T180000
DTEND;TZID=UTC:20200727T190000
DTSTAMP:20260425T090047
CREATED:20170725T224024Z
LAST-MODIFIED:20170725T224024Z
UID:10004496-1595872800-1595876400@mooreinstitute.info
SUMMARY:Refuge Recovery
DESCRIPTION:Buddhist inspired recovery
URL:https://mooreinstitute.info/event/refuge-recovery-5/2020-07-27/
LOCATION:The Moore Institute\, 4126 Autumn Ln\, Birmingham\, AL\, 35243\, United States
GEO:33.454958;-86.732979
X-APPLE-STRUCTURED-LOCATION;VALUE=URI;X-ADDRESS=The Moore Institute 4126 Autumn Ln Birmingham AL 35243 United States;X-APPLE-RADIUS=500;X-TITLE=4126 Autumn Ln:geo:-86.732979,33.454958
END:VEVENT
BEGIN:VEVENT
DTSTART;TZID=UTC:20200720T180000
DTEND;TZID=UTC:20200720T190000
DTSTAMP:20260425T090047
CREATED:20170725T224024Z
LAST-MODIFIED:20170725T224024Z
UID:10004495-1595268000-1595271600@mooreinstitute.info
SUMMARY:Refuge Recovery
DESCRIPTION:Buddhist inspired recovery
URL:https://mooreinstitute.info/event/refuge-recovery-5/2020-07-20/
LOCATION:The Moore Institute\, 4126 Autumn Ln\, Birmingham\, AL\, 35243\, United States
GEO:33.454958;-86.732979
X-APPLE-STRUCTURED-LOCATION;VALUE=URI;X-ADDRESS=The Moore Institute 4126 Autumn Ln Birmingham AL 35243 United States;X-APPLE-RADIUS=500;X-TITLE=4126 Autumn Ln:geo:-86.732979,33.454958
END:VEVENT
BEGIN:VEVENT
DTSTART;TZID=UTC:20200713T180000
DTEND;TZID=UTC:20200713T190000
DTSTAMP:20260425T090047
CREATED:20170725T224024Z
LAST-MODIFIED:20170725T224024Z
UID:10004494-1594663200-1594666800@mooreinstitute.info
SUMMARY:Refuge Recovery
DESCRIPTION:Buddhist inspired recovery
URL:https://mooreinstitute.info/event/refuge-recovery-5/2020-07-13/
LOCATION:The Moore Institute\, 4126 Autumn Ln\, Birmingham\, AL\, 35243\, United States
GEO:33.454958;-86.732979
X-APPLE-STRUCTURED-LOCATION;VALUE=URI;X-ADDRESS=The Moore Institute 4126 Autumn Ln Birmingham AL 35243 United States;X-APPLE-RADIUS=500;X-TITLE=4126 Autumn Ln:geo:-86.732979,33.454958
END:VEVENT
BEGIN:VEVENT
DTSTART;TZID=UTC:20200706T180000
DTEND;TZID=UTC:20200706T190000
DTSTAMP:20260425T090047
CREATED:20170725T224024Z
LAST-MODIFIED:20170725T224024Z
UID:10004493-1594058400-1594062000@mooreinstitute.info
SUMMARY:Refuge Recovery
DESCRIPTION:Buddhist inspired recovery
URL:https://mooreinstitute.info/event/refuge-recovery-5/2020-07-06/
LOCATION:The Moore Institute\, 4126 Autumn Ln\, Birmingham\, AL\, 35243\, United States
GEO:33.454958;-86.732979
X-APPLE-STRUCTURED-LOCATION;VALUE=URI;X-ADDRESS=The Moore Institute 4126 Autumn Ln Birmingham AL 35243 United States;X-APPLE-RADIUS=500;X-TITLE=4126 Autumn Ln:geo:-86.732979,33.454958
END:VEVENT
BEGIN:VEVENT
DTSTART;TZID=UTC:20200629T180000
DTEND;TZID=UTC:20200629T190000
DTSTAMP:20260425T090047
CREATED:20170725T224024Z
LAST-MODIFIED:20170725T224024Z
UID:10004492-1593453600-1593457200@mooreinstitute.info
SUMMARY:Refuge Recovery
DESCRIPTION:Buddhist inspired recovery
URL:https://mooreinstitute.info/event/refuge-recovery-5/2020-06-29/
LOCATION:The Moore Institute\, 4126 Autumn Ln\, Birmingham\, AL\, 35243\, United States
GEO:33.454958;-86.732979
X-APPLE-STRUCTURED-LOCATION;VALUE=URI;X-ADDRESS=The Moore Institute 4126 Autumn Ln Birmingham AL 35243 United States;X-APPLE-RADIUS=500;X-TITLE=4126 Autumn Ln:geo:-86.732979,33.454958
END:VEVENT
BEGIN:VEVENT
DTSTART;TZID=UTC:20200622T180000
DTEND;TZID=UTC:20200622T190000
DTSTAMP:20260425T090047
CREATED:20170725T224024Z
LAST-MODIFIED:20170725T224024Z
UID:10004491-1592848800-1592852400@mooreinstitute.info
SUMMARY:Refuge Recovery
DESCRIPTION:Buddhist inspired recovery
URL:https://mooreinstitute.info/event/refuge-recovery-5/2020-06-22/
LOCATION:The Moore Institute\, 4126 Autumn Ln\, Birmingham\, AL\, 35243\, United States
GEO:33.454958;-86.732979
X-APPLE-STRUCTURED-LOCATION;VALUE=URI;X-ADDRESS=The Moore Institute 4126 Autumn Ln Birmingham AL 35243 United States;X-APPLE-RADIUS=500;X-TITLE=4126 Autumn Ln:geo:-86.732979,33.454958
END:VEVENT
BEGIN:VEVENT
DTSTART;TZID=UTC:20200615T180000
DTEND;TZID=UTC:20200615T190000
DTSTAMP:20260425T090047
CREATED:20170725T224024Z
LAST-MODIFIED:20170725T224024Z
UID:10004490-1592244000-1592247600@mooreinstitute.info
SUMMARY:Refuge Recovery
DESCRIPTION:Buddhist inspired recovery
URL:https://mooreinstitute.info/event/refuge-recovery-5/2020-06-15/
LOCATION:The Moore Institute\, 4126 Autumn Ln\, Birmingham\, AL\, 35243\, United States
GEO:33.454958;-86.732979
X-APPLE-STRUCTURED-LOCATION;VALUE=URI;X-ADDRESS=The Moore Institute 4126 Autumn Ln Birmingham AL 35243 United States;X-APPLE-RADIUS=500;X-TITLE=4126 Autumn Ln:geo:-86.732979,33.454958
END:VEVENT
BEGIN:VEVENT
DTSTART;TZID=UTC:20200608T180000
DTEND;TZID=UTC:20200608T190000
DTSTAMP:20260425T090047
CREATED:20170725T224024Z
LAST-MODIFIED:20170725T224024Z
UID:10004489-1591639200-1591642800@mooreinstitute.info
SUMMARY:Refuge Recovery
DESCRIPTION:Buddhist inspired recovery
URL:https://mooreinstitute.info/event/refuge-recovery-5/2020-06-08/
LOCATION:The Moore Institute\, 4126 Autumn Ln\, Birmingham\, AL\, 35243\, United States
GEO:33.454958;-86.732979
X-APPLE-STRUCTURED-LOCATION;VALUE=URI;X-ADDRESS=The Moore Institute 4126 Autumn Ln Birmingham AL 35243 United States;X-APPLE-RADIUS=500;X-TITLE=4126 Autumn Ln:geo:-86.732979,33.454958
END:VEVENT
BEGIN:VEVENT
DTSTART;TZID=UTC:20200601T180000
DTEND;TZID=UTC:20200601T190000
DTSTAMP:20260425T090047
CREATED:20170725T224024Z
LAST-MODIFIED:20170725T224024Z
UID:10004488-1591034400-1591038000@mooreinstitute.info
SUMMARY:Refuge Recovery
DESCRIPTION:Buddhist inspired recovery
URL:https://mooreinstitute.info/event/refuge-recovery-5/2020-06-01/
LOCATION:The Moore Institute\, 4126 Autumn Ln\, Birmingham\, AL\, 35243\, United States
GEO:33.454958;-86.732979
X-APPLE-STRUCTURED-LOCATION;VALUE=URI;X-ADDRESS=The Moore Institute 4126 Autumn Ln Birmingham AL 35243 United States;X-APPLE-RADIUS=500;X-TITLE=4126 Autumn Ln:geo:-86.732979,33.454958
END:VEVENT
BEGIN:VEVENT
DTSTART;TZID=UTC:20200525T180000
DTEND;TZID=UTC:20200525T190000
DTSTAMP:20260425T090047
CREATED:20170725T224024Z
LAST-MODIFIED:20170725T224024Z
UID:10004487-1590429600-1590433200@mooreinstitute.info
SUMMARY:Refuge Recovery
DESCRIPTION:Buddhist inspired recovery
URL:https://mooreinstitute.info/event/refuge-recovery-5/2020-05-25/
LOCATION:The Moore Institute\, 4126 Autumn Ln\, Birmingham\, AL\, 35243\, United States
GEO:33.454958;-86.732979
X-APPLE-STRUCTURED-LOCATION;VALUE=URI;X-ADDRESS=The Moore Institute 4126 Autumn Ln Birmingham AL 35243 United States;X-APPLE-RADIUS=500;X-TITLE=4126 Autumn Ln:geo:-86.732979,33.454958
END:VEVENT
BEGIN:VEVENT
DTSTART;TZID=UTC:20200518T180000
DTEND;TZID=UTC:20200518T190000
DTSTAMP:20260425T090047
CREATED:20170725T224024Z
LAST-MODIFIED:20170725T224024Z
UID:10004486-1589824800-1589828400@mooreinstitute.info
SUMMARY:Refuge Recovery
DESCRIPTION:Buddhist inspired recovery
URL:https://mooreinstitute.info/event/refuge-recovery-5/2020-05-18/
LOCATION:The Moore Institute\, 4126 Autumn Ln\, Birmingham\, AL\, 35243\, United States
GEO:33.454958;-86.732979
X-APPLE-STRUCTURED-LOCATION;VALUE=URI;X-ADDRESS=The Moore Institute 4126 Autumn Ln Birmingham AL 35243 United States;X-APPLE-RADIUS=500;X-TITLE=4126 Autumn Ln:geo:-86.732979,33.454958
END:VEVENT
BEGIN:VEVENT
DTSTART;TZID=UTC:20200511T180000
DTEND;TZID=UTC:20200511T190000
DTSTAMP:20260425T090047
CREATED:20170725T224024Z
LAST-MODIFIED:20170725T224024Z
UID:10004485-1589220000-1589223600@mooreinstitute.info
SUMMARY:Refuge Recovery
DESCRIPTION:Buddhist inspired recovery
URL:https://mooreinstitute.info/event/refuge-recovery-5/2020-05-11/
LOCATION:The Moore Institute\, 4126 Autumn Ln\, Birmingham\, AL\, 35243\, United States
GEO:33.454958;-86.732979
X-APPLE-STRUCTURED-LOCATION;VALUE=URI;X-ADDRESS=The Moore Institute 4126 Autumn Ln Birmingham AL 35243 United States;X-APPLE-RADIUS=500;X-TITLE=4126 Autumn Ln:geo:-86.732979,33.454958
END:VEVENT
BEGIN:VEVENT
DTSTART;TZID=UTC:20200504T180000
DTEND;TZID=UTC:20200504T190000
DTSTAMP:20260425T090047
CREATED:20170725T224024Z
LAST-MODIFIED:20170725T224024Z
UID:10004484-1588615200-1588618800@mooreinstitute.info
SUMMARY:Refuge Recovery
DESCRIPTION:Buddhist inspired recovery
URL:https://mooreinstitute.info/event/refuge-recovery-5/2020-05-04/
LOCATION:The Moore Institute\, 4126 Autumn Ln\, Birmingham\, AL\, 35243\, United States
GEO:33.454958;-86.732979
X-APPLE-STRUCTURED-LOCATION;VALUE=URI;X-ADDRESS=The Moore Institute 4126 Autumn Ln Birmingham AL 35243 United States;X-APPLE-RADIUS=500;X-TITLE=4126 Autumn Ln:geo:-86.732979,33.454958
END:VEVENT
BEGIN:VEVENT
DTSTART;TZID=UTC:20200427T180000
DTEND;TZID=UTC:20200427T190000
DTSTAMP:20260425T090047
CREATED:20170725T224024Z
LAST-MODIFIED:20170725T224024Z
UID:10004483-1588010400-1588014000@mooreinstitute.info
SUMMARY:Refuge Recovery
DESCRIPTION:Buddhist inspired recovery
URL:https://mooreinstitute.info/event/refuge-recovery-5/2020-04-27/
LOCATION:The Moore Institute\, 4126 Autumn Ln\, Birmingham\, AL\, 35243\, United States
GEO:33.454958;-86.732979
X-APPLE-STRUCTURED-LOCATION;VALUE=URI;X-ADDRESS=The Moore Institute 4126 Autumn Ln Birmingham AL 35243 United States;X-APPLE-RADIUS=500;X-TITLE=4126 Autumn Ln:geo:-86.732979,33.454958
END:VEVENT
BEGIN:VEVENT
DTSTART;TZID=UTC:20200420T180000
DTEND;TZID=UTC:20200420T190000
DTSTAMP:20260425T090047
CREATED:20170725T224024Z
LAST-MODIFIED:20170725T224024Z
UID:10004482-1587405600-1587409200@mooreinstitute.info
SUMMARY:Refuge Recovery
DESCRIPTION:Buddhist inspired recovery
URL:https://mooreinstitute.info/event/refuge-recovery-5/2020-04-20/
LOCATION:The Moore Institute\, 4126 Autumn Ln\, Birmingham\, AL\, 35243\, United States
GEO:33.454958;-86.732979
X-APPLE-STRUCTURED-LOCATION;VALUE=URI;X-ADDRESS=The Moore Institute 4126 Autumn Ln Birmingham AL 35243 United States;X-APPLE-RADIUS=500;X-TITLE=4126 Autumn Ln:geo:-86.732979,33.454958
END:VEVENT
BEGIN:VEVENT
DTSTART;TZID=UTC:20200413T180000
DTEND;TZID=UTC:20200413T190000
DTSTAMP:20260425T090047
CREATED:20170725T224024Z
LAST-MODIFIED:20170725T224024Z
UID:10004481-1586800800-1586804400@mooreinstitute.info
SUMMARY:Refuge Recovery
DESCRIPTION:Buddhist inspired recovery
URL:https://mooreinstitute.info/event/refuge-recovery-5/2020-04-13/
LOCATION:The Moore Institute\, 4126 Autumn Ln\, Birmingham\, AL\, 35243\, United States
GEO:33.454958;-86.732979
X-APPLE-STRUCTURED-LOCATION;VALUE=URI;X-ADDRESS=The Moore Institute 4126 Autumn Ln Birmingham AL 35243 United States;X-APPLE-RADIUS=500;X-TITLE=4126 Autumn Ln:geo:-86.732979,33.454958
END:VEVENT
BEGIN:VEVENT
DTSTART;TZID=UTC:20200406T180000
DTEND;TZID=UTC:20200406T190000
DTSTAMP:20260425T090047
CREATED:20170725T224024Z
LAST-MODIFIED:20170725T224024Z
UID:10004480-1586196000-1586199600@mooreinstitute.info
SUMMARY:Refuge Recovery
DESCRIPTION:Buddhist inspired recovery
URL:https://mooreinstitute.info/event/refuge-recovery-5/2020-04-06/
LOCATION:The Moore Institute\, 4126 Autumn Ln\, Birmingham\, AL\, 35243\, United States
GEO:33.454958;-86.732979
X-APPLE-STRUCTURED-LOCATION;VALUE=URI;X-ADDRESS=The Moore Institute 4126 Autumn Ln Birmingham AL 35243 United States;X-APPLE-RADIUS=500;X-TITLE=4126 Autumn Ln:geo:-86.732979,33.454958
END:VEVENT
BEGIN:VEVENT
DTSTART;TZID=UTC:20200330T180000
DTEND;TZID=UTC:20200330T190000
DTSTAMP:20260425T090047
CREATED:20170725T224024Z
LAST-MODIFIED:20170725T224024Z
UID:10004479-1585591200-1585594800@mooreinstitute.info
SUMMARY:Refuge Recovery
DESCRIPTION:Buddhist inspired recovery
URL:https://mooreinstitute.info/event/refuge-recovery-5/2020-03-30/
LOCATION:The Moore Institute\, 4126 Autumn Ln\, Birmingham\, AL\, 35243\, United States
GEO:33.454958;-86.732979
X-APPLE-STRUCTURED-LOCATION;VALUE=URI;X-ADDRESS=The Moore Institute 4126 Autumn Ln Birmingham AL 35243 United States;X-APPLE-RADIUS=500;X-TITLE=4126 Autumn Ln:geo:-86.732979,33.454958
END:VEVENT
BEGIN:VEVENT
DTSTART;TZID=UTC:20200323T180000
DTEND;TZID=UTC:20200323T190000
DTSTAMP:20260425T090047
CREATED:20170725T224024Z
LAST-MODIFIED:20170725T224024Z
UID:10004478-1584986400-1584990000@mooreinstitute.info
SUMMARY:Refuge Recovery
DESCRIPTION:Buddhist inspired recovery
URL:https://mooreinstitute.info/event/refuge-recovery-5/2020-03-23/
LOCATION:The Moore Institute\, 4126 Autumn Ln\, Birmingham\, AL\, 35243\, United States
GEO:33.454958;-86.732979
X-APPLE-STRUCTURED-LOCATION;VALUE=URI;X-ADDRESS=The Moore Institute 4126 Autumn Ln Birmingham AL 35243 United States;X-APPLE-RADIUS=500;X-TITLE=4126 Autumn Ln:geo:-86.732979,33.454958
END:VEVENT
BEGIN:VEVENT
DTSTART;TZID=UTC:20200316T180000
DTEND;TZID=UTC:20200316T190000
DTSTAMP:20260425T090047
CREATED:20170725T224024Z
LAST-MODIFIED:20170725T224024Z
UID:10004477-1584381600-1584385200@mooreinstitute.info
SUMMARY:Refuge Recovery
DESCRIPTION:Buddhist inspired recovery
URL:https://mooreinstitute.info/event/refuge-recovery-5/2020-03-16/
LOCATION:The Moore Institute\, 4126 Autumn Ln\, Birmingham\, AL\, 35243\, United States
GEO:33.454958;-86.732979
X-APPLE-STRUCTURED-LOCATION;VALUE=URI;X-ADDRESS=The Moore Institute 4126 Autumn Ln Birmingham AL 35243 United States;X-APPLE-RADIUS=500;X-TITLE=4126 Autumn Ln:geo:-86.732979,33.454958
END:VEVENT
BEGIN:VEVENT
DTSTART;TZID=UTC:20200309T180000
DTEND;TZID=UTC:20200309T190000
DTSTAMP:20260425T090047
CREATED:20170725T224024Z
LAST-MODIFIED:20170725T224024Z
UID:10004476-1583776800-1583780400@mooreinstitute.info
SUMMARY:Refuge Recovery
DESCRIPTION:Buddhist inspired recovery
URL:https://mooreinstitute.info/event/refuge-recovery-5/2020-03-09/
LOCATION:The Moore Institute\, 4126 Autumn Ln\, Birmingham\, AL\, 35243\, United States
GEO:33.454958;-86.732979
X-APPLE-STRUCTURED-LOCATION;VALUE=URI;X-ADDRESS=The Moore Institute 4126 Autumn Ln Birmingham AL 35243 United States;X-APPLE-RADIUS=500;X-TITLE=4126 Autumn Ln:geo:-86.732979,33.454958
END:VEVENT
BEGIN:VEVENT
DTSTART;TZID=UTC:20200302T180000
DTEND;TZID=UTC:20200302T190000
DTSTAMP:20260425T090047
CREATED:20170725T224024Z
LAST-MODIFIED:20170725T224024Z
UID:10004475-1583172000-1583175600@mooreinstitute.info
SUMMARY:Refuge Recovery
DESCRIPTION:Buddhist inspired recovery
URL:https://mooreinstitute.info/event/refuge-recovery-5/2020-03-02/
LOCATION:The Moore Institute\, 4126 Autumn Ln\, Birmingham\, AL\, 35243\, United States
GEO:33.454958;-86.732979
X-APPLE-STRUCTURED-LOCATION;VALUE=URI;X-ADDRESS=The Moore Institute 4126 Autumn Ln Birmingham AL 35243 United States;X-APPLE-RADIUS=500;X-TITLE=4126 Autumn Ln:geo:-86.732979,33.454958
END:VEVENT
BEGIN:VEVENT
DTSTART;TZID=UTC:20200224T180000
DTEND;TZID=UTC:20200224T190000
DTSTAMP:20260425T090047
CREATED:20170725T224024Z
LAST-MODIFIED:20170725T224024Z
UID:10004474-1582567200-1582570800@mooreinstitute.info
SUMMARY:Refuge Recovery
DESCRIPTION:Buddhist inspired recovery
URL:https://mooreinstitute.info/event/refuge-recovery-5/2020-02-24/
LOCATION:The Moore Institute\, 4126 Autumn Ln\, Birmingham\, AL\, 35243\, United States
GEO:33.454958;-86.732979
X-APPLE-STRUCTURED-LOCATION;VALUE=URI;X-ADDRESS=The Moore Institute 4126 Autumn Ln Birmingham AL 35243 United States;X-APPLE-RADIUS=500;X-TITLE=4126 Autumn Ln:geo:-86.732979,33.454958
END:VEVENT
BEGIN:VEVENT
DTSTART;TZID=UTC:20200217T180000
DTEND;TZID=UTC:20200217T190000
DTSTAMP:20260425T090047
CREATED:20170725T224024Z
LAST-MODIFIED:20170725T224024Z
UID:10004473-1581962400-1581966000@mooreinstitute.info
SUMMARY:Refuge Recovery
DESCRIPTION:Buddhist inspired recovery
URL:https://mooreinstitute.info/event/refuge-recovery-5/2020-02-17/
LOCATION:The Moore Institute\, 4126 Autumn Ln\, Birmingham\, AL\, 35243\, United States
GEO:33.454958;-86.732979
X-APPLE-STRUCTURED-LOCATION;VALUE=URI;X-ADDRESS=The Moore Institute 4126 Autumn Ln Birmingham AL 35243 United States;X-APPLE-RADIUS=500;X-TITLE=4126 Autumn Ln:geo:-86.732979,33.454958
END:VEVENT
BEGIN:VEVENT
DTSTART;TZID=UTC:20200210T180000
DTEND;TZID=UTC:20200210T190000
DTSTAMP:20260425T090047
CREATED:20170725T224024Z
LAST-MODIFIED:20170725T224024Z
UID:10004472-1581357600-1581361200@mooreinstitute.info
SUMMARY:Refuge Recovery
DESCRIPTION:Buddhist inspired recovery
URL:https://mooreinstitute.info/event/refuge-recovery-5/2020-02-10/
LOCATION:The Moore Institute\, 4126 Autumn Ln\, Birmingham\, AL\, 35243\, United States
GEO:33.454958;-86.732979
X-APPLE-STRUCTURED-LOCATION;VALUE=URI;X-ADDRESS=The Moore Institute 4126 Autumn Ln Birmingham AL 35243 United States;X-APPLE-RADIUS=500;X-TITLE=4126 Autumn Ln:geo:-86.732979,33.454958
END:VEVENT
BEGIN:VEVENT
DTSTART;TZID=UTC:20200203T180000
DTEND;TZID=UTC:20200203T190000
DTSTAMP:20260425T090047
CREATED:20170725T224024Z
LAST-MODIFIED:20170725T224024Z
UID:10004471-1580752800-1580756400@mooreinstitute.info
SUMMARY:Refuge Recovery
DESCRIPTION:Buddhist inspired recovery
URL:https://mooreinstitute.info/event/refuge-recovery-5/2020-02-03/
LOCATION:The Moore Institute\, 4126 Autumn Ln\, Birmingham\, AL\, 35243\, United States
GEO:33.454958;-86.732979
X-APPLE-STRUCTURED-LOCATION;VALUE=URI;X-ADDRESS=The Moore Institute 4126 Autumn Ln Birmingham AL 35243 United States;X-APPLE-RADIUS=500;X-TITLE=4126 Autumn Ln:geo:-86.732979,33.454958
END:VEVENT
BEGIN:VEVENT
DTSTART;TZID=UTC:20200127T180000
DTEND;TZID=UTC:20200127T190000
DTSTAMP:20260425T090047
CREATED:20170725T224024Z
LAST-MODIFIED:20170725T224024Z
UID:10004470-1580148000-1580151600@mooreinstitute.info
SUMMARY:Refuge Recovery
DESCRIPTION:Buddhist inspired recovery
URL:https://mooreinstitute.info/event/refuge-recovery-5/2020-01-27/
LOCATION:The Moore Institute\, 4126 Autumn Ln\, Birmingham\, AL\, 35243\, United States
GEO:33.454958;-86.732979
X-APPLE-STRUCTURED-LOCATION;VALUE=URI;X-ADDRESS=The Moore Institute 4126 Autumn Ln Birmingham AL 35243 United States;X-APPLE-RADIUS=500;X-TITLE=4126 Autumn Ln:geo:-86.732979,33.454958
END:VEVENT
BEGIN:VEVENT
DTSTART;TZID=UTC:20200120T180000
DTEND;TZID=UTC:20200120T190000
DTSTAMP:20260425T090047
CREATED:20170725T224024Z
LAST-MODIFIED:20170725T224024Z
UID:10004469-1579543200-1579546800@mooreinstitute.info
SUMMARY:Refuge Recovery
DESCRIPTION:Buddhist inspired recovery
URL:https://mooreinstitute.info/event/refuge-recovery-5/2020-01-20/
LOCATION:The Moore Institute\, 4126 Autumn Ln\, Birmingham\, AL\, 35243\, United States
GEO:33.454958;-86.732979
X-APPLE-STRUCTURED-LOCATION;VALUE=URI;X-ADDRESS=The Moore Institute 4126 Autumn Ln Birmingham AL 35243 United States;X-APPLE-RADIUS=500;X-TITLE=4126 Autumn Ln:geo:-86.732979,33.454958
END:VEVENT
END:VCALENDAR